Workbook
Name DF: Geral!$B$35:$B$41
Name DM: Geral!$B$28:$B$34
Name DX: Geral!$B$42:$B$48
Name SF: Geral!$B$21:$B$27
Name SM: Geral!$B$13:$B$20

Sheet Geral
B1: FICHA DE INSCRIÇÃO - ETAPA DO ESTADUAL - 2026
A2: TOTAL A PAGAR | B2: Local: | E2: Clube: | H2: Nro. Pessoas para alojamento | J2: Masc.
B3: Data: | E3: Responsável: | J3: Fem.
A4: =SUM(Inscrições!A2:A301) -> 0 | B4: Arbitro Geral: | E4: Técnico: | H4: Horário de chegada:
A6: Passo 1: | B6: Prencher as informações gerais do clube na aba "Geral" | H6: O responsável pelo clube deve preencher todas as inscrições, inserindo uma nova inscrição para cada atleta. Caso formem-se duplas com atletas de outros clubes, esses devem estar cadastrados na aba "Atletas" com os dados idênticos à ficha de inscrição de seu clube de origem.
A7: Passo 2: | B7: Cadastrar os novos atletas na aba "Atletas" | G7: Acessar>
A8: Passo 3: | B8: Inserir as inscrições na aba "Inscrições" | G8: Acessar>
B10: CONFIGURAÇÕES
B11: Categorias | G11: Taxas de Inscrições | J11: * Exceto para menores inscritos na categoria Principal
B12: SIGLA | C12: IDADE | G12: Idade | H12: Adulto | I12: Sub*
D13: <= | G13: Simples | H13: 50 | I13: 35
B14: SM11 | C14: 10 | D14: <=
B15: SM13 | C15: 12 | D15: <= | G15: Dupla | H15: 30 | I15: 30
B16: SM15 | C16: 14 | D16: <=
B17: SM17 | C17: 16 | D17: <= | G17: Filiação | H17: 15 | I17: 15
B18: SM19 | C18: 18 | D18: <=
B19: SM | C19: 0 | D19: >=
B20: SMSenior | C20: 35 | D20: >=
B21: SF11 | C21: 10 | D21: <=
B22: SF13 | C22: 12 | D22: <=
B23: SF15 | C23: 14 | D23: <=
B24: SF17 | C24: 16 | D24: <=
B25: SF19 | C25: 18 | D25: <=
B26: SF | C26: 0 | D26: >=
B27: SFSenior | C27: 35 | D27: >=
B28: DM11 | C28: 10 | D28: <=
B29: DM13 | C29: 12 | D29: <=
... B48: DXSenior | C48: 35 | D48: >=

Sheet Atletas
A1: Seq | B1: CPF | C1: NOME COMPLETO | D1: NASCIMENTO | E1: GENERO | F1: CLUBE | G1: CONTATO | H1: Endereço | I1: CIDADE | J1: ESTADO | K1: EMAIL | L1: Coluna1 | M1: Coluna2
A2: 1
A3: 2
A4: 3
A5: 4
A6: 5
A7: 6
A8: 7
A9: 8
A10: 9
A11: 10
A12: 11
A13: 12
... A300: 299

Sheet Inscrições
A1: VALOR | B1: NÚMERO | C1: CLUBE | D1: CPF | E1: NASCIMENTO | F1: GÊNERO | G1: NOME COMPLETO | H1: CATEGORIA(S) | J1: Filiação | K1: TAXA | L1: CPF DA DUPLA | N1: NOME DA DUPLA | O1: NAME | P1: MEMBER ID | Q1: EVENT | R1: PARTNER ID | S1: DoB | T1: Gender | U1: Paid | V1: Club
A2: =SUM(K2:K4) -> 0 | B2: 1 | C2: =IF($D3="","",IF(IFERROR(VLOOKUP($D3,Atletas!$B$2:$F$101,5,FALSE),"") ="","CLUBE",VLOOKUP($D3,Atletas!$B$2:$F$101,5,FALSE))) | E2: =IF($D3="","",IF(IFERROR(VLOOKUP($D3,Atletas!$B$2:$F$101,3,FALSE),"") ="","DD/MM/AAAA",VLOOKUP($D3,Atletas!$B$2:$F$101,3,FALSE))) | F2: =IF($D3="","",IF(IFERROR(VLOOKUP($D3,Atletas!$B$2:$F$101,4,FALSE),"") ="","Gênero",VLOOKUP($D3,Atletas!$B$2:$F$101,4,FALSE))) | G2: =IF($D3="","",IF(IFERROR(VLOOKUP($D3,Atletas!$B$2:$F$101,2,FALSE),"") ="","Cadastro não encontrado. Digite os dados.",VLOOKUP($D3,Atletas!$B$2:$F$101,2,FALSE))) | I2: =IF(H2="","",IF(VLOOKUP(H2,Geral!$B$13:$D$27,3,FALSE)="<=",IF(YEAR(NOW())-YEAR(E2)>VLOOKUP(H2,Geral!$B$13:$C$27,2,FALSE),"ý","þ"),IF(VLOOKUP(H2,Geral!$B$13:$D$27,3,FALSE)=">=",IF(YEAR(NOW())-YEAR(E2)<VLOOKUP(H2,Geral!$B$13:$C$27,2,FALSE),"ý","þ")))) | K2: =SUM(IF(J2="Sim",IF(H2="",0,IF(OR(H2 = Geral!$A$46,H2 = Geral!$A$48),Geral!$H$13,IF(YEAR(NOW())-YEAR(E2) < 18,Geral!$I$17,Geral!$H$17))),0),IF(H2="",0,IF(OR(H2 = Geral!$A$46,H2 = Geral!$A$48),Geral!$H$13,IF(YEAR(NOW())-YEAR(E2) < 18,Geral!$I$13,Geral!$H$13)))) -> 0 | L2: COLOCAR CPF SEM PONTOS EX: 00011122234 | O2: =G2 | P2: =D3 -> 0 | Q2: =H2 -> 0 | S2: =E2 | T2: =F2 | U2: =K2 -> 0 | V2: =C2
I3: =IF(H3="","",IF(VLOOKUP(H3,Geral!$B$28:$D$41,3,FALSE)="<=",IF(YEAR(NOW())-YEAR(E2)>VLOOKUP(H3,Geral!$B$28:$C$41,2,FALSE),"ý","þ"),IF(VLOOKUP(H3,Geral!$B$28:$D$41,3,FALSE)=">=",IF(YEAR(NOW())-YEAR(E2)<VLOOKUP(H3,Geral!$B$28:$C$41,2,FALSE),"ý","þ")))) | K3: =IF(H3="",0,IF(OR(H3 = Geral!$A$46,H3 = Geral!$A$48),Geral!$H$15,IF(YEAR(NOW())-YEAR(E2) < 18,Geral!$I$15,Geral!$H$15))) -> 0 | M3: =IF(L3="","",IF(VLOOKUP($H3,Geral!$B$28:$D$41,3,FALSE)="<=",IF(YEAR(NOW())-YEAR(VLOOKUP(L3,Atletas!$B$2:$D$101,3,FALSE))>VLOOKUP($H3,Geral!$B$28:$C$41,2,FALSE),"ý","þ"),IF(VLOOKUP($H3,Geral!$B$28:$D$41,3,FALSE)=">=",IF(YEAR(NOW())-YEAR(VLOOKUP(L3,Atletas!$B$2:$D$101,3,FALSE))<VLOOKUP($H3,Geral!$B$28:$C$41,2,FALSE),"ý","þ")))) | N3: =IF($L3="","",IF(IFERROR(VLOOKUP($L3,Atletas!$B$2:$F$101,2,FALSE),"") ="","Cadastro não encontrado. Digite os dados.",VLOOKUP($L3,Atletas!$B$2:$F$101,2,FALSE))) | O3: =G2 | P3: =D3 -> 0 | Q3: =H3 -> 0 | R3: =L3 -> 0 | S3: =E2 | T3: =F2 | U3: =K3 -> 0 | V3: =C2
I4: =IF(H4="","",IF(VLOOKUP(H4,Geral!$B$42:$D$48,3,FALSE)="<=",IF(YEAR(NOW())-YEAR(E2)>VLOOKUP(H4,Geral!$B$42:$C$48,2,FALSE),"ý","þ"),IF(VLOOKUP(H4,Geral!$B$42:$D$48,3,FALSE)=">=",IF(YEAR(NOW())-YEAR(E2)<VLOOKUP(H4,Geral!$B$42:$C$48,2,FALSE),"ý","þ")))) | K4: =IF(H4="",0,IF(OR(H4 = Geral!$A$46,H4 = Geral!$A$48),Geral!$H$15,IF(YEAR(NOW())-YEAR(E2) < 18,Geral!$I$15,Geral!$H$15))) -> 0 | M4: =IF(L4="","",IF(VLOOKUP($H4,Geral!$B$42:$D$48,3,FALSE)="<=",IF(YEAR(NOW())-YEAR(VLOOKUP(L4,Atletas!$B$2:$D$101,3,FALSE))>VLOOKUP($H4,Geral!$B$42:$C$48,2,FALSE),"ý","þ"),IF(VLOOKUP($H4,Geral!$B$42:$D$48,3,FALSE)=">=",IF(YEAR(NOW())-YEAR(VLOOKUP(L4,Atletas!$B$2:$D$101,3,FALSE))<VLOOKUP($H4,Geral!$B$42:$C$48,2,FALSE),"ý","þ")))) | N4: =IF($L4="","",IF(IFERROR(VLOOKUP($L4,Atletas!$B$2:$F$101,2,FALSE),"") ="","Cadastro não encontrado. Digite os dados.",VLOOKUP($L4,Atletas!$B$2:$F$101,2,FALSE))) | O4: =G2 | P4: =D3 -> 0 | Q4: =H4 -> 0 | R4: =L4 -> 0 | S4: =E2 | T4: =F2 | U4: =K4 -> 0 | V4: =C2
A5: =SUM(K5:K7) -> 0 | B5: 2 | C5: =IF($D6="","",IF(IFERROR(VLOOKUP($D6,Atletas!$B$2:$F$101,5,FALSE),"") ="","CLUBE",VLOOKUP($D6,Atletas!$B$2:$F$101,5,FALSE))) | E5: =IF($D6="","",IF(IFERROR(VLOOKUP($D6,Atletas!$B$2:$F$101,3,FALSE),"") ="","DD/MM/AAAA",VLOOKUP($D6,Atletas!$B$2:$F$101,3,FALSE))) | F5: =IF($D6="","",IF(IFERROR(VLOOKUP($D6,Atletas!$B$2:$F$101,4,FALSE),"") ="","Gênero",VLOOKUP($D6,Atletas!$B$2:$F$101,4,FALSE))) | G5: =IF($D6="","",IF(IFERROR(VLOOKUP($D6,Atletas!$B$2:$F$101,2,FALSE),"") ="","Cadastro não encontrado. Digite os dados.",VLOOKUP($D6,Atletas!$B$2:$F$101,2,FALSE))) | I5: =IF(H5="","",IF(VLOOKUP(H5,Geral!$B$13:$D$27,3,FALSE)="<=",IF(YEAR(NOW())-YEAR(E5)>VLOOKUP(H5,Geral!$B$13:$C$27,2,FALSE),"ý","þ"),IF(VLOOKUP(H5,Geral!$B$13:$D$27,3,FALSE)=">=",IF(YEAR(NOW())-YEAR(E5)<VLOOKUP(H5,Geral!$B$13:$C$27,2,FALSE),"ý","þ")))) | K5: =SUM(IF(J5="Sim",IF(H5="",0,IF(OR(H5 = Geral!$A$46,H5 = Geral!$A$48),Geral!$H$13,IF(YEAR(NOW())-YEAR(E5) < 18,Geral!$I$17,Geral!$H$17))),0),IF(H5="",0,IF(OR(H5 = Geral!$A$46,H5 = Geral!$A$48),Geral!$H$13,IF(YEAR(NOW())-YEAR(E5) < 18,Geral!$I$13,Geral!$H$13)))) -> 0 | O5: =G5 | P5: =D6 -> 0 | Q5: =H5 -> 0 | S5: =E5 | T5: =F5 | U5: =A5 -> 0 | V5: =C5
I6: =IF(H6="","",IF(VLOOKUP(H6,Geral!$B$28:$D$41,3,FALSE)="<=",IF(YEAR(NOW())-YEAR(E5)>VLOOKUP(H6,Geral!$B$28:$C$41,2,FALSE),"ý","þ"),IF(VLOOKUP(H6,Geral!$B$28:$D$41,3,FALSE)=">=",IF(YEAR(NOW())-YEAR(E5)<VLOOKUP(H6,Geral!$B$28:$C$41,2,FALSE),"ý","þ")))) | K6: =IF(H6="",0,IF(OR(H6 = Geral!$A$46,H6 = Geral!$A$48),Geral!$H$15,IF(YEAR(NOW())-YEAR(E5) < 18,Geral!$I$15,Geral!$H$15))) -> 0 | M6: =IF(L6="","",IF(VLOOKUP($H6,Geral!$B$28:$D$41,3,FALSE)="<=",IF(YEAR(NOW())-YEAR(VLOOKUP(L6,Atletas!$B$2:$D$101,3,FALSE))>VLOOKUP($H6,Geral!$B$28:$C$41,2,FALSE),"ý","þ"),IF(VLOOKUP($H6,Geral!$B$28:$D$41,3,FALSE)=">=",IF(YEAR(NOW())-YEAR(VLOOKUP(L6,Atletas!$B$2:$D$101,3,FALSE))<VLOOKUP($H6,Geral!$B$28:$C$41,2,FALSE),"ý","þ")))) | N6: =IF($L6="","",IF(IFERROR(VLOOKUP($L6,Atletas!$B$2:$F$101,2,FALSE),"") ="","Cadastro não encontrado. Digite os dados.",VLOOKUP($L6,Atletas!$B$2:$F$101,2,FALSE))) | O6: =G5 | P6: =D6 -> 0 | Q6: =H6 -> 0 | R6: =L6 -> 0 | S6: =E5 | T6: =F5 | U6: =A5 -> 0 | V6: =C5
I7: =IF(H7="","",IF(VLOOKUP(H7,Geral!$B$42:$D$48,3,FALSE)="<=",IF(YEAR(NOW())-YEAR(E5)>VLOOKUP(H7,Geral!$B$42:$C$48,2,FALSE),"ý","þ"),IF(VLOOKUP(H7,Geral!$B$42:$D$48,3,FALSE)=">=",IF(YEAR(NOW())-YEAR(E5)<VLOOKUP(H7,Geral!$B$42:$C$48,2,FALSE),"ý","þ")))) | K7: =IF(H7="",0,IF(OR(H7 = Geral!$A$46,H7 = Geral!$A$48),Geral!$H$15,IF(YEAR(NOW())-YEAR(E5) < 18,Geral!$I$15,Geral!$H$15))) -> 0 | M7: =IF(L7="","",IF(VLOOKUP($H7,Geral!$B$42:$D$48,3,FALSE)="<=",IF(YEAR(NOW())-YEAR(VLOOKUP(L7,Atletas!$B$2:$D$101,3,FALSE))>VLOOKUP($H7,Geral!$B$42:$C$48,2,FALSE),"ý","þ"),IF(VLOOKUP($H7,Geral!$B$42:$D$48,3,FALSE)=">=",IF(YEAR(NOW())-YEAR(VLOOKUP(L7,Atletas!$B$2:$D$101,3,FALSE))<VLOOKUP($H7,Geral!$B$42:$C$48,2,FALSE),"ý","þ")))) | N7: =IF($L7="","",IF(IFERROR(VLOOKUP($L7,Atletas!$B$2:$F$101,2,FALSE),"") ="","Cadastro não encontrado. Digite os dados.",VLOOKUP($L7,Atletas!$B$2:$F$101,2,FALSE))) | O7: =G5 | P7: =D6 -> 0 | Q7: =H7 -> 0 | R7: =L7 -> 0 | S7: =E5 | T7: =F5 | U7: =A5 -> 0 | V7: =C5
A8: =SUM(K8:K10) -> 0 | B8: 3 | C8: =IF($D9="","",IF(IFERROR(VLOOKUP($D9,Atletas!$B$2:$F$101,5,FALSE),"") ="","CLUBE",VLOOKUP($D9,Atletas!$B$2:$F$101,5,FALSE))) | E8: =IF($D9="","",IF(IFERROR(VLOOKUP($D9,Atletas!$B$2:$F$101,3,FALSE),"") ="","DD/MM/AAAA",VLOOKUP($D9,Atletas!$B$2:$F$101,3,FALSE))) | F8: =IF($D9="","",IF(IFERROR(VLOOKUP($D9,Atletas!$B$2:$F$101,4,FALSE),"") ="","Gênero",VLOOKUP($D9,Atletas!$B$2:$F$101,4,FALSE))) | G8: =IF($D9="","",IF(IFERROR(VLOOKUP($D9,Atletas!$B$2:$F$101,2,FALSE),"") ="","Cadastro não encontrado. Digite os dados.",VLOOKUP($D9,Atletas!$B$2:$F$101,2,FALSE))) | I8: =IF(H8="","",IF(VLOOKUP(H8,Geral!$B$13:$D$27,3,FALSE)="<=",IF(YEAR(NOW())-YEAR(E8)>VLOOKUP(H8,Geral!$B$13:$C$27,2,FALSE),"ý","þ"),IF(VLOOKUP(H8,Geral!$B$13:$D$27,3,FALSE)=">=",IF(YEAR(NOW())-YEAR(E8)<VLOOKUP(H8,Geral!$B$13:$C$27,2,FALSE),"ý","þ")))) | K8: =SUM(IF(J8="Sim",IF(H8="",0,IF(OR(H8 = Geral!$A$46,H8 = Geral!$A$48),Geral!$H$13,IF(YEAR(NOW())-YEAR(E8) < 18,Geral!$I$17,Geral!$H$17))),0),IF(H8="",0,IF(OR(H8 = Geral!$A$46,H8 = Geral!$A$48),Geral!$H$13,IF(YEAR(NOW())-YEAR(E8) < 18,Geral!$I$13,Geral!$H$13)))) -> 0 | O8: =G8 | P8: =D9 -> 0 | Q8: =H8 -> 0 | S8: =E8 | T8: =F8 | U8: =A8 -> 0 | V8: =C8
I9: =IF(H9="","",IF(VLOOKUP(H9,Geral!$B$28:$D$41,3,FALSE)="<=",IF(YEAR(NOW())-YEAR(E8)>VLOOKUP(H9,Geral!$B$28:$C$41,2,FALSE),"ý","þ"),IF(VLOOKUP(H9,Geral!$B$28:$D$41,3,FALSE)=">=",IF(YEAR(NOW())-YEAR(E8)<VLOOKUP(H9,Geral!$B$28:$C$41,2,FALSE),"ý","þ")))) | K9: =IF(H9="",0,IF(OR(H9 = Geral!$A$46,H9 = Geral!$A$48),Geral!$H$15,IF(YEAR(NOW())-YEAR(E8) < 18,Geral!$I$15,Geral!$H$15))) -> 0 | M9: =IF(L9="","",IF(VLOOKUP($H9,Geral!$B$28:$D$41,3,FALSE)="<=",IF(YEAR(NOW())-YEAR(VLOOKUP(L9,Atletas!$B$2:$D$101,3,FALSE))>VLOOKUP($H9,Geral!$B$28:$C$41,2,FALSE),"ý","þ"),IF(VLOOKUP($H9,Geral!$B$28:$D$41,3,FALSE)=">=",IF(YEAR(NOW())-YEAR(VLOOKUP(L9,Atletas!$B$2:$D$101,3,FALSE))<VLOOKUP($H9,Geral!$B$28:$C$41,2,FALSE),"ý","þ")))) | N9: =IF($L9="","",IF(IFERROR(VLOOKUP($L9,Atletas!$B$2:$F$101,2,FALSE),"") ="","Cadastro não encontrado. Digite os dados.",VLOOKUP($L9,Atletas!$B$2:$F$101,2,FALSE))) | O9: =G8 | P9: =D9 -> 0 | Q9: =H9 -> 0 | R9: =L9 -> 0 | S9: =E8 | T9: =F8 | U9: =A8 -> 0 | V9: =C8
I10: =IF(H10="","",IF(VLOOKUP(H10,Geral!$B$42:$D$48,3,FALSE)="<=",IF(YEAR(NOW())-YEAR(E8)>VLOOKUP(H10,Geral!$B$42:$C$48,2,FALSE),"ý","þ"),IF(VLOOKUP(H10,Geral!$B$42:$D$48,3,FALSE)=">=",IF(YEAR(NOW())-YEAR(E8)<VLOOKUP(H10,Geral!$B$42:$C$48,2,FALSE),"ý","þ")))) | K10: =IF(H10="",0,IF(OR(H10 = Geral!$A$46,H10 = Geral!$A$48),Geral!$H$15,IF(YEAR(NOW())-YEAR(E8) < 18,Geral!$I$15,Geral!$H$15))) -> 0 | M10: =IF(L10="","",IF(VLOOKUP($H10,Geral!$B$42:$D$48,3,FALSE)="<=",IF(YEAR(NOW())-YEAR(VLOOKUP(L10,Atletas!$B$2:$D$101,3,FALSE))>VLOOKUP($H10,Geral!$B$42:$C$48,2,FALSE),"ý","þ"),IF(VLOOKUP($H10,Geral!$B$42:$D$48,3,FALSE)=">=",IF(YEAR(NOW())-YEAR(VLOOKUP(L10,Atletas!$B$2:$D$101,3,FALSE))<VLOOKUP($H10,Geral!$B$42:$C$48,2,FALSE),"ý","þ")))) | N10: =IF($L10="","",IF(IFERROR(VLOOKUP($L10,Atletas!$B$2:$F$101,2,FALSE),"") ="","Cadastro não encontrado. Digite os dados.",VLOOKUP($L10,Atletas!$B$2:$F$101,2,FALSE))) | O10: =G8 | P10: =D9 -> 0 | Q10: =H10 -> 0 | R10: =L10 -> 0 | S10: =E8 | T10: =F8 | U10: =A8 -> 0 | V10: =C8
A11: =SUM(K11:K13) -> 0 | B11: 4 | C11: =IF($D12="","",IF(IFERROR(VLOOKUP($D12,Atletas!$B$2:$F$101,5,FALSE),"") ="","CLUBE",VLOOKUP($D12,Atletas!$B$2:$F$101,5,FALSE))) | E11: =IF($D12="","",IF(IFERROR(VLOOKUP($D12,Atletas!$B$2:$F$101,3,FALSE),"") ="","DD/MM/AAAA",VLOOKUP($D12,Atletas!$B$2:$F$101,3,FALSE))) | F11: =IF($D12="","",IF(IFERROR(VLOOKUP($D12,Atletas!$B$2:$F$101,4,FALSE),"") ="","Gênero",VLOOKUP($D12,Atletas!$B$2:$F$101,4,FALSE))) | G11: =IF($D12="","",IF(IFERROR(VLOOKUP($D12,Atletas!$B$2:$F$101,2,FALSE),"") ="","Cadastro não encontrado. Digite os dados.",VLOOKUP($D12,Atletas!$B$2:$F$101,2,FALSE))) | I11: =IF(H11="","",IF(VLOOKUP(H11,Geral!$B$13:$D$27,3,FALSE)="<=",IF(YEAR(NOW())-YEAR(E11)>VLOOKUP(H11,Geral!$B$13:$C$27,2,FALSE),"ý","þ"),IF(VLOOKUP(H11,Geral!$B$13:$D$27,3,FALSE)=">=",IF(YEAR(NOW())-YEAR(E11)<VLOOKUP(H11,Geral!$B$13:$C$27,2,FALSE),"ý","þ")))) | K11: =SUM(IF(J11="Sim",IF(H11="",0,IF(OR(H11 = Geral!$A$46,H11 = Geral!$A$48),Geral!$H$13,IF(YEAR(NOW())-YEAR(E11) < 18,Geral!$I$17,Geral!$H$17))),0),IF(H11="",0,IF(OR(H11 = Geral!$A$46,H11 = Geral!$A$48),Geral!$H$13,IF(YEAR(NOW())-YEAR(E11) < 18,Geral!$I$13,Geral!$H$13)))) -> 0 | O11: =G11 | P11: =D12 -> 0 | Q11: =H11 -> 0 | S11: =E11 | T11: =F11 | U11: =A11 -> 0 | V11: =C11
I12: =IF(H12="","",IF(VLOOKUP(H12,Geral!$B$28:$D$41,3,FALSE)="<=",IF(YEAR(NOW())-YEAR(E11)>VLOOKUP(H12,Geral!$B$28:$C$41,2,FALSE),"ý","þ"),IF(VLOOKUP(H12,Geral!$B$28:$D$41,3,FALSE)=">=",IF(YEAR(NOW())-YEAR(E11)<VLOOKUP(H12,Geral!$B$28:$C$41,2,FALSE),"ý","þ")))) | K12: =IF(H12="",0,IF(OR(H12 = Geral!$A$46,H12 = Geral!$A$48),Geral!$H$15,IF(YEAR(NOW())-YEAR(E11) < 18,Geral!$I$15,Geral!$H$15))) -> 0 | M12: =IF(L12="","",IF(VLOOKUP($H12,Geral!$B$28:$D$41,3,FALSE)="<=",IF(YEAR(NOW())-YEAR(VLOOKUP(L12,Atletas!$B$2:$D$101,3,FALSE))>VLOOKUP($H12,Geral!$B$28:$C$41,2,FALSE),"ý","þ"),IF(VLOOKUP($H12,Geral!$B$28:$D$41,3,FALSE)=">=",IF(YEAR(NOW())-YEAR(VLOOKUP(L12,Atletas!$B$2:$D$101,3,FALSE))<VLOOKUP($H12,Geral!$B$28:$C$41,2,FALSE),"ý","þ")))) | N12: =IF($L12="","",IF(IFERROR(VLOOKUP($L12,Atletas!$B$2:$F$101,2,FALSE),"") ="","Cadastro não encontrado. Digite os dados.",VLOOKUP($L12,Atletas!$B$2:$F$101,2,FALSE))) | O12: =G11 | P12: =D12 -> 0 | Q12: =H12 -> 0 | R12: =L12 -> 0 | S12: =E11 | T12: =F11 | U12: =A11 -> 0 | V12: =C11
I13: =IF(H13="","",IF(VLOOKUP(H13,Geral!$B$42:$D$48,3,FALSE)="<=",IF(YEAR(NOW())-YEAR(E11)>VLOOKUP(H13,Geral!$B$42:$C$48,2,FALSE),"ý","þ"),IF(VLOOKUP(H13,Geral!$B$42:$D$48,3,FALSE)=">=",IF(YEAR(NOW())-YEAR(E11)<VLOOKUP(H13,Geral!$B$42:$C$48,2,FALSE),"ý","þ")))) | K13: =IF(H13="",0,IF(OR(H13 = Geral!$A$46,H13 = Geral!$A$48),Geral!$H$15,IF(YEAR(NOW())-YEAR(E11) < 18,Geral!$I$15,Geral!$H$15))) -> 0 | M13: =IF(L13="","",IF(VLOOKUP($H13,Geral!$B$42:$D$48,3,FALSE)="<=",IF(YEAR(NOW())-YEAR(VLOOKUP(L13,Atletas!$B$2:$D$101,3,FALSE))>VLOOKUP($H13,Geral!$B$42:$C$48,2,FALSE),"ý","þ"),IF(VLOOKUP($H13,Geral!$B$42:$D$48,3,FALSE)=">=",IF(YEAR(NOW())-YEAR(VLOOKUP(L13,Atletas!$B$2:$D$101,3,FALSE))<VLOOKUP($H13,Geral!$B$42:$C$48,2,FALSE),"ý","þ")))) | N13: =IF($L13="","",IF(IFERROR(VLOOKUP($L13,Atletas!$B$2:$F$101,2,FALSE),"") ="","Cadastro não encontrado. Digite os dados.",VLOOKUP($L13,Atletas!$B$2:$F$101,2,FALSE))) | O13: =G11 | P13: =D12 -> 0 | Q13: =H13 -> 0 | R13: =L13 -> 0 | S13: =E11 | T13: =F11 | U13: =A11 -> 0 | V13: =C11
A14: =SUM(K14:K16) -> 0 | B14: 5 | C14: =IF($D15="","",IF(IFERROR(VLOOKUP($D15,Atletas!$B$2:$F$101,5,FALSE),"") ="","CLUBE",VLOOKUP($D15,Atletas!$B$2:$F$101,5,FALSE))) | E14: =IF($D15="","",IF(IFERROR(VLOOKUP($D15,Atletas!$B$2:$F$101,3,FALSE),"") ="","DD/MM/AAAA",VLOOKUP($D15,Atletas!$B$2:$F$101,3,FALSE))) | F14: =IF($D15="","",IF(IFERROR(VLOOKUP($D15,Atletas!$B$2:$F$101,4,FALSE),"") ="","Gênero",VLOOKUP($D15,Atletas!$B$2:$F$101,4,FALSE))) | G14: =IF($D15="","",IF(IFERROR(VLOOKUP($D15,Atletas!$B$2:$F$101,2,FALSE),"") ="","Cadastro não encontrado. Digite os dados.",VLOOKUP($D15,Atletas!$B$2:$F$101,2,FALSE))) | I14: =IF(H14="","",IF(VLOOKUP(H14,Geral!$B$13:$D$27,3,FALSE)="<=",IF(YEAR(NOW())-YEAR(E14)>VLOOKUP(H14,Geral!$B$13:$C$27,2,FALSE),"ý","þ"),IF(VLOOKUP(H14,Geral!$B$13:$D$27,3,FALSE)=">=",IF(YEAR(NOW())-YEAR(E14)<VLOOKUP(H14,Geral!$B$13:$C$27,2,FALSE),"ý","þ")))) | K14: =SUM(IF(J14="Sim",IF(H14="",0,IF(OR(H14 = Geral!$A$46,H14 = Geral!$A$48),Geral!$H$13,IF(YEAR(NOW())-YEAR(E14) < 18,Geral!$I$17,Geral!$H$17))),0),IF(H14="",0,IF(OR(H14 = Geral!$A$46,H14 = Geral!$A$48),Geral!$H$13,IF(YEAR(NOW())-YEAR(E14) < 18,Geral!$I$13,Geral!$H$13)))) -> 0 | O14: =G14 | P14: =D15 -> 0 | Q14: =H14 -> 0 | S14: =E14 | T14: =F14 | U14: =A14 -> 0 | V14: =C14
I15: =IF(H15="","",IF(VLOOKUP(H15,Geral!$B$28:$D$41,3,FALSE)="<=",IF(YEAR(NOW())-YEAR(E14)>VLOOKUP(H15,Geral!$B$28:$C$41,2,FALSE),"ý","þ"),IF(VLOOKUP(H15,Geral!$B$28:$D$41,3,FALSE)=">=",IF(YEAR(NOW())-YEAR(E14)<VLOOKUP(H15,Geral!$B$28:$C$41,2,FALSE),"ý","þ")))) | K15: =IF(H15="",0,IF(OR(H15 = Geral!$A$46,H15 = Geral!$A$48),Geral!$H$15,IF(YEAR(NOW())-YEAR(E14) < 18,Geral!$I$15,Geral!$H$15))) -> 0 | M15: =IF(L15="","",IF(VLOOKUP($H15,Geral!$B$28:$D$41,3,FALSE)="<=",IF(YEAR(NOW())-YEAR(VLOOKUP(L15,Atletas!$B$2:$D$101,3,FALSE))>VLOOKUP($H15,Geral!$B$28:$C$41,2,FALSE),"ý","þ"),IF(VLOOKUP($H15,Geral!$B$28:$D$41,3,FALSE)=">=",IF(YEAR(NOW())-YEAR(VLOOKUP(L15,Atletas!$B$2:$D$101,3,FALSE))<VLOOKUP($H15,Geral!$B$28:$C$41,2,FALSE),"ý","þ")))) | N15: =IF($L15="","",IF(IFERROR(VLOOKUP($L15,Atletas!$B$2:$F$101,2,FALSE),"") ="","Cadastro não encontrado. Digite os dados.",VLOOKUP($L15,Atletas!$B$2:$F$101,2,FALSE))) | O15: =G14 | P15: =D15 -> 0 | Q15: =H15 -> 0 | R15: =L15 -> 0 | S15: =E14 | T15: =F14 | U15: =A14 -> 0 | V15: =C14
I16: =IF(H16="","",IF(VLOOKUP(H16,Geral!$B$42:$D$48,3,FALSE)="<=",IF(YEAR(NOW())-YEAR(E14)>VLOOKUP(H16,Geral!$B$42:$C$48,2,FALSE),"ý","þ"),IF(VLOOKUP(H16,Geral!$B$42:$D$48,3,FALSE)=">=",IF(YEAR(NOW())-YEAR(E14)<VLOOKUP(H16,Geral!$B$42:$C$48,2,FALSE),"ý","þ")))) | K16: =IF(H16="",0,IF(OR(H16 = Geral!$A$46,H16 = Geral!$A$48),Geral!$H$15,IF(YEAR(NOW())-YEAR(E14) < 18,Geral!$I$15,Geral!$H$15))) -> 0 | M16: =IF(L16="","",IF(VLOOKUP($H16,Geral!$B$42:$D$48,3,FALSE)="<=",IF(YEAR(NOW())-YEAR(VLOOKUP(L16,Atletas!$B$2:$D$101,3,FALSE))>VLOOKUP($H16,Geral!$B$42:$C$48,2,FALSE),"ý","þ"),IF(VLOOKUP($H16,Geral!$B$42:$D$48,3,FALSE)=">=",IF(YEAR(NOW())-YEAR(VLOOKUP(L16,Atletas!$B$2:$D$101,3,FALSE))<VLOOKUP($H16,Geral!$B$42:$C$48,2,FALSE),"ý","þ")))) | N16: =IF($L16="","",IF(IFERROR(VLOOKUP($L16,Atletas!$B$2:$F$101,2,FALSE),"") ="","Cadastro não encontrado. Digite os dados.",VLOOKUP($L16,Atletas!$B$2:$F$101,2,FALSE))) | O16: =G14 | P16: =D15 -> 0 | Q16: =H16 -> 0 | R16: =L16 -> 0 | S16: =E14 | T16: =F14 | U16: =A14 -> 0 | V16: =C14
A17: =SUM(K17:K19) -> 0 | B17: 6 | C17: =IF($D18="","",IF(IFERROR(VLOOKUP($D18,Atletas!$B$2:$F$101,5,FALSE),"") ="","CLUBE",VLOOKUP($D18,Atletas!$B$2:$F$101,5,FALSE))) | E17: =IF($D18="","",IF(IFERROR(VLOOKUP($D18,Atletas!$B$2:$F$101,3,FALSE),"") ="","DD/MM/AAAA",VLOOKUP($D18,Atletas!$B$2:$F$101,3,FALSE))) | F17: =IF($D18="","",IF(IFERROR(VLOOKUP($D18,Atletas!$B$2:$F$101,4,FALSE),"") ="","Gênero",VLOOKUP($D18,Atletas!$B$2:$F$101,4,FALSE))) | G17: =IF($D18="","",IF(IFERROR(VLOOKUP($D18,Atletas!$B$2:$F$101,2,FALSE),"") ="","Cadastro não encontrado. Digite os dados.",VLOOKUP($D18,Atletas!$B$2:$F$101,2,FALSE))) | I17: =IF(H17="","",IF(VLOOKUP(H17,Geral!$B$13:$D$27,3,FALSE)="<=",IF(YEAR(NOW())-YEAR(E17)>VLOOKUP(H17,Geral!$B$13:$C$27,2,FALSE),"ý","þ"),IF(VLOOKUP(H17,Geral!$B$13:$D$27,3,FALSE)=">=",IF(YEAR(NOW())-YEAR(E17)<VLOOKUP(H17,Geral!$B$13:$C$27,2,FALSE),"ý","þ")))) | K17: =SUM(IF(J17="Sim",IF(H17="",0,IF(OR(H17 = Geral!$A$46,H17 = Geral!$A$48),Geral!$H$13,IF(YEAR(NOW())-YEAR(E17) < 18,Geral!$I$17,Geral!$H$17))),0),IF(H17="",0,IF(OR(H17 = Geral!$A$46,H17 = Geral!$A$48),Geral!$H$13,IF(YEAR(NOW())-YEAR(E17) < 18,Geral!$I$13,Geral!$H$13)))) -> 0 | O17: =G17 | P17: =D18 -> 0 | Q17: =H17 -> 0 | S17: =E17 | T17: =F17 | U17: =A17 -> 0 | V17: =C17
I18: =IF(H18="","",IF(VLOOKUP(H18,Geral!$B$28:$D$41,3,FALSE)="<=",IF(YEAR(NOW())-YEAR(E17)>VLOOKUP(H18,Geral!$B$28:$C$41,2,FALSE),"ý","þ"),IF(VLOOKUP(H18,Geral!$B$28:$D$41,3,FALSE)=">=",IF(YEAR(NOW())-YEAR(E17)<VLOOKUP(H18,Geral!$B$28:$C$41,2,FALSE),"ý","þ")))) | K18: =IF(H18="",0,IF(OR(H18 = Geral!$A$46,H18 = Geral!$A$48),Geral!$H$15,IF(YEAR(NOW())-YEAR(E17) < 18,Geral!$I$15,Geral!$H$15))) -> 0 | M18: =IF(L18="","",IF(VLOOKUP($H18,Geral!$B$28:$D$41,3,FALSE)="<=",IF(YEAR(NOW())-YEAR(VLOOKUP(L18,Atletas!$B$2:$D$101,3,FALSE))>VLOOKUP($H18,Geral!$B$28:$C$41,2,FALSE),"ý","þ"),IF(VLOOKUP($H18,Geral!$B$28:$D$41,3,FALSE)=">=",IF(YEAR(NOW())-YEAR(VLOOKUP(L18,Atletas!$B$2:$D$101,3,FALSE))<VLOOKUP($H18,Geral!$B$28:$C$41,2,FALSE),"ý","þ")))) | N18: =IF($L18="","",IF(IFERROR(VLOOKUP($L18,Atletas!$B$2:$F$101,2,FALSE),"") ="","Cadastro não encontrado. Digite os dados.",VLOOKUP($L18,Atletas!$B$2:$F$101,2,FALSE))) | O18: =G17 | P18: =D18 -> 0 | Q18: =H18 -> 0 | R18: =L18 -> 0 | S18: =E17 | T18: =F17 | U18: =A17 -> 0 | V18: =C17
I19: =IF(H19="","",IF(VLOOKUP(H19,Geral!$B$42:$D$48,3,FALSE)="<=",IF(YEAR(NOW())-YEAR(E17)>VLOOKUP(H19,Geral!$B$42:$C$48,2,FALSE),"ý","þ"),IF(VLOOKUP(H19,Geral!$B$42:$D$48,3,FALSE)=">=",IF(YEAR(NOW())-YEAR(E17)<VLOOKUP(H19,Geral!$B$42:$C$48,2,FALSE),"ý","þ")))) | K19: =IF(H19="",0,IF(OR(H19 = Geral!$A$46,H19 = Geral!$A$48),Geral!$H$15,IF(YEAR(NOW())-YEAR(E17) < 18,Geral!$I$15,Geral!$H$15))) -> 0 | M19: =IF(L19="","",IF(VLOOKUP($H19,Geral!$B$42:$D$48,3,FALSE)="<=",IF(YEAR(NOW())-YEAR(VLOOKUP(L19,Atletas!$B$2:$D$101,3,FALSE))>VLOOKUP($H19,Geral!$B$42:$C$48,2,FALSE),"ý","þ"),IF(VLOOKUP($H19,Geral!$B$42:$D$48,3,FALSE)=">=",IF(YEAR(NOW())-YEAR(VLOOKUP(L19,Atletas!$B$2:$D$101,3,FALSE))<VLOOKUP($H19,Geral!$B$42:$C$48,2,FALSE),"ý","þ")))) | N19: =IF($L19="","",IF(IFERROR(VLOOKUP($L19,Atletas!$B$2:$F$101,2,FALSE),"") ="","Cadastro não encontrado. Digite os dados.",VLOOKUP($L19,Atletas!$B$2:$F$101,2,FALSE))) | O19: =G17 | P19: =D18 -> 0 | Q19: =H19 -> 0 | R19: =L19 -> 0 | S19: =E17 | T19: =F17 | U19: =A17 -> 0 | V19: =C17
A20: =SUM(K20:K22) -> 0 | B20: 7 | C20: =IF($D21="","",IF(IFERROR(VLOOKUP($D21,Atletas!$B$2:$F$101,5,FALSE),"") ="","CLUBE",VLOOKUP($D21,Atletas!$B$2:$F$101,5,FALSE))) | E20: =IF($D21="","",IF(IFERROR(VLOOKUP($D21,Atletas!$B$2:$F$101,3,FALSE),"") ="","DD/MM/AAAA",VLOOKUP($D21,Atletas!$B$2:$F$101,3,FALSE))) | F20: =IF($D21="","",IF(IFERROR(VLOOKUP($D21,Atletas!$B$2:$F$101,4,FALSE),"") ="","Gênero",VLOOKUP($D21,Atletas!$B$2:$F$101,4,FALSE))) | G20: =IF($D21="","",IF(IFERROR(VLOOKUP($D21,Atletas!$B$2:$F$101,2,FALSE),"") ="","Cadastro não encontrado. Digite os dados.",VLOOKUP($D21,Atletas!$B$2:$F$101,2,FALSE))) | I20: =IF(H20="","",IF(VLOOKUP(H20,Geral!$B$13:$D$27,3,FALSE)="<=",IF(YEAR(NOW())-YEAR(E20)>VLOOKUP(H20,Geral!$B$13:$C$27,2,FALSE),"ý","þ"),IF(VLOOKUP(H20,Geral!$B$13:$D$27,3,FALSE)=">=",IF(YEAR(NOW())-YEAR(E20)<VLOOKUP(H20,Geral!$B$13:$C$27,2,FALSE),"ý","þ")))) | K20: =SUM(IF(J20="Sim",IF(H20="",0,IF(OR(H20 = Geral!$A$46,H20 = Geral!$A$48),Geral!$H$13,IF(YEAR(NOW())-YEAR(E20) < 18,Geral!$I$17,Geral!$H$17))),0),IF(H20="",0,IF(OR(H20 = Geral!$A$46,H20 = Geral!$A$48),Geral!$H$13,IF(YEAR(NOW())-YEAR(E20) < 18,Geral!$I$13,Geral!$H$13)))) -> 0 | O20: =G20 | P20: =D21 -> 0 | Q20: =H20 -> 0 | S20: =E20 | T20: =F20 | U20: =A20 -> 0 | V20: =C20
I21: =IF(H21="","",IF(VLOOKUP(H21,Geral!$B$28:$D$41,3,FALSE)="<=",IF(YEAR(NOW())-YEAR(E20)>VLOOKUP(H21,Geral!$B$28:$C$41,2,FALSE),"ý","þ"),IF(VLOOKUP(H21,Geral!$B$28:$D$41,3,FALSE)=">=",IF(YEAR(NOW())-YEAR(E20)<VLOOKUP(H21,Geral!$B$28:$C$41,2,FALSE),"ý","þ")))) | K21: =IF(H21="",0,IF(OR(H21 = Geral!$A$46,H21 = Geral!$A$48),Geral!$H$15,IF(YEAR(NOW())-YEAR(E20) < 18,Geral!$I$15,Geral!$H$15))) -> 0 | M21: =IF(L21="","",IF(VLOOKUP($H21,Geral!$B$28:$D$41,3,FALSE)="<=",IF(YEAR(NOW())-YEAR(VLOOKUP(L21,Atletas!$B$2:$D$101,3,FALSE))>VLOOKUP($H21,Geral!$B$28:$C$41,2,FALSE),"ý","þ"),IF(VLOOKUP($H21,Geral!$B$28:$D$41,3,FALSE)=">=",IF(YEAR(NOW())-YEAR(VLOOKUP(L21,Atletas!$B$2:$D$101,3,FALSE))<VLOOKUP($H21,Geral!$B$28:$C$41,2,FALSE),"ý","þ")))) | N21: =IF($L21="","",IF(IFERROR(VLOOKUP($L21,Atletas!$B$2:$F$101,2,FALSE),"") ="","Cadastro não encontrado. Digite os dados.",VLOOKUP($L21,Atletas!$B$2:$F$101,2,FALSE))) | O21: =G20 | P21: =D21 -> 0 | Q21: =H21 -> 0 | R21: =L21 -> 0 | S21: =E20 | T21: =F20 | U21: =A20 -> 0 | V21: =C20
I22: =IF(H22="","",IF(VLOOKUP(H22,Geral!$B$42:$D$48,3,FALSE)="<=",IF(YEAR(NOW())-YEAR(E20)>VLOOKUP(H22,Geral!$B$42:$C$48,2,FALSE),"ý","þ"),IF(VLOOKUP(H22,Geral!$B$42:$D$48,3,FALSE)=">=",IF(YEAR(NOW())-YEAR(E20)<VLOOKUP(H22,Geral!$B$42:$C$48,2,FALSE),"ý","þ")))) | K22: =IF(H22="",0,IF(OR(H22 = Geral!$A$46,H22 = Geral!$A$48),Geral!$H$15,IF(YEAR(NOW())-YEAR(E20) < 18,Geral!$I$15,Geral!$H$15))) -> 0 | M22: =IF(L22="","",IF(VLOOKUP($H22,Geral!$B$42:$D$48,3,FALSE)="<=",IF(YEAR(NOW())-YEAR(VLOOKUP(L22,Atletas!$B$2:$D$101,3,FALSE))>VLOOKUP($H22,Geral!$B$42:$C$48,2,FALSE),"ý","þ"),IF(VLOOKUP($H22,Geral!$B$42:$D$48,3,FALSE)=">=",IF(YEAR(NOW())-YEAR(VLOOKUP(L22,Atletas!$B$2:$D$101,3,FALSE))<VLOOKUP($H22,Geral!$B$42:$C$48,2,FALSE),"ý","þ")))) | N22: =IF($L22="","",IF(IFERROR(VLOOKUP($L22,Atletas!$B$2:$F$101,2,FALSE),"") ="","Cadastro não encontrado. Digite os dados.",VLOOKUP($L22,Atletas!$B$2:$F$101,2,FALSE))) | O22: =G20 | P22: =D21 -> 0 | Q22: =H22 -> 0 | R22: =L22 -> 0 | S22: =E20 | T22: =F20 | U22: =A20 -> 0 | V22: =C20
A23: =SUM(K23:K25) -> 0 | B23: 8 | C23: =IF($D24="","",IF(IFERROR(VLOOKUP($D24,Atletas!$B$2:$F$101,5,FALSE),"") ="","CLUBE",VLOOKUP($D24,Atletas!$B$2:$F$101,5,FALSE))) | E23: =IF($D24="","",IF(IFERROR(VLOOKUP($D24,Atletas!$B$2:$F$101,3,FALSE),"") ="","DD/MM/AAAA",VLOOKUP($D24,Atletas!$B$2:$F$101,3,FALSE))) | F23: =IF($D24="","",IF(IFERROR(VLOOKUP($D24,Atletas!$B$2:$F$101,4,FALSE),"") ="","Gênero",VLOOKUP($D24,Atletas!$B$2:$F$101,4,FALSE))) | G23: =IF($D24="","",IF(IFERROR(VLOOKUP($D24,Atletas!$B$2:$F$101,2,FALSE),"") ="","Cadastro não encontrado. Digite os dados.",VLOOKUP($D24,Atletas!$B$2:$F$101,2,FALSE))) | I23: =IF(H23="","",IF(VLOOKUP(H23,Geral!$B$13:$D$27,3,FALSE)="<=",IF(YEAR(NOW())-YEAR(E23)>VLOOKUP(H23,Geral!$B$13:$C$27,2,FALSE),"ý","þ"),IF(VLOOKUP(H23,Geral!$B$13:$D$27,3,FALSE)=">=",IF(YEAR(NOW())-YEAR(E23)<VLOOKUP(H23,Geral!$B$13:$C$27,2,FALSE),"ý","þ")))) | K23: =SUM(IF(J23="Sim",IF(H23="",0,IF(OR(H23 = Geral!$A$46,H23 = Geral!$A$48),Geral!$H$13,IF(YEAR(NOW())-YEAR(E23) < 18,Geral!$I$17,Geral!$H$17))),0),IF(H23="",0,IF(OR(H23 = Geral!$A$46,H23 = Geral!$A$48),Geral!$H$13,IF(YEAR(NOW())-YEAR(E23) < 18,Geral!$I$13,Geral!$H$13)))) -> 0 | O23: =G23 | P23: =D24 -> 0 | Q23: =H23 -> 0 | S23: =E23 | T23: =F23 | U23: =A23 -> 0 | V23: =C23
I24: =IF(H24="","",IF(VLOOKUP(H24,Geral!$B$28:$D$41,3,FALSE)="<=",IF(YEAR(NOW())-YEAR(E23)>VLOOKUP(H24,Geral!$B$28:$C$41,2,FALSE),"ý","þ"),IF(VLOOKUP(H24,Geral!$B$28:$D$41,3,FALSE)=">=",IF(YEAR(NOW())-YEAR(E23)<VLOOKUP(H24,Geral!$B$28:$C$41,2,FALSE),"ý","þ")))) | K24: =IF(H24="",0,IF(OR(H24 = Geral!$A$46,H24 = Geral!$A$48),Geral!$H$15,IF(YEAR(NOW())-YEAR(E23) < 18,Geral!$I$15,Geral!$H$15))) -> 0 | M24: =IF(L24="","",IF(VLOOKUP($H24,Geral!$B$28:$D$41,3,FALSE)="<=",IF(YEAR(NOW())-YEAR(VLOOKUP(L24,Atletas!$B$2:$D$101,3,FALSE))>VLOOKUP($H24,Geral!$B$28:$C$41,2,FALSE),"ý","þ"),IF(VLOOKUP($H24,Geral!$B$28:$D$41,3,FALSE)=">=",IF(YEAR(NOW())-YEAR(VLOOKUP(L24,Atletas!$B$2:$D$101,3,FALSE))<VLOOKUP($H24,Geral!$B$28:$C$41,2,FALSE),"ý","þ")))) | N24: =IF($L24="","",IF(IFERROR(VLOOKUP($L24,Atletas!$B$2:$F$101,2,FALSE),"") ="","Cadastro não encontrado. Digite os dados.",VLOOKUP($L24,Atletas!$B$2:$F$101,2,FALSE))) | O24: =G23 | P24: =D24 -> 0 | Q24: =H24 -> 0 | R24: =L24 -> 0 | S24: =E23 | T24: =F23 | U24: =A23 -> 0 | V24: =C23
I25: =IF(H25="","",IF(VLOOKUP(H25,Geral!$B$42:$D$48,3,FALSE)="<=",IF(YEAR(NOW())-YEAR(E23)>VLOOKUP(H25,Geral!$B$42:$C$48,2,FALSE),"ý","þ"),IF(VLOOKUP(H25,Geral!$B$42:$D$48,3,FALSE)=">=",IF(YEAR(NOW())-YEAR(E23)<VLOOKUP(H25,Geral!$B$42:$C$48,2,FALSE),"ý","þ")))) | K25: =IF(H25="",0,IF(OR(H25 = Geral!$A$46,H25 = Geral!$A$48),Geral!$H$15,IF(YEAR(NOW())-YEAR(E23) < 18,Geral!$I$15,Geral!$H$15))) -> 0 | M25: =IF(L25="","",IF(VLOOKUP($H25,Geral!$B$42:$D$48,3,FALSE)="<=",IF(YEAR(NOW())-YEAR(VLOOKUP(L25,Atletas!$B$2:$D$101,3,FALSE))>VLOOKUP($H25,Geral!$B$42:$C$48,2,FALSE),"ý","þ"),IF(VLOOKUP($H25,Geral!$B$42:$D$48,3,FALSE)=">=",IF(YEAR(NOW())-YEAR(VLOOKUP(L25,Atletas!$B$2:$D$101,3,FALSE))<VLOOKUP($H25,Geral!$B$42:$C$48,2,FALSE),"ý","þ")))) | N25: =IF($L25="","",IF(IFERROR(VLOOKUP($L25,Atletas!$B$2:$F$101,2,FALSE),"") ="","Cadastro não encontrado. Digite os dados.",VLOOKUP($L25,Atletas!$B$2:$F$101,2,FALSE))) | O25: =G23 | P25: =D24 -> 0 | Q25: =H25 -> 0 | R25: =L25 -> 0 | S25: =E23 | T25: =F23 | U25: =A23 -> 0 | V25: =C23
A26: =SUM(K26:K28) -> 0 | B26: 9 | C26: =IF($D27="","",IF(IFERROR(VLOOKUP($D27,Atletas!$B$2:$F$101,5,FALSE),"") ="","CLUBE",VLOOKUP($D27,Atletas!$B$2:$F$101,5,FALSE))) | E26: =IF($D27="","",IF(IFERROR(VLOOKUP($D27,Atletas!$B$2:$F$101,3,FALSE),"") ="","DD/MM/AAAA",VLOOKUP($D27,Atletas!$B$2:$F$101,3,FALSE))) | F26: =IF($D27="","",IF(IFERROR(VLOOKUP($D27,Atletas!$B$2:$F$101,4,FALSE),"") ="","Gênero",VLOOKUP($D27,Atletas!$B$2:$F$101,4,FALSE))) | G26: =IF($D27="","",IF(IFERROR(VLOOKUP($D27,Atletas!$B$2:$F$101,2,FALSE),"") ="","Cadastro não encontrado. Digite os dados.",VLOOKUP($D27,Atletas!$B$2:$F$101,2,FALSE))) | I26: =IF(H26="","",IF(VLOOKUP(H26,Geral!$B$13:$D$27,3,FALSE)="<=",IF(YEAR(NOW())-YEAR(E26)>VLOOKUP(H26,Geral!$B$13:$C$27,2,FALSE),"ý","þ"),IF(VLOOKUP(H26,Geral!$B$13:$D$27,3,FALSE)=">=",IF(YEAR(NOW())-YEAR(E26)<VLOOKUP(H26,Geral!$B$13:$C$27,2,FALSE),"ý","þ")))) | K26: =SUM(IF(J26="Sim",IF(H26="",0,IF(OR(H26 = Geral!$A$46,H26 = Geral!$A$48),Geral!$H$13,IF(YEAR(NOW())-YEAR(E26) < 18,Geral!$I$17,Geral!$H$17))),0),IF(H26="",0,IF(OR(H26 = Geral!$A$46,H26 = Geral!$A$48),Geral!$H$13,IF(YEAR(NOW())-YEAR(E26) < 18,Geral!$I$13,Geral!$H$13)))) -> 0 | O26: =G26 | P26: =D27 -> 0 | Q26: =H26 -> 0 | S26: =E26 | T26: =F26 | U26: =A26 -> 0 | V26: =C26
I27: =IF(H27="","",IF(VLOOKUP(H27,Geral!$B$28:$D$41,3,FALSE)="<=",IF(YEAR(NOW())-YEAR(E26)>VLOOKUP(H27,Geral!$B$28:$C$41,2,FALSE),"ý","þ"),IF(VLOOKUP(H27,Geral!$B$28:$D$41,3,FALSE)=">=",IF(YEAR(NOW())-YEAR(E26)<VLOOKUP(H27,Geral!$B$28:$C$41,2,FALSE),"ý","þ")))) | K27: =IF(H27="",0,IF(OR(H27 = Geral!$A$46,H27 = Geral!$A$48),Geral!$H$15,IF(YEAR(NOW())-YEAR(E26) < 18,Geral!$I$15,Geral!$H$15))) -> 0 | M27: =IF(L27="","",IF(VLOOKUP($H27,Geral!$B$28:$D$41,3,FALSE)="<=",IF(YEAR(NOW())-YEAR(VLOOKUP(L27,Atletas!$B$2:$D$101,3,FALSE))>VLOOKUP($H27,Geral!$B$28:$C$41,2,FALSE),"ý","þ"),IF(VLOOKUP($H27,Geral!$B$28:$D$41,3,FALSE)=">=",IF(YEAR(NOW())-YEAR(VLOOKUP(L27,Atletas!$B$2:$D$101,3,FALSE))<VLOOKUP($H27,Geral!$B$28:$C$41,2,FALSE),"ý","þ")))) | N27: =IF($L27="","",IF(IFERROR(VLOOKUP($L27,Atletas!$B$2:$F$101,2,FALSE),"") ="","Cadastro não encontrado. Digite os dados.",VLOOKUP($L27,Atletas!$B$2:$F$101,2,FALSE))) | O27: =G26 | P27: =D27 -> 0 | Q27: =H27 -> 0 | R27: =L27 -> 0 | S27: =E26 | T27: =F26 | U27: =A26 -> 0 | V27: =C26
I28: =IF(H28="","",IF(VLOOKUP(H28,Geral!$B$42:$D$48,3,FALSE)="<=",IF(YEAR(NOW())-YEAR(E26)>VLOOKUP(H28,Geral!$B$42:$C$48,2,FALSE),"ý","þ"),IF(VLOOKUP(H28,Geral!$B$42:$D$48,3,FALSE)=">=",IF(YEAR(NOW())-YEAR(E26)<VLOOKUP(H28,Geral!$B$42:$C$48,2,FALSE),"ý","þ")))) | K28: =IF(H28="",0,IF(OR(H28 = Geral!$A$46,H28 = Geral!$A$48),Geral!$H$15,IF(YEAR(NOW())-YEAR(E26) < 18,Geral!$I$15,Geral!$H$15))) -> 0 | M28: =IF(L28="","",IF(VLOOKUP($H28,Geral!$B$42:$D$48,3,FALSE)="<=",IF(YEAR(NOW())-YEAR(VLOOKUP(L28,Atletas!$B$2:$D$101,3,FALSE))>VLOOKUP($H28,Geral!$B$42:$C$48,2,FALSE),"ý","þ"),IF(VLOOKUP($H28,Geral!$B$42:$D$48,3,FALSE)=">=",IF(YEAR(NOW())-YEAR(VLOOKUP(L28,Atletas!$B$2:$D$101,3,FALSE))<VLOOKUP($H28,Geral!$B$42:$C$48,2,FALSE),"ý","þ")))) | N28: =IF($L28="","",IF(IFERROR(VLOOKUP($L28,Atletas!$B$2:$F$101,2,FALSE),"") ="","Cadastro não encontrado. Digite os dados.",VLOOKUP($L28,Atletas!$B$2:$F$101,2,FALSE))) | O28: =G26 | P28: =D27 -> 0 | Q28: =H28 -> 0 | R28: =L28 -> 0 | S28: =E26 | T28: =F26 | U28: =A26 -> 0 | V28: =C26
A29: =SUM(K29:K31) -> 0 | B29: 10 | C29: =IF($D30="","",IF(IFERROR(VLOOKUP($D30,Atletas!$B$2:$F$101,5,FALSE),"") ="","CLUBE",VLOOKUP($D30,Atletas!$B$2:$F$101,5,FALSE))) | E29: =IF($D30="","",IF(IFERROR(VLOOKUP($D30,Atletas!$B$2:$F$101,3,FALSE),"") ="","DD/MM/AAAA",VLOOKUP($D30,Atletas!$B$2:$F$101,3,FALSE))) | F29: =IF($D30="","",IF(IFERROR(VLOOKUP($D30,Atletas!$B$2:$F$101,4,FALSE),"") ="","Gênero",VLOOKUP($D30,Atletas!$B$2:$F$101,4,FALSE))) | G29: =IF($D30="","",IF(IFERROR(VLOOKUP($D30,Atletas!$B$2:$F$101,2,FALSE),"") ="","Cadastro não encontrado. Digite os dados.",VLOOKUP($D30,Atletas!$B$2:$F$101,2,FALSE))) | I29: =IF(H29="","",IF(VLOOKUP(H29,Geral!$B$13:$D$27,3,FALSE)="<=",IF(YEAR(NOW())-YEAR(E29)>VLOOKUP(H29,Geral!$B$13:$C$27,2,FALSE),"ý","þ"),IF(VLOOKUP(H29,Geral!$B$13:$D$27,3,FALSE)=">=",IF(YEAR(NOW())-YEAR(E29)<VLOOKUP(H29,Geral!$B$13:$C$27,2,FALSE),"ý","þ")))) | K29: =SUM(IF(J29="Sim",IF(H29="",0,IF(OR(H29 = Geral!$A$46,H29 = Geral!$A$48),Geral!$H$13,IF(YEAR(NOW())-YEAR(E29) < 18,Geral!$I$17,Geral!$H$17))),0),IF(H29="",0,IF(OR(H29 = Geral!$A$46,H29 = Geral!$A$48),Geral!$H$13,IF(YEAR(NOW())-YEAR(E29) < 18,Geral!$I$13,Geral!$H$13)))) -> 0 | O29: =G29 | P29: =D30 -> 0 | Q29: =H29 -> 0 | S29: =E29 | T29: =F29 | U29: =A29 -> 0 | V29: =C29
I30: =IF(H30="","",IF(VLOOKUP(H30,Geral!$B$28:$D$41,3,FALSE)="<=",IF(YEAR(NOW())-YEAR(E29)>VLOOKUP(H30,Geral!$B$28:$C$41,2,FALSE),"ý","þ"),IF(VLOOKUP(H30,Geral!$B$28:$D$41,3,FALSE)=">=",IF(YEAR(NOW())-YEAR(E29)<VLOOKUP(H30,Geral!$B$28:$C$41,2,FALSE),"ý","þ")))) | K30: =IF(H30="",0,IF(OR(H30 = Geral!$A$46,H30 = Geral!$A$48),Geral!$H$15,IF(YEAR(NOW())-YEAR(E29) < 18,Geral!$I$15,Geral!$H$15))) -> 0 | M30: =IF(L30="","",IF(VLOOKUP($H30,Geral!$B$28:$D$41,3,FALSE)="<=",IF(YEAR(NOW())-YEAR(VLOOKUP(L30,Atletas!$B$2:$D$101,3,FALSE))>VLOOKUP($H30,Geral!$B$28:$C$41,2,FALSE),"ý","þ"),IF(VLOOKUP($H30,Geral!$B$28:$D$41,3,FALSE)=">=",IF(YEAR(NOW())-YEAR(VLOOKUP(L30,Atletas!$B$2:$D$101,3,FALSE))<VLOOKUP($H30,Geral!$B$28:$C$41,2,FALSE),"ý","þ")))) | N30: =IF($L30="","",IF(IFERROR(VLOOKUP($L30,Atletas!$B$2:$F$101,2,FALSE),"") ="","Cadastro não encontrado. Digite os dados.",VLOOKUP($L30,Atletas!$B$2:$F$101,2,FALSE))) | O30: =G29 | P30: =D30 -> 0 | Q30: =H30 -> 0 | R30: =L30 -> 0 | S30: =E29 | T30: =F29 | U30: =A29 -> 0 | V30: =C29
I31: =IF(H31="","",IF(VLOOKUP(H31,Geral!$B$42:$D$48,3,FALSE)="<=",IF(YEAR(NOW())-YEAR(E29)>VLOOKUP(H31,Geral!$B$42:$C$48,2,FALSE),"ý","þ"),IF(VLOOKUP(H31,Geral!$B$42:$D$48,3,FALSE)=">=",IF(YEAR(NOW())-YEAR(E29)<VLOOKUP(H31,Geral!$B$42:$C$48,2,FALSE),"ý","þ")))) | K31: =IF(H31="",0,IF(OR(H31 = Geral!$A$46,H31 = Geral!$A$48),Geral!$H$15,IF(YEAR(NOW())-YEAR(E29) < 18,Geral!$I$15,Geral!$H$15))) -> 0 | M31: =IF(L31="","",IF(VLOOKUP($H31,Geral!$B$42:$D$48,3,FALSE)="<=",IF(YEAR(NOW())-YEAR(VLOOKUP(L31,Atletas!$B$2:$D$101,3,FALSE))>VLOOKUP($H31,Geral!$B$42:$C$48,2,FALSE),"ý","þ"),IF(VLOOKUP($H31,Geral!$B$42:$D$48,3,FALSE)=">=",IF(YEAR(NOW())-YEAR(VLOOKUP(L31,Atletas!$B$2:$D$101,3,FALSE))<VLOOKUP($H31,Geral!$B$42:$C$48,2,FALSE),"ý","þ")))) | N31: =IF($L31="","",IF(IFERROR(VLOOKUP($L31,Atletas!$B$2:$F$101,2,FALSE),"") ="","Cadastro não encontrado. Digite os dados.",VLOOKUP($L31,Atletas!$B$2:$F$101,2,FALSE))) | O31: =G29 | P31: =D30 -> 0 | Q31: =H31 -> 0 | R31: =L31 -> 0 | S31: =E29 | T31: =F29 | U31: =A29 -> 0 | V31: =C29
A32: =SUM(K32:K34) -> 0 | B32: 11 | C32: =IF($D33="","",IF(IFERROR(VLOOKUP($D33,Atletas!$B$2:$F$101,5,FALSE),"") ="","CLUBE",VLOOKUP($D33,Atletas!$B$2:$F$101,5,FALSE))) | E32: =IF($D33="","",IF(IFERROR(VLOOKUP($D33,Atletas!$B$2:$F$101,3,FALSE),"") ="","DD/MM/AAAA",VLOOKUP($D33,Atletas!$B$2:$F$101,3,FALSE))) | F32: =IF($D33="","",IF(IFERROR(VLOOKUP($D33,Atletas!$B$2:$F$101,4,FALSE),"") ="","Gênero",VLOOKUP($D33,Atletas!$B$2:$F$101,4,FALSE))) | G32: =IF($D33="","",IF(IFERROR(VLOOKUP($D33,Atletas!$B$2:$F$101,2,FALSE),"") ="","Cadastro não encontrado. Digite os dados.",VLOOKUP($D33,Atletas!$B$2:$F$101,2,FALSE))) | I32: =IF(H32="","",IF(VLOOKUP(H32,Geral!$B$13:$D$27,3,FALSE)="<=",IF(YEAR(NOW())-YEAR(E32)>VLOOKUP(H32,Geral!$B$13:$C$27,2,FALSE),"ý","þ"),IF(VLOOKUP(H32,Geral!$B$13:$D$27,3,FALSE)=">=",IF(YEAR(NOW())-YEAR(E32)<VLOOKUP(H32,Geral!$B$13:$C$27,2,FALSE),"ý","þ")))) | K32: =SUM(IF(J32="Sim",IF(H32="",0,IF(OR(H32 = Geral!$A$46,H32 = Geral!$A$48),Geral!$H$13,IF(YEAR(NOW())-YEAR(E32) < 18,Geral!$I$17,Geral!$H$17))),0),IF(H32="",0,IF(OR(H32 = Geral!$A$46,H32 = Geral!$A$48),Geral!$H$13,IF(YEAR(NOW())-YEAR(E32) < 18,Geral!$I$13,Geral!$H$13)))) -> 0 | O32: =G32 | P32: =D33 -> 0 | Q32: =H32 -> 0 | S32: =E32 | T32: =F32 | U32: =A32 -> 0 | V32: =C32
I33: =IF(H33="","",IF(VLOOKUP(H33,Geral!$B$28:$D$41,3,FALSE)="<=",IF(YEAR(NOW())-YEAR(E32)>VLOOKUP(H33,Geral!$B$28:$C$41,2,FALSE),"ý","þ"),IF(VLOOKUP(H33,Geral!$B$28:$D$41,3,FALSE)=">=",IF(YEAR(NOW())-YEAR(E32)<VLOOKUP(H33,Geral!$B$28:$C$41,2,FALSE),"ý","þ")))) | K33: =IF(H33="",0,IF(OR(H33 = Geral!$A$46,H33 = Geral!$A$48),Geral!$H$15,IF(YEAR(NOW())-YEAR(E32) < 18,Geral!$I$15,Geral!$H$15))) -> 0 | M33: =IF(L33="","",IF(VLOOKUP($H33,Geral!$B$28:$D$41,3,FALSE)="<=",IF(YEAR(NOW())-YEAR(VLOOKUP(L33,Atletas!$B$2:$D$101,3,FALSE))>VLOOKUP($H33,Geral!$B$28:$C$41,2,FALSE),"ý","þ"),IF(VLOOKUP($H33,Geral!$B$28:$D$41,3,FALSE)=">=",IF(YEAR(NOW())-YEAR(VLOOKUP(L33,Atletas!$B$2:$D$101,3,FALSE))<VLOOKUP($H33,Geral!$B$28:$C$41,2,FALSE),"ý","þ")))) | N33: =IF($L33="","",IF(IFERROR(VLOOKUP($L33,Atletas!$B$2:$F$101,2,FALSE),"") ="","Cadastro não encontrado. Digite os dados.",VLOOKUP($L33,Atletas!$B$2:$F$101,2,FALSE))) | O33: =G32 | P33: =D33 -> 0 | Q33: =H33 -> 0 | R33: =L33 -> 0 | S33: =E32 | T33: =F32 | U33: =A32 -> 0 | V33: =C32
I34: =IF(H34="","",IF(VLOOKUP(H34,Geral!$B$42:$D$48,3,FALSE)="<=",IF(YEAR(NOW())-YEAR(E32)>VLOOKUP(H34,Geral!$B$42:$C$48,2,FALSE),"ý","þ"),IF(VLOOKUP(H34,Geral!$B$42:$D$48,3,FALSE)=">=",IF(YEAR(NOW())-YEAR(E32)<VLOOKUP(H34,Geral!$B$42:$C$48,2,FALSE),"ý","þ")))) | K34: =IF(H34="",0,IF(OR(H34 = Geral!$A$46,H34 = Geral!$A$48),Geral!$H$15,IF(YEAR(NOW())-YEAR(E32) < 18,Geral!$I$15,Geral!$H$15))) -> 0 | M34: =IF(L34="","",IF(VLOOKUP($H34,Geral!$B$42:$D$48,3,FALSE)="<=",IF(YEAR(NOW())-YEAR(VLOOKUP(L34,Atletas!$B$2:$D$101,3,FALSE))>VLOOKUP($H34,Geral!$B$42:$C$48,2,FALSE),"ý","þ"),IF(VLOOKUP($H34,Geral!$B$42:$D$48,3,FALSE)=">=",IF(YEAR(NOW())-YEAR(VLOOKUP(L34,Atletas!$B$2:$D$101,3,FALSE))<VLOOKUP($H34,Geral!$B$42:$C$48,2,FALSE),"ý","þ")))) | N34: =IF($L34="","",IF(IFERROR(VLOOKUP($L34,Atletas!$B$2:$F$101,2,FALSE),"") ="","Cadastro não encontrado. Digite os dados.",VLOOKUP($L34,Atletas!$B$2:$F$101,2,FALSE))) | O34: =G32 | P34: =D33 -> 0 | Q34: =H34 -> 0 | R34: =L34 -> 0 | S34: =E32 | T34: =F32 | U34: =A32 -> 0 | V34: =C32
A35: =SUM(K35:K37) -> 0 | B35: 12 | C35: =IF($D36="","",IF(IFERROR(VLOOKUP($D36,Atletas!$B$2:$F$101,5,FALSE),"") ="","CLUBE",VLOOKUP($D36,Atletas!$B$2:$F$101,5,FALSE))) | E35: =IF($D36="","",IF(IFERROR(VLOOKUP($D36,Atletas!$B$2:$F$101,3,FALSE),"") ="","DD/MM/AAAA",VLOOKUP($D36,Atletas!$B$2:$F$101,3,FALSE))) | F35: =IF($D36="","",IF(IFERROR(VLOOKUP($D36,Atletas!$B$2:$F$101,4,FALSE),"") ="","Gênero",VLOOKUP($D36,Atletas!$B$2:$F$101,4,FALSE))) | G35: =IF($D36="","",IF(IFERROR(VLOOKUP($D36,Atletas!$B$2:$F$101,2,FALSE),"") ="","Cadastro não encontrado. Digite os dados.",VLOOKUP($D36,Atletas!$B$2:$F$101,2,FALSE))) | I35: =IF(H35="","",IF(VLOOKUP(H35,Geral!$B$13:$D$27,3,FALSE)="<=",IF(YEAR(NOW())-YEAR(E35)>VLOOKUP(H35,Geral!$B$13:$C$27,2,FALSE),"ý","þ"),IF(VLOOKUP(H35,Geral!$B$13:$D$27,3,FALSE)=">=",IF(YEAR(NOW())-YEAR(E35)<VLOOKUP(H35,Geral!$B$13:$C$27,2,FALSE),"ý","þ")))) | K35: =SUM(IF(J35="Sim",IF(H35="",0,IF(OR(H35 = Geral!$A$46,H35 = Geral!$A$48),Geral!$H$13,IF(YEAR(NOW())-YEAR(E35) < 18,Geral!$I$17,Geral!$H$17))),0),IF(H35="",0,IF(OR(H35 = Geral!$A$46,H35 = Geral!$A$48),Geral!$H$13,IF(YEAR(NOW())-YEAR(E35) < 18,Geral!$I$13,Geral!$H$13)))) -> 0 | O35: =G35 | P35: =D36 -> 0 | Q35: =H35 -> 0 | S35: =E35 | T35: =F35 | U35: =A35 -> 0 | V35: =C35
I36: =IF(H36="","",IF(VLOOKUP(H36,Geral!$B$28:$D$41,3,FALSE)="<=",IF(YEAR(NOW())-YEAR(E35)>VLOOKUP(H36,Geral!$B$28:$C$41,2,FALSE),"ý","þ"),IF(VLOOKUP(H36,Geral!$B$28:$D$41,3,FALSE)=">=",IF(YEAR(NOW())-YEAR(E35)<VLOOKUP(H36,Geral!$B$28:$C$41,2,FALSE),"ý","þ")))) | K36: =IF(H36="",0,IF(OR(H36 = Geral!$A$46,H36 = Geral!$A$48),Geral!$H$15,IF(YEAR(NOW())-YEAR(E35) < 18,Geral!$I$15,Geral!$H$15))) -> 0 | M36: =IF(L36="","",IF(VLOOKUP($H36,Geral!$B$28:$D$41,3,FALSE)="<=",IF(YEAR(NOW())-YEAR(VLOOKUP(L36,Atletas!$B$2:$D$101,3,FALSE))>VLOOKUP($H36,Geral!$B$28:$C$41,2,FALSE),"ý","þ"),IF(VLOOKUP($H36,Geral!$B$28:$D$41,3,FALSE)=">=",IF(YEAR(NOW())-YEAR(VLOOKUP(L36,Atletas!$B$2:$D$101,3,FALSE))<VLOOKUP($H36,Geral!$B$28:$C$41,2,FALSE),"ý","þ")))) | N36: =IF($L36="","",IF(IFERROR(VLOOKUP($L36,Atletas!$B$2:$F$101,2,FALSE),"") ="","Cadastro não encontrado. Digite os dados.",VLOOKUP($L36,Atletas!$B$2:$F$101,2,FALSE))) | O36: =G35 | P36: =D36 -> 0 | Q36: =H36 -> 0 | R36: =L36 -> 0 | S36: =E35 | T36: =F35 | U36: =A35 -> 0 | V36: =C35
I37: =IF(H37="","",IF(VLOOKUP(H37,Geral!$B$42:$D$48,3,FALSE)="<=",IF(YEAR(NOW())-YEAR(E35)>VLOOKUP(H37,Geral!$B$42:$C$48,2,FALSE),"ý","þ"),IF(VLOOKUP(H37,Geral!$B$42:$D$48,3,FALSE)=">=",IF(YEAR(NOW())-YEAR(E35)<VLOOKUP(H37,Geral!$B$42:$C$48,2,FALSE),"ý","þ")))) | K37: =IF(H37="",0,IF(OR(H37 = Geral!$A$46,H37 = Geral!$A$48),Geral!$H$15,IF(YEAR(NOW())-YEAR(E35) < 18,Geral!$I$15,Geral!$H$15))) -> 0 | M37: =IF(L37="","",IF(VLOOKUP($H37,Geral!$B$42:$D$48,3,FALSE)="<=",IF(YEAR(NOW())-YEAR(VLOOKUP(L37,Atletas!$B$2:$D$101,3,FALSE))>VLOOKUP($H37,Geral!$B$42:$C$48,2,FALSE),"ý","þ"),IF(VLOOKUP($H37,Geral!$B$42:$D$48,3,FALSE)=">=",IF(YEAR(NOW())-YEAR(VLOOKUP(L37,Atletas!$B$2:$D$101,3,FALSE))<VLOOKUP($H37,Geral!$B$42:$C$48,2,FALSE),"ý","þ")))) | N37: =IF($L37="","",IF(IFERROR(VLOOKUP($L37,Atletas!$B$2:$F$101,2,FALSE),"") ="","Cadastro não encontrado. Digite os dados.",VLOOKUP($L37,Atletas!$B$2:$F$101,2,FALSE))) | O37: =G35 | P37: =D36 -> 0 | Q37: =H37 -> 0 | R37: =L37 -> 0 | S37: =E35 | T37: =F35 | U37: =A35 -> 0 | V37: =C35
A38: =SUM(K38:K40) -> 0 | B38: 13 | C38: =IF($D39="","",IF(IFERROR(VLOOKUP($D39,Atletas!$B$2:$F$101,5,FALSE),"") ="","CLUBE",VLOOKUP($D39,Atletas!$B$2:$F$101,5,FALSE))) | E38: =IF($D39="","",IF(IFERROR(VLOOKUP($D39,Atletas!$B$2:$F$101,3,FALSE),"") ="","DD/MM/AAAA",VLOOKUP($D39,Atletas!$B$2:$F$101,3,FALSE))) | F38: =IF($D39="","",IF(IFERROR(VLOOKUP($D39,Atletas!$B$2:$F$101,4,FALSE),"") ="","Gênero",VLOOKUP($D39,Atletas!$B$2:$F$101,4,FALSE))) | G38: =IF($D39="","",IF(IFERROR(VLOOKUP($D39,Atletas!$B$2:$F$101,2,FALSE),"") ="","Cadastro não encontrado. Digite os dados.",VLOOKUP($D39,Atletas!$B$2:$F$101,2,FALSE))) | I38: =IF(H38="","",IF(VLOOKUP(H38,Geral!$B$13:$D$27,3,FALSE)="<=",IF(YEAR(NOW())-YEAR(E38)>VLOOKUP(H38,Geral!$B$13:$C$27,2,FALSE),"ý","þ"),IF(VLOOKUP(H38,Geral!$B$13:$D$27,3,FALSE)=">=",IF(YEAR(NOW())-YEAR(E38)<VLOOKUP(H38,Geral!$B$13:$C$27,2,FALSE),"ý","þ")))) | K38: =SUM(IF(J38="Sim",IF(H38="",0,IF(OR(H38 = Geral!$A$46,H38 = Geral!$A$48),Geral!$H$13,IF(YEAR(NOW())-YEAR(E38) < 18,Geral!$I$17,Geral!$H$17))),0),IF(H38="",0,IF(OR(H38 = Geral!$A$46,H38 = Geral!$A$48),Geral!$H$13,IF(YEAR(NOW())-YEAR(E38) < 18,Geral!$I$13,Geral!$H$13)))) -> 0 | O38: =G38 | P38: =D39 -> 0 | Q38: =H38 -> 0 | S38: =E38 | T38: =F38 | U38: =A38 -> 0 | V38: =C38
I39: =IF(H39="","",IF(VLOOKUP(H39,Geral!$B$28:$D$41,3,FALSE)="<=",IF(YEAR(NOW())-YEAR(E38)>VLOOKUP(H39,Geral!$B$28:$C$41,2,FALSE),"ý","þ"),IF(VLOOKUP(H39,Geral!$B$28:$D$41,3,FALSE)=">=",IF(YEAR(NOW())-YEAR(E38)<VLOOKUP(H39,Geral!$B$28:$C$41,2,FALSE),"ý","þ")))) | K39: =IF(H39="",0,IF(OR(H39 = Geral!$A$46,H39 = Geral!$A$48),Geral!$H$15,IF(YEAR(NOW())-YEAR(E38) < 18,Geral!$I$15,Geral!$H$15))) -> 0 | M39: =IF(L39="","",IF(VLOOKUP($H39,Geral!$B$28:$D$41,3,FALSE)="<=",IF(YEAR(NOW())-YEAR(VLOOKUP(L39,Atletas!$B$2:$D$101,3,FALSE))>VLOOKUP($H39,Geral!$B$28:$C$41,2,FALSE),"ý","þ"),IF(VLOOKUP($H39,Geral!$B$28:$D$41,3,FALSE)=">=",IF(YEAR(NOW())-YEAR(VLOOKUP(L39,Atletas!$B$2:$D$101,3,FALSE))<VLOOKUP($H39,Geral!$B$28:$C$41,2,FALSE),"ý","þ")))) | N39: =IF($L39="","",IF(IFERROR(VLOOKUP($L39,Atletas!$B$2:$F$101,2,FALSE),"") ="","Cadastro não encontrado. Digite os dados.",VLOOKUP($L39,Atletas!$B$2:$F$101,2,FALSE))) | O39: =G38 | P39: =D39 -> 0 | Q39: =H39 -> 0 | R39: =L39 -> 0 | S39: =E38 | T39: =F38 | U39: =A38 -> 0 | V39: =C38
I40: =IF(H40="","",IF(VLOOKUP(H40,Geral!$B$42:$D$48,3,FALSE)="<=",IF(YEAR(NOW())-YEAR(E38)>VLOOKUP(H40,Geral!$B$42:$C$48,2,FALSE),"ý","þ"),IF(VLOOKUP(H40,Geral!$B$42:$D$48,3,FALSE)=">=",IF(YEAR(NOW())-YEAR(E38)<VLOOKUP(H40,Geral!$B$42:$C$48,2,FALSE),"ý","þ")))) | K40: =IF(H40="",0,IF(OR(H40 = Geral!$A$46,H40 = Geral!$A$48),Geral!$H$15,IF(YEAR(NOW())-YEAR(E38) < 18,Geral!$I$15,Geral!$H$15))) -> 0 | M40: =IF(L40="","",IF(VLOOKUP($H40,Geral!$B$42:$D$48,3,FALSE)="<=",IF(YEAR(NOW())-YEAR(VLOOKUP(L40,Atletas!$B$2:$D$101,3,FALSE))>VLOOKUP($H40,Geral!$B$42:$C$48,2,FALSE),"ý","þ"),IF(VLOOKUP($H40,Geral!$B$42:$D$48,3,FALSE)=">=",IF(YEAR(NOW())-YEAR(VLOOKUP(L40,Atletas!$B$2:$D$101,3,FALSE))<VLOOKUP($H40,Geral!$B$42:$C$48,2,FALSE),"ý","þ")))) | N40: =IF($L40="","",IF(IFERROR(VLOOKUP($L40,Atletas!$B$2:$F$101,2,FALSE),"") ="","Cadastro não encontrado. Digite os dados.",VLOOKUP($L40,Atletas!$B$2:$F$101,2,FALSE))) | O40: =G38 | P40: =D39 -> 0 | Q40: =H40 -> 0 | R40: =L40 -> 0 | S40: =E38 | T40: =F38 | U40: =A38 -> 0 | V40: =C38
...
