Workbook
Name DF: Geral!$B$35:$B$41
Name DM: Geral!$B$28:$B$34
Name DX: Geral!$B$42:$B$48
Name SF: Geral!$B$21:$B$27
Name SM: Geral!$B$13:$B$20

Sheet Geral
B1: FICHA DE INSCRIÇÃO - ETAPA DO ESTADUAL - 2026
A2: TOTAL A PAGAR | B2: Local: | E2: Clube: | H2: Nro. Pessoas para alojamento | J2: Masc.
B3: Data: | E3: Responsável: | J3: Fem.
A4: =SUM(Inscrições!A2:A301) -> 0 | B4: Arbitro Geral: | E4: Técnico: | H4: Horário de chegada:
A6: Passo 1: | B6: Prencher as informações gerais do clube na aba "Geral" | H6: O responsável pelo clube deve preencher todas as inscrições, inserindo uma nova inscrição para cada atleta. Caso formem-se duplas com atletas de outros clubes, esses devem estar cadastrados na aba "Atletas" com os dados idênticos à ficha de inscrição de seu clube de origem.
A7: Passo 2: | B7: Cadastrar os novos atletas na aba "Atletas" | G7: Acessar>
A8: Passo 3: | B8: Inserir as inscrições na aba "Inscrições" | G8: Acessar>
B10: CONFIGURAÇÕES
B11: Categorias | G11: Taxas de Inscrições | J11: * Exceto para menores inscritos na categoria Principal
B12: SIGLA | C12: IDADE | G12: Idade | H12: Adulto | I12: Sub*
D13: <= | G13: Simples | H13: 50 | I13: 35
B14: SM11 | C14: 10 | D14: <=
B15: SM13 | C15: 12 | D15: <= | G15: Dupla | H15: 30 | I15: 30
B16: SM15 | C16: 14 | D16: <=
B17: SM17 | C17: 16 | D17: <= | G17: Filiação | H17: 15 | I17: 15
B18: SM19 | C18: 18 | D18: <=
B19: SM | C19: 0 | D19: >=
B20: SMSenior | C20: 35 | D20: >=
B21: SF11 | C21: 10 | D21: <=
B22: SF13 | C22: 12 | D22: <=
B23: SF15 | C23: 14 | D23: <=
B24: SF17 | C24: 16 | D24: <=
B25: SF19 | C25: 18 | D25: <=
B26: SF | C26: 0 | D26: >=
B27: SFSenior | C27: 35 | D27: >=
B28: DM11 | C28: 10 | D28: <=
B29: DM13 | C29: 12 | D29: <=
... B48: DXSenior | C48: 35 | D48: >=

Sheet Atletas
A1: Seq | B1: CPF | C1: NOME COMPLETO | D1: NASCIMENTO | E1: GENERO | F1: CLUBE | G1: CONTATO | H1: Endereço | I1: CIDADE | J1: ESTADO | K1: EMAIL | L1: Coluna1 | M1: Coluna2
A2: 1
A3: 2
A4: 3
A5: 4
A6: 5
A7: 6
A8: 7
A9: 8
A10: 9
A11: 10
A12: 11
A13: 12
... A300: 299

Sheet Inscrições
A1: VALOR | B1: NÚMERO | C1: CLUBE | D1: CPF | E1: NASCIMENTO | F1: GÊNERO | G1: NOME COMPLETO | H1: CATEGORIA(S) | J1: Filiação | K1: TAXA | L1: CPF DA DUPLA | N1: NOME DA DUPLA | O1: NAME | P1: MEMBER ID | Q1: EVENT | R1: PARTNER ID | S1: DoB | T1: Gender | U1: Paid | V1: Club
A2: =SUM(K2:K4) -> 0 | B2: 1 | C2: =IF($D3="","",IF(IFERROR(VLOOKUP($D3,Atletas!$B$2:$F$101,5,FALSE),"") ="","CLUBE",VLOOKUP($D3,Atletas!$B$2:$F$101,5,FALSE))) | E2: =IF($D3="","",IF(IFERROR(VLOOKUP($D3,Atletas!$B$2:$F$101,3,FALSE),"") ="","DD/MM/AAAA",VLOOKUP($D3,Atletas!$B$2:$F$101,3,FALSE))) | F2: =IF($D3="","",IF(IFERROR(VLOOKUP($D3,Atletas!$B$2:$F$101,4,FALSE),"") ="","Gênero",VLOOKUP($D3,Atletas!$B$2:$F$101,4,FALSE))) | G2: =IF($D3="","",IF(IFERROR(VLOOKUP($D3,Atletas!$B$2:$F$101,2,FALSE),"") ="","Cadastro não encontrado. Digite os dados.",VLOOKUP($D3,Atletas!$B$2:$F$101,2,FALSE))) | I2: =IF(H2="","",IF(VLOOKUP(H2,Geral!$B$13:$D$27,3,FALSE)="<=",IF(YEAR(NOW())-YEAR(E2)>VLOOKUP(H2,Geral!$B$13:$C$27,2,FALSE),"ý","þ"),IF(VLOOKUP(H2,Geral!$B$13:$D$27,3,FALSE)=">=",IF(YEAR(NOW())-YEAR(E2)<VLOOKUP(H2,Geral!$B$13:$C$27,2,FALSE),"ý","þ")))) | K2: =SUM(IF(J2="Sim",IF(H2="",0,IF(OR(H2 = Geral!$A$46,H2 = Geral!$A$48),Geral!$H$13,IF(YEAR(NOW())-YEAR(E2) < 18,Geral!$I$17,Geral!$H$17))),0),IF(H2="",0,IF(OR(H2 = Geral!$A$46,H2 = Geral!$A$48),Geral!$H$13,IF(YEAR(NOW())-YEAR(E2) < 18,Geral!$I$13,Geral!$H$13)))) -> 0 | L2: COLOCAR CPF SEM PONTOS EX: 00011122234 | O2: =G2 | P2: =D3 -> 0 | Q2: =H2 -> 0 | S2: =E2 | T2: =F2 | U2: =K2 -> 0 | V2: =C2
I3: =IF(H3="","",IF(VLOOKUP(H3,Geral!$B$28:$D$41,3,FALSE)="<=",IF(YEAR(NOW())-YEAR(E2)>VLOOKUP(H3,Geral!$B$28:$C$41,2,FALSE),"ý","þ"),IF(VLOOKUP(H3,Geral!$B$28:$D$41,3,FALSE)=">=",IF(YEAR(NOW())-YEAR(E2)<VLOOKUP(H3,Geral!$B$28:$C$41,2,FALSE),"ý","þ")))) | K3: =IF(H3="",0,IF(OR(H3 = Geral!$A$46,H3 = Geral!$A$48),Geral!$H$15,IF(YEAR(NOW())-YEAR(E2) < 18,Geral!$I$15,Geral!$H$15))) -> 0 | M3: =IF(L3="","",IF(VLOOKUP($H3,Geral!$B$28:$D$41,3,FALSE)="<=",IF(YEAR(NOW())-YEAR(VLOOKUP(L3,Atletas!$B$2:$D$101,3,FALSE))>VLOOKUP($H3,Geral!$B$28:$C$41,2,FALSE),"ý","þ"),IF(VLOOKUP($H3,Geral!$B$28:$D$41,3,FALSE)=">=",IF(YEAR(NOW())-YEAR(VLOOKUP(L3,Atletas!$B$2:$D$101,3,FALSE))<VLOOKUP($H3,Geral!$B$28:$C$41,2,FALSE),"ý","þ")))) | N3: =IF($L3="","",IF(IFERROR(VLOOKUP($L3,Atletas!$B$2:$F$101,2,FALSE),"") ="","Cadastro não encontrado. Digite os dados.",VLOOKUP($L3,Atletas!$B$2:$F$101,2,FALSE))) | O3: =G2 | P3: =D3 -> 0 | Q3: =H3 -> 0 | R3: =L3 -> 0 | S3: =E2 | T3: =F2 | U3: =K3 -> 0 | V3: =C2
I4: =IF(H4="","",IF(VLOOKUP(H4,Geral!$B$42:$D$48,3,FALSE)="<=",IF(YEAR(NOW())-YEAR(E2)>VLOOKUP(H4,Geral!$B$42:$C$48,2,FALSE),"ý","þ"),IF(VLOOKUP(H4,Geral!$B$42:$D$48,3,FALSE)=">=",IF(YEAR(NOW())-YEAR(E2)<VLOOKUP(H4,Geral!$B$42:$C$48,2,FALSE),"ý","þ")))) | K4: =IF(H4="",0,IF(OR(H4 = Geral!$A$46,H4 = Geral!$A$48),Geral!$H$15,IF(YEAR(NOW())-YEAR(E2) < 18,Geral!$I$15,Geral!$H$15))) -> 0 | M4: =IF(L4="","",IF(VLOOKUP($H4,Geral!$B$42:$D$48,3,FALSE)="<=",IF(YEAR(NOW())-YEAR(VLOOKUP(L4,Atletas!$B$2:$D$101,3,FALSE))>VLOOKUP($H4,Geral!$B$42:$C$48,2,FALSE),"ý","þ"),IF(VLOOKUP($H4,Geral!$B$42:$D$48,3,FALSE)=">=",IF(YEAR(NOW())-YEAR(VLOOKUP(L4,Atletas!$B$2:$D$101,3,FALSE))<VLOOKUP($H4,Geral!$B$42:$C$48,2,FALSE),"ý","þ")))) | N4: =IF($L4="","",IF(IFERROR(VLOOKUP($L4,Atletas!$B$2:$F$101,2,FALSE),"") ="","Cadastro não encontrado. Digite os dados.",VLOOKUP($L4,Atletas!$B$2:$F$101,2,FALSE))) | O4: =G2 | P4: =D3 -> 0 | Q4: =H4 -> 0 | R4: =L4 -> 0 | S4: =E2 | T4: =F2 | U4: =K4 -> 0 | V4: =C2
A5: =SUM(K5:K7) -> 0 | B5: 2 | C5: =IF($D6="","",IF(IFERROR(VLOOKUP($D6,Atletas!$B$2:$F$101,5,FALSE),"") ="","CLUBE",VLOOKUP($D6,Atletas!$B$2:$F$101,5,FALSE))) | E5: =IF($D6="","",IF(IFERROR(VLOOKUP($D6,Atletas!$B$2:$F$101,3,FALSE),"") ="","DD/MM/AAAA",VLOOKUP($D6,Atletas!$B$2:$F$101,3,FALSE))) | F5: =IF($D6="","",IF(IFERROR(VLOOKUP($D6,Atletas!$B$2:$F$101,4,FALSE),"") ="","Gênero",VLOOKUP($D6,Atletas!$B$2:$F$101,4,FALSE))) | G5: =IF($D6="","",IF(IFERROR(VLOOKUP($D6,Atletas!$B$2:$F$101,2,FALSE),"") ="","Cadastro não encontrado. Digite os dados.",VLOOKUP($D6,Atletas!$B$2:$F$101,2,FALSE))) | I5: =IF(H5="","",IF(VLOOKUP(H5,Geral!$B$13:$D$27,3,FALSE)="<=",IF(YEAR(NOW())-YEAR(E5)>VLOOKUP(H5,Geral!$B$13:$C$27,2,FALSE),"ý","þ"),IF(VLOOKUP(H5,Geral!$B$13:$D$27,3,FALSE)=">=",IF(YEAR(NOW())-YEAR(E5)<VLOOKUP(H5,Geral!$B$13:$C$27,2,FALSE),"ý","þ")))) | K5: =SUM(IF(J5="Sim",IF(H5="",0,IF(OR(H5 = Geral!$A$46,H5 = Geral!$A$48),Geral!$H$13,IF(YEAR(NOW())-YEAR(E5) < 18,Geral!$I$17,Geral!$H$17))),0),IF(H5="",0,IF(OR(H5 = Geral!$A$46,H5 = Geral!$A$48),Geral!$H$13,IF(YEAR(NOW())-YEAR(E5) < 18,Geral!$I$13,Geral!$H$13)))) -> 0 | O5: =G5 | P5: =D6 -> 0 | Q5: =H5 -> 0 | S5: =E5 | T5: =F5 | U5: =A5 -> 0 | V5: =C5
I6: =IF(H6="","",IF(VLOOKUP(H6,Geral!$B$28:$D$41,3,FALSE)="<=",IF(YEAR(NOW())-YEAR(E5)>VLOOKUP(H6,Geral!$B$28:$C$41,2,FALSE),"ý","þ"),IF(VLOOKUP(H6,Geral!$B$28:$D$41,3,FALSE)=">=",IF(YEAR(NOW())-YEAR(E5)<VLOOKUP(H6,Geral!$B$28:$C$41,2,FALSE),"ý","þ")))) | K6: =IF(H6="",0,IF(OR(H6 = Geral!$A$46,H6 = Geral!$A$48),Geral!$H$15,IF(YEAR(NOW())-YEAR(E5) < 18,Geral!$I$15,Geral!$H$15))) -> 0 | M6: =IF(L6="","",IF(VLOOKUP($H6,Geral!$B$28:$D$41,3,FALSE)="<=",IF(YEAR(NOW())-YEAR(VLOOKUP(L6,Atletas!$B$2:$D$101,3,FALSE))>VLOOKUP($H6,Geral!$B$28:$C$41,2,FALSE),"ý","þ"),IF(VLOOKUP($H6,Geral!$B$28:$D$41,3,FALSE)=">=",IF(YEAR(NOW())-YEAR(VLOOKUP(L6,Atletas!$B$2:$D$101,3,FALSE))<VLOOKUP($H6,Geral!$B$28:$C$41,2,FALSE),"ý","þ")))) | N6: =IF($L6="","",IF(IFERROR(VLOOKUP($L6,Atletas!$B$2:$F$101,2,FALSE),"") ="","Cadastro não encontrado. Digite os dados.",VLOOKUP($L6,Atletas!$B$2:$F$101,2,FALSE))) | O6: =G5 | P6: =D6 -> 0 | Q6: =H6 -> 0 | R6: =L6 -> 0 | S6: =E5 | T6: =F5 | U6: =A5 -> 0 | V6: =C5
I7: =IF(H7="","",IF(VLOOKUP(H7,Geral!$B$42:$D$48,3,FALSE)="<=",IF(YEAR(NOW())-YEAR(E5)>VLOOKUP(H7,Geral!$B$42:$C$48,2,FALSE),"ý","þ"),IF(VLOOKUP(H7,Geral!$B$42:$D$48,3,FALSE)=">=",IF(YEAR(NOW())-YEAR(E5)<VLOOKUP(H7,Geral!$B$42:$C$48,2,FALSE),"ý","þ")))) | K7: =IF(H7="",0,IF(OR(H7 = Geral!$A$46,H7 = Geral!$A$48),Geral!$H$15,IF(YEAR(NOW())-YEAR(E5) < 18,Geral!$I$15,Geral!$H$15))) -> 0 | M7: =IF(L7="","",IF(VLOOKUP($H7,Geral!$B$42:$D$48,3,FALSE)="<=",IF(YEAR(NOW())-YEAR(VLOOKUP(L7,Atletas!$B$2:$D$101,3,FALSE))>VLOOKUP($H7,Geral!$B$42:$C$48,2,FALSE),"ý","þ"),IF(VLOOKUP($H7,Geral!$B$42:$D$48,3,FALSE)=">=",IF(YEAR(NOW())-YEAR(VLOOKUP(L7,Atletas!$B$2:$D$101,3,FALSE))<VLOOKUP($H7,Geral!$B$42:$C$48,2,FALSE),"ý","þ")))) | N7: =IF($L7="","",IF(IFERROR(VLOOKUP($L7,Atletas!$B$2:$F$101,2,FALSE),"") ="","Cadastro não encontrado. Digite os dados.",VLOOKUP($L7,Atletas!$B$2:$F$101,2,FALSE))) | O7: =G5 | P7: =D6 -> 0 | Q7: =H7 -> 0 | R7: =L7 -> 0 | S7: =E5 | T7: =F5 | U7: =A5 -> 0 | V7: =C5
A8: =SUM(K8:K10) -> 0 | B8: 3 | C8: =IF($D9="","",IF(IFERROR(VLOOKUP($D9,Atletas!$B$2:$F$101,5,FALSE),"") ="","CLUBE",VLOOKUP($D9,Atletas!$B$2:$F$101,5,FALSE))) | E8: =IF($D9="","",IF(IFERROR(VLOOKUP($D9,Atletas!$B$2:$F$101,3,FALSE),"") ="","DD/MM/AAAA",VLOOKUP($D9,Atletas!$B$2:$F$101,3,FALSE))) | F8: =IF($D9="","",IF(IFERROR(VLOOKUP($D9,Atletas!$B$2:$F$101,4,FALSE),"") ="","Gênero",VLOOKUP($D9,Atletas!$B$2:$F$101,4,FALSE))) | G8: =IF($D9="","",IF(IFERROR(VLOOKUP($D9,Atletas!$B$2:$F$101,2,FALSE),"") ="","Cadastro não encontrado. Digite os dados.",VLOOKUP($D9,Atletas!$B$2:$F$101,2,FALSE))) | I8: =IF(H8="","",IF(VLOOKUP(H8,Geral!$B$13:$D$27,3,FALSE)="<=",IF(YEAR(NOW())-YEAR(E8)>VLOOKUP(H8,Geral!$B$13:$C$27,2,FALSE),"ý","þ"),IF(VLOOKUP(H8,Geral!$B$13:$D$27,3,FALSE)=">=",IF(YEAR(NOW())-YEAR(E8)<VLOOKUP(H8,Geral!$B$13:$C$27,2,FALSE),"ý","þ")))) | K8: =SUM(IF(J8="Sim",IF(H8="",0,IF(OR(H8 = Geral!$A$46,H8 = Geral!$A$48),Geral!$H$13,IF(YEAR(NOW())-YEAR(E8) < 18,Geral!$I$17,Geral!$H$17))),0),IF(H8="",0,IF(OR(H8 = Geral!$A$46,H8 = Geral!$A$48),Geral!$H$13,IF(YEAR(NOW())-YEAR(E8) < 18,Geral!$I$13,Geral!$H$13)))) -> 0 | O8: =G8 | P8: =D9 -> 0 | Q8: =H8 -> 0 | S8: =E8 | T8: =F8 | U8: =A8 -> 0 | V8: =C8
I9: =IF(H9="","",IF(VLOOKUP(H9,Geral!$B$28:$D$41,3,FALSE)="<=",IF(YEAR(NOW())-YEAR(E8)>VLOOKUP(H9,Geral!$B$28:$C$41,2,FALSE),"ý","þ"),IF(VLOOKUP(H9,Geral!$B$28:$D$41,3,FALSE)=">=",IF(YEAR(NOW())-YEAR(E8)<VLOOKUP(H9,Geral!$B$28:$C$41,2,FALSE),"ý","þ")))) | K9: =IF(H9="",0,IF(OR(H9 = Geral!$A$46,H9 = Geral!$A$48),Geral!$H$15,IF(YEAR(NOW())-YEAR(E8) < 18,Geral!$I$15,Geral!$H$15))) -> 0 | M9: =IF(L9="","",IF(VLOOKUP($H9,Geral!$B$28:$D$41,3,FALSE)="<=",IF(YEAR(NOW())-YEAR(VLOOKUP(L9,Atletas!$B$2:$D$101,3,FALSE))>VLOOKUP($H9,Geral!$B$28:$C$41,2,FALSE),"ý","þ"),IF(VLOOKUP($H9,Geral!$B$28:$D$41,3,FALSE)=">=",IF(YEAR(NOW())-YEAR(VLOOKUP(L9,Atletas!$B$2:$D$101,3,FALSE))<VLOOKUP($H9,Geral!$B$28:$C$41,2,FALSE),"ý","þ")))) | N9: =IF($L9="","",IF(IFERROR(VLOOKUP($L9,Atletas!$B$2:$F$101,2,FALSE),"") ="","Cadastro não encontrado. Digite os dados.",VLOOKUP($L9,Atletas!$B$2:$F$101,2,FALSE))) | O9: =G8 | P9: =D9 -> 0 | Q9: =H9 -> 0 | R9: =L9 -> 0 | S9: =E8 | T9: =F8 | U9: =A8 -> 0 | V9: =C8
I10: =IF(H10="","",IF(VLOOKUP(H10,Geral!$B$42:$D$48,3,FALSE)="<=",IF(YEAR(NOW())-YEAR(E8)>VLOOKUP(H10,Geral!$B$42:$C$48,2,FALSE),"ý","þ"),IF(VLOOKUP(H10,Geral!$B$42:$D$48,3,FALSE)=">=",IF(YEAR(NOW())-YEAR(E8)<VLOOKUP(H10,Geral!$B$42:$C$48,2,FALSE),"ý","þ")))) | K10: =IF(H10="",0,IF(OR(H10 = Geral!$A$46,H10 = Geral!$A$48),Geral!$H$15,IF(YEAR(NOW())-YEAR(E8) < 18,Geral!$I$15,Geral!$H$15))) -> 0 | M10: =IF(L10="","",IF(VLOOKUP($H10,Geral!$B$42:$D$48,3,FALSE)="<=",IF(YEAR(NOW())-YEAR(VLOOKUP(L10,Atletas!$B$2:$D$101,3,FALSE))>VLOOKUP($H10,Geral!$B$42:$C$48,2,FALSE),"ý","þ"),IF(VLOOKUP($H10,Geral!$B$42:$D$48,3,FALSE)=">=",IF(YEAR(NOW())-YEAR(VLOOKUP(L10,Atletas!$B$2:$D$101,3,FALSE))<VLOOKUP($H10,Geral!$B$42:$C$48,2,FALSE),"ý","þ")))) | N10: =IF($L10="","",IF(IFERROR(VLOOKUP($L10,Atletas!$B$2:$F$101,2,FALSE),"") ="","Cadastro não encontrado. Digite os dados.",VLOOKUP($L10,Atletas!$B$2:$F$101,2,FALSE))) | O10: =G8 | P10: =D9 -> 0 | Q10: =H10 -> 0 | R10: =L10 -> 0 | S10: =E8 | T10: =F8 | U10: =A8 -> 0 | V10: =C8
A11: =SUM(K11:K13) -> 0 | B11: 4 | C11: =IF($D12="","",IF(IFERROR(VLOOKUP($D12,Atletas!$B$2:$F$101,5,FALSE),"") ="","CLUBE",VLOOKUP($D12,Atletas!$B$2:$F$101,5,FALSE))) | E11: =IF($D12="","",IF(IFERROR(VLOOKUP($D12,Atletas!$B$2:$F$101,3,FALSE),"") ="","DD/MM/AAAA",VLOOKUP($D12,Atletas!$B$2:$F$101,3,FALSE))) | F11: =IF($D12="","",IF(IFERROR(VLOOKUP($D12,Atletas!$B$2:$F$101,4,FALSE),"") ="","Gênero",VLOOKUP($D12,Atletas!$B$2:$F$101,4,FALSE))) | G11: =IF($D12="","",IF(IFERROR(VLOOKUP($D12,Atletas!$B$2:$F$101,2,FALSE),"") ="","Cadastro não encontrado. Digite os dados.",VLOOKUP($D12,Atletas!$B$2:$F$101,2,FALSE))) | I11: =IF(H11="","",IF(VLOOKUP(H11,Geral!$B$13:$D$27,3,FALSE)="<=",IF(YEAR(NOW())-YEAR(E11)>VLOOKUP(H11,Geral!$B$13:$C$27,2,FALSE),"ý","þ"),IF(VLOOKUP(H11,Geral!$B$13:$D$27,3,FALSE)=">=",IF(YEAR(NOW())-YEAR(E11)<VLOOKUP(H11,Geral!$B$13:$C$27,2,FALSE),"ý","þ")))) | K11: =SUM(IF(J11="Sim",IF(H11="",0,IF(OR(H11 = Geral!$A$46,H11 = Geral!$A$48),Geral!$H$13,IF(YEAR(NOW())-YEAR(E11) < 18,Geral!$I$17,Geral!$H$17))),0),IF(H11="",0,IF(OR(H11 = Geral!$A$46,H11 = Geral!$A$48),Geral!$H$13,IF(YEAR(NOW())-YEAR(E11) < 18,Geral!$I$13,Geral!$H$13)))) -> 0 | O11: =G11 | P11: =D12 -> 0 | Q11: =H11 -> 0 | S11: =E11 | T11: =F11 | U11: =A11 -> 0 | V11: =C11
I12: =IF(H12="","",IF(VLOOKUP(H12,Geral!$B$28:$D$41,3,FALSE)="<=",IF(YEAR(NOW())-YEAR(E11)>VLOOKUP(H12,Geral!$B$28:$C$41,2,FALSE),"ý","þ"),IF(VLOOKUP(H12,Geral!$B$28:$D$41,3,FALSE)=">=",IF(YEAR(NOW())-YEAR(E11)<VLOOKUP(H12,Geral!$B$28:$C$41,2,FALSE),"ý","þ")))) | K12: =IF(H12="",0,IF(OR(H12 = Geral!$A$46,H12 = Geral!$A$48),Geral!$H$15,IF(YEAR(NOW())-YEAR(E11) < 18,Geral!$I$15,Geral!$H$15))) -> 0 | M12: =IF(L12="","",IF(VLOOKUP($H12,Geral!$B$28:$D$41,3,FALSE)="<=",IF(YEAR(NOW())-YEAR(VLOOKUP(L12,Atletas!$B$2:$D$101,3,FALSE))>VLOOKUP($H12,Geral!$B$28:$C$41,2,FALSE),"ý","þ"),IF(VLOOKUP($H12,Geral!$B$28:$D$41,3,FALSE)=">=",IF(YEAR(NOW())-YEAR(VLOOKUP(L12,Atletas!$B$2:$D$101,3,FALSE))<VLOOKUP($H12,Geral!$B$28:$C$41,2,FALSE),"ý","þ")))) | N12: =IF($L12="","",IF(IFERROR(VLOOKUP($L12,Atletas!$B$2:$F$101,2,FALSE),"") ="","Cadastro não encontrado. Digite os dados.",VLOOKUP($L12,Atletas!$B$2:$F$101,2,FALSE))) | O12: =G11 | P12: =D12 -> 0 | Q12: =H12 -> 0 | R12: =L12 -> 0 | S12: =E11 | T12: =F11 | U12: =A11 -> 0 | V12: =C11
I13: =IF(H13="","",IF(VLOOKUP(H13,Geral!$B$42:$D$48,3,FALSE)="<=",IF(YEAR(NOW())-YEAR(E11)>VLOOKUP(H13,Geral!$B$42:$C$48,2,FALSE),"ý","þ"),IF(VLOOKUP(H13,Geral!$B$42:$D$48,3,FALSE)=">=",IF(YEAR(NOW())-YEAR(E11)<VLOOKUP(H13,Geral!$B$42:$C$48,2,FALSE),"ý","þ")))) | K13: =IF(H13="",0,IF(OR(H13 = Geral!$A$46,H13 = Geral!$A$48),Geral!$H$15,IF(YEAR(NOW())-YEAR(E11) < 18,Geral!$I$15,Geral!$H$15))) -> 0 | M13: =IF(L13="","",IF(VLOOKUP($H13,Geral!$B$42:$D$48,3,FALSE)="<=",IF(YEAR(NOW())-YEAR(VLOOKUP(L13,Atletas!$B$2:$D$101,3,FALSE))>VLOOKUP($H13,Geral!$B$42:$C$48,2,FALSE),"ý","þ"),IF(VLOOKUP($H13,Geral!$B$42:$D$48,3,FALSE)=">=",IF(YEAR(NOW())-YEAR(VLOOKUP(L13,Atletas!$B$2:$D$101,3,FALSE))<VLOOKUP($H13,Geral!$B$42:$C$48,2,FALSE),"ý","þ")))) | N13: =IF($L13="","",IF(IFERROR(VLOOKUP($L13,Atletas!$B$2:$F$101,2,FALSE),"") ="","Cadastro não encontrado. Digite os dados.",VLOOKUP($L13,Atletas!$B$2:$F$101,2,FALSE))) | O13: =G11 | P13: =D12 -> 0 | Q13: =H13 -> 0 | R13: =L13 -> 0 | S13: =E11 | T13: =F11 | U13: =A11 -> 0 | V13: =C11
A14: =SUM(K14:K16) -> 0 | B14: 5 | C14: =IF($D15="","",IF(IFERROR(VLOOKUP($D15,Atletas!$B$2:$F$101,5,FALSE),"") ="","CLUBE",VLOOKUP($D15,Atletas!$B$2:$F$101,5,FALSE))) | E14: =IF($D15="","",IF(IFERROR(VLOOKUP($D15,Atletas!$B$2:$F$101,3,FALSE),"") ="","DD/MM/AAAA",VLOOKUP($D15,Atletas!$B$2:$F$101,3,FALSE))) | F14: =IF($D15="","",IF(IFERROR(VLOOKUP($D15,Atletas!$B$2:$F$101,4,FALSE),"") ="","Gênero",VLOOKUP($D15,Atletas!$B$2:$F$101,4,FALSE))) | G14: =IF($D15="","",IF(IFERROR(VLOOKUP($D15,Atletas!$B$2:$F$101,2,FALSE),"") ="","Cadastro não encontrado. Digite os dados.",VLOOKUP($D15,Atletas!$B$2:$F$101,2,FALSE))) | I14: =IF(H14="","",IF(VLOOKUP(H14,Geral!$B$13:$D$27,3,FALSE)="<=",IF(YEAR(NOW())-YEAR(E14)>VLOOKUP(H14,Geral!$B$13:$C$27,2,FALSE),"ý","þ"),IF(VLOOKUP(H14,Geral!$B$13:$D$27,3,FALSE)=">=",IF(YEAR(NOW())-YEAR(E14)<VLOOKUP(H14,Geral!$B$13:$C$27,2,FALSE),"ý","þ")))) | K14: =SUM(IF(J14="Sim",IF(H14="",0,IF(OR(H14 = Geral!$A$46,H14 = Geral!$A$48),Geral!$H$13,IF(YEAR(NOW())-YEAR(E14) < 18,Geral!$I$17,Geral!$H$17))),0),IF(H14="",0,IF(OR(H14 = Geral!$A$46,H14 = Geral!$A$48),Geral!$H$13,IF(YEAR(NOW())-YEAR(E14) < 18,Geral!$I$13,Geral!$H$13)))) -> 0 | O14: =G14 | P14: =D15 -> 0 | Q14: =H14 -> 0 | S14: =E14 | T14: =F14 | U14: =A14 -> 0 | V14: =C14
I15: =IF(H15="","",IF(VLOOKUP(H15,Geral!$B$28:$D$41,3,FALSE)="<=",IF(YEAR(NOW())-YEAR(E14)>VLOOKUP(H15,Geral!$B$28:$C$41,2,FALSE),"ý","þ"),IF(VLOOKUP(H15,Geral!$B$28:$D$41,3,FALSE)=">=",IF(YEAR(NOW())-YEAR(E14)<VLOOKUP(H15,Geral!$B$28:$C$41,2,FALSE),"ý","þ")))) | K15: =IF(H15="",0,IF(OR(H15 = Geral!$A$46,H15 = Geral!$A$48),Geral!$H$15,IF(YEAR(NOW())-YEAR(E14) < 18,Geral!$I$15,Geral!$H$15))) -> 0 | M15: =IF(L15="","",IF(VLOOKUP($H15,Geral!$B$28:$D$41,3,FALSE)="<=",IF(YEAR(NOW())-YEAR(VLOOKUP(L15,Atletas!$B$2:$D$101,3,FALSE))>VLOOKUP($H15,Geral!$B$28:$C$41,2,FALSE),"ý","þ"),IF(VLOOKUP($H15,Geral!$B$28:$D$41,3,FALSE)=">=",IF(YEAR(NOW())-YEAR(VLOOKUP(L15,Atletas!$B$2:$D$101,3,FALSE))<VLOOKUP($H15,Geral!$B$28:$C$41,2,FALSE),"ý","þ")))) | N15: =IF($L15="","",IF(IFERROR(VLOOKUP($L15,Atletas!$B$2:$F$101,2,FALSE),"") ="","Cadastro não encontrado. Digite os dados.",VLOOKUP($L15,Atletas!$B$2:$F$101,2,FALSE))) | O15: =G14 | P15: =D15 -> 0 | Q15: =H15 -> 0 | R15: =L15 -> 0 | S15: =E14 | T15: =F14 | U15: =A14 -> 0 | V15: =C14
I16: =IF(H16="","",IF(VLOOKUP(H16,Geral!$B$42:$D$48,3,FALSE)="<=",IF(YEAR(NOW())-YEAR(E14)>VLOOKUP(H16,Geral!$B$42:$C$48,2,FALSE),"ý","þ"),IF(VLOOKUP(H16,Geral!$B$42:$D$48,3,FALSE)=">=",IF(YEAR(NOW())-YEAR(E14)<VLOOKUP(H16,Geral!$B$42:$C$48,2,FALSE),"ý","þ")))) | K16: =IF(H16="",0,IF(OR(H16 = Geral!$A$46,H16 = Geral!$A$48),Geral!$H$15,IF(YEAR(NOW())-YEAR(E14) < 18,Geral!$I$15,Geral!$H$15))) -> 0 | M16: =IF(L16="","",IF(VLOOKUP($H16,Geral!$B$42:$D$48,3,FALSE)="<=",IF(YEAR(NOW())-YEAR(VLOOKUP(L16,Atletas!$B$2:$D$101,3,FALSE))>VLOOKUP($H16,Geral!$B$42:$C$48,2,FALSE),"ý","þ"),IF(VLOOKUP($H16,Geral!$B$42:$D$48,3,FALSE)=">=",IF(YEAR(NOW())-YEAR(VLOOKUP(L16,Atletas!$B$2:$D$101,3,FALSE))<VLOOKUP($H16,Geral!$B$42:$C$48,2,FALSE),"ý","þ")))) | N16: =IF($L16="","",IF(IFERROR(VLOOKUP($L16,Atletas!$B$2:$F$101,2,FALSE),"") ="","Cadastro não encontrado. Digite os dados.",VLOOKUP($L16,Atletas!$B$2:$F$101,2,FALSE))) | O16: =G14 | P16: =D15 -> 0 | Q16: =H16 -> 0 | R16: =L16 -> 0 | S16: =E14 | T16: =F14 | U16: =A14 -> 0 | V16: =C14
A17: =SUM(K17:K19) -> 0 | B17: 6 | C17: =IF($D18="","",IF(IFERROR(VLOOKUP($D18,Atletas!$B$2:$F$101,5,FALSE),"") ="","CLUBE",VLOOKUP($D18,Atletas!$B$2:$F$101,5,FALSE))) | E17: =IF($D18="","",IF(IFERROR(VLOOKUP($D18,Atletas!$B$2:$F$101,3,FALSE),"") ="","DD/MM/AAAA",VLOOKUP($D18,Atletas!$B$2:$F$101,3,FALSE))) | F17: =IF($D18="","",IF(IFERROR(VLOOKUP($D18,Atletas!$B$2:$F$101,4,FALSE),"") ="","Gênero",VLOOKUP($D18,Atletas!$B$2:$F$101,4,FALSE))) | G17: =IF($D18="","",IF(IFERROR(VLOOKUP($D18,Atletas!$B$2:$F$101,2,FALSE),"") ="","Cadastro não encontrado. Digite os dados.",VLOOKUP($D18,Atletas!$B$2:$F$101,2,FALSE))) | I17: =IF(H17="","",IF(VLOOKUP(H17,Geral!$B$13:$D$27,3,FALSE)="<=",IF(YEAR(NOW())-YEAR(E17)>VLOOKUP(H17,Geral!$B$13:$C$27,2,FALSE),"ý","þ"),IF(VLOOKUP(H17,Geral!$B$13:$D$27,3,FALSE)=">=",IF(YEAR(NOW())-YEAR(E17)<VLOOKUP(H17,Geral!$B$13:$C$27,2,FALSE),"ý","þ")))) | K17: =SUM(IF(J17="Sim",IF(H17="",0,IF(OR(H17 = Geral!$A$46,H17 = Geral!$A$48),Geral!$H$13,IF(YEAR(NOW())-YEAR(E17) < 18,Geral!$I$17,Geral!$H$17))),0),IF(H17="",0,IF(OR(H17 = Geral!$A$46,H17 = Geral!$A$48),Geral!$H$13,IF(YEAR(NOW())-YEAR(E17) < 18,Geral!$I$13,Geral!$H$13)))) -> 0 | O17: =G17 | P17: =D18 -> 0 | Q17: =H17 -> 0 | S17: =E17 | T17: =F17 | U17: =A17 -> 0 | V17: =C17
I18: =IF(H18="","",IF(VLOOKUP(H18,Geral!$B$28:$D$41,3,FALSE)="<=",IF(YEAR(NOW())-YEAR(E17)>VLOOKUP(H18,Geral!$B$28:$C$41,2,FALSE),"ý","þ"),IF(VLOOKUP(H18,Geral!$B$28:$D$41,3,FALSE)=">=",IF(YEAR(NOW())-YEAR(E17)<VLOOKUP(H18,Geral!$B$28:$C$41,2,FALSE),"ý","þ")))) | K18: =IF(H18="",0,IF(OR(H18 = Geral!$A$46,H18 = Geral!$A$48),Geral!$H$15,IF(YEAR(NOW())-YEAR(E17) < 18,Geral!$I$15,Geral!$H$15))) -> 0 | M18: =IF(L18="","",IF(VLOOKUP($H18,Geral!$B$28:$D$41,3,FALSE)="<=",IF(YEAR(NOW())-YEAR(VLOOKUP(L18,Atletas!$B$2:$D$101,3,FALSE))>VLOOKUP($H18,Geral!$B$28:$C$41,2,FALSE),"ý","þ"),IF(VLOOKUP($H18,Geral!$B$28:$D$41,3,FALSE)=">=",IF(YEAR(NOW())-YEAR(VLOOKUP(L18,Atletas!$B$2:$D$101,3,FALSE))<VLOOKUP($H18,Geral!$B$28:$C$41,2,FALSE),"ý","þ")))) | N18: =IF($L18="","",IF(IFERROR(VLOOKUP($L18,Atletas!$B$2:$F$101,2,FALSE),"") ="","Cadastro não encontrado. Digite os dados.",VLOOKUP($L18,Atletas!$B$2:$F$101,2,FALSE))) | O18: =G17 | P18: =D18 -> 0 | Q18: =H18 -> 0 | R18: =L18 -> 0 | S18: =E17 | T18: =F17 | U18: =A17 -> 0 | V18: =C17
I19: =IF(H19="","",IF(VLOOKUP(H19,Geral!$B$42:$D$48,3,FALSE)="<=",IF(YEAR(NOW())-YEAR(E17)>VLOOKUP(H19,Geral!$B$42:$C$48,2,FALSE),"ý","þ"),IF(VLOOKUP(H19,Geral!$B$42:$D$48,3,FALSE)=">=",IF(YEAR(NOW())-YEAR(E17)<VLOOKUP(H19,Geral!$B$42:$C$48,2,FALSE),"ý","þ")))) | K19: =IF(H19="",0,IF(OR(H19 = Geral!$A$46,H19 = Geral!$A$48),Geral!$H$15,IF(YEAR(NOW())-YEAR(E17) < 18,Geral!$I$15,Geral!$H$15))) -> 0 | M19: =IF(L19="","",IF(VLOOKUP($H19,Geral!$B$42:$D$48,3,FALSE)="<=",IF(YEAR(NOW())-YEAR(VLOOKUP(L19,Atletas!$B$2:$D$101,3,FALSE))>VLOOKUP($H19,Geral!$B$42:$C$48,2,FALSE),"ý","þ"),IF(VLOOKUP($H19,Geral!$B$42:$D$48,3,FALSE)=">=",IF(YEAR(NOW())-YEAR(VLOOKUP(L19,Atletas!$B$2:$D$101,3,FALSE))<VLOOKUP($H19,Geral!$B$42:$C$48,2,FALSE),"ý","þ")))) | N19: =IF($L19="","",IF(IFERROR(VLOOKUP($L19,Atletas!$B$2:$F$101,2,FALSE),"") ="","Cadastro não encontrado. Digite os dados.",VLOOKUP($L19,Atletas!$B$2:$F$101,2,FALSE))) | O19: =G17 | P19: =D18 -> 0 | Q19: =H19 -> 0 | R19: =L19 -> 0 | S19: =E17 | T19: =F17 | U19: =A17 -> 0 | V19: =C17
A20: =SUM(K20:K22) -> 0 | B20: 7 | C20: =IF($D21="","",IF(IFERROR(VLOOKUP($D21,Atletas!$B$2:$F$101,5,FALSE),"") ="","CLUBE",VLOOKUP($D21,Atletas!$B$2:$F$101,5,FALSE))) | E20: =IF($D21="","",IF(IFERROR(VLOOKUP($D21,Atletas!$B$2:$F$101,3,FALSE),"") ="","DD/MM/AAAA",VLOOKUP($D21,Atletas!$B$2:$F$101,3,FALSE))) | F20: =IF($D21="","",IF(IFERROR(VLOOKUP($D21,Atletas!$B$2:$F$101,4,FALSE),"") ="","Gênero",VLOOKUP($D21,Atletas!$B$2:$F$101,4,FALSE))) | G20: =IF($D21="","",IF(IFERROR(VLOOKUP($D21,Atletas!$B$2:$F$101,2,FALSE),"") ="","Cadastro não encontrado. Digite os dados.",VLOOKUP($D21,Atletas!$B$2:$F$101,2,FALSE))) | I20: =IF(H20="","",IF(VLOOKUP(H20,Geral!$B$13:$D$27,3,FALSE)="<=",IF(YEAR(NOW())-YEAR(E20)>VLOOKUP(H20,Geral!$B$13:$C$27,2,FALSE),"ý","þ"),IF(VLOOKUP(H20,Geral!$B$13:$D$27,3,FALSE)=">=",IF(YEAR(NOW())-YEAR(E20)<VLOOKUP(H20,Geral!$B$13:$C$27,2,FALSE),"ý","þ")))) | K20: =SUM(IF(J20="Sim",IF(H20="",0,IF(OR(H20 = Geral!$A$46,H20 = Geral!$A$48),Geral!$H$13,IF(YEAR(NOW())-YEAR(E20) < 18,Geral!$I$17,Geral!$H$17))),0),IF(H20="",0,IF(OR(H20 = Geral!$A$46,H20 = Geral!$A$48),Geral!$H$13,IF(YEAR(NOW())-YEAR(E20) < 18,Geral!$I$13,Geral!$H$13)))) -> 0 | O20: =G20 | P20: =D21 -> 0 | Q20: =H20 -> 0 | S20: =E20 | T20: =F20 | U20: =A20 -> 0 | V20: =C20
I21: =IF(H21="","",IF(VLOOKUP(H21,Geral!$B$28:$D$41,3,FALSE)="<=",IF(YEAR(NOW())-YEAR(E20)>VLOOKUP(H21,Geral!$B$28:$C$41,2,FALSE),"ý","þ"),IF(VLOOKUP(H21,Geral!$B$28:$D$41,3,FALSE)=">=",IF(YEAR(NOW())-YEAR(E20)<VLOOKUP(H21,Geral!$B$28:$C$41,2,FALSE),"ý","þ")))) | K21: =IF(H21="",0,IF(OR(H21 = Geral!$A$46,H21 = Geral!$A$48),Geral!$H$15,IF(YEAR(NOW())-YEAR(E20) < 18,Geral!$I$15,Geral!$H$15))) -> 0 | M21: =IF(L21="","",IF(VLOOKUP($H21,Geral!$B$28:$D$41,3,FALSE)="<=",IF(YEAR(NOW())-YEAR(VLOOKUP(L21,Atletas!$B$2:$D$101,3,FALSE))>VLOOKUP($H21,Geral!$B$28:$C$41,2,FALSE),"ý","þ"),IF(VLOOKUP($H21,Geral!$B$28:$D$41,3,FALSE)=">=",IF(YEAR(NOW())-YEAR(VLOOKUP(L21,Atletas!$B$2:$D$101,3,FALSE))<VLOOKUP($H21,Geral!$B$28:$C$41,2,FALSE),"ý","þ")))) | N21: =IF($L21="","",IF(IFERROR(VLOOKUP($L21,Atletas!$B$2:$F$101,2,FALSE),"") ="","Cadastro não encontrado. Digite os dados.",VLOOKUP($L21,Atletas!$B$2:$F$101,2,FALSE))) | O21: =G20 | P21: =D21 -> 0 | Q21: =H21 -> 0 | R21: =L21 -> 0 | S21: =E20 | T21: =F20 | U21: =A20 -> 0 | V21: =C20
I22: =IF(H22="","",IF(VLOOKUP(H22,Geral!$B$42:$D$48,3,FALSE)="<=",IF(YEAR(NOW())-YEAR(E20)>VLOOKUP(H22,Geral!$B$42:$C$48,2,FALSE),"ý","þ"),IF(VLOOKUP(H22,Geral!$B$42:$D$48,3,FALSE)=">=",IF(YEAR(NOW())-YEAR(E20)<VLOOKUP(H22,Geral!$B$42:$C$48,2,FALSE),"ý","þ")))) | K22: =IF(H22="",0,IF(OR(H22 = Geral!$A$46,H22 = Geral!$A$48),Geral!$H$15,IF(YEAR(NOW())-YEAR(E20) < 18,Geral!$I$15,Geral!$H$15))) -> 0 | M22: =IF(L22="","",IF(VLOOKUP($H22,Geral!$B$42:$D$48,3,FALSE)="<=",IF(YEAR(NOW())-YEAR(VLOOKUP(L22,Atletas!$B$2:$D$101,3,FALSE))>VLOOKUP($H22,Geral!$B$42:$C$48,2,FALSE),"ý","þ"),IF(VLOOKUP($H22,Geral!$B$42:$D$48,3,FALSE)=">=",IF(YEAR(NOW())-YEAR(VLOOKUP(L22,Atletas!$B$2:$D$101,3,FALSE))<VLOOKUP($H22,Geral!$B$42:$C$48,2,FALSE),"ý","þ")))) | N22: =IF($L22="","",IF(IFERROR(VLOOKUP($L22,Atletas!$B$2:$F$101,2,FALSE),"") ="","Cadastro não encontrado. Digite os dados.",VLOOKUP($L22,Atletas!$B$2:$F$101,2,FALSE))) | O22: =G20 | P22: =D21 -> 0 | Q22: =H22 -> 0 | R22: =L22 -> 0 | S22: =E20 | T22: =F20 | U22: =A20 -> 0 | V22: =C20
A23: =SUM(K23:K25) -> 0 | B23: 8 | C23: =IF($D24="","",IF(IFERROR(VLOOKUP($D24,Atletas!$B$2:$F$101,5,FALSE),"") ="","CLUBE",VLOOKUP($D24,Atletas!$B$2:$F$101,5,FALSE))) | E23: =IF($D24="","",IF(IFERROR(VLOOKUP($D24,Atletas!$B$2:$F$101,3,FALSE),"") ="","DD/MM/AAAA",VLOOKUP($D24,Atletas!$B$2:$F$101,3,FALSE))) | F23: =IF($D24="","",IF(IFERROR(VLOOKUP($D24,Atletas!$B$2:$F$101,4,FALSE),"") ="","Gênero",VLOOKUP($D24,Atletas!$B$2:$F$101,4,FALSE))) | G23: =IF($D24="","",IF(IFERROR(VLOOKUP($D24,Atletas!$B$2:$F$101,2,FALSE),"") ="","Cadastro não encontrado. Digite os dados.",VLOOKUP($D24,Atletas!$B$2:$F$101,2,FALSE))) | I23: =IF(H23="","",IF(VLOOKUP(H23,Geral!$B$13:$D$27,3,FALSE)="<=",IF(YEAR(NOW())-YEAR(E23)>VLOOKUP(H23,Geral!$B$13:$C$27,2,FALSE),"ý","þ"),IF(VLOOKUP(H23,Geral!$B$13:$D$27,3,FALSE)=">=",IF(YEAR(NOW())-YEAR(E23)<VLOOKUP(H23,Geral!$B$13:$C$27,2,FALSE),"ý","þ")))) | K23: =SUM(IF(J23="Sim",IF(H23="",0,IF(OR(H23 = Geral!$A$46,H23 = Geral!$A$48),Geral!$H$13,IF(YEAR(NOW())-YEAR(E23) < 18,Geral!$I$17,Geral!$H$17))),0),IF(H23="",0,IF(OR(H23 = Geral!$A$46,H23 = Geral!$A$48),Geral!$H$13,IF(YEAR(NOW())-YEAR(E23) < 18,Geral!$I$13,Geral!$H$13)))) -> 0 | O23: =G23 | P23: =D24 -> 0 | Q23: =H23 -> 0 | S23: =E23 | T23: =F23 | U23: =A23 -> 0 | V23: =C23
I24: =IF(H24="","",IF(VLOOKUP(H24,Geral!$B$28:$D$41,3,FALSE)="<=",IF(YEAR(NOW())-YEAR(E23)>VLOOKUP(H24,Geral!$B$28:$C$41,2,FALSE),"ý","þ"),IF(VLOOKUP(H24,Geral!$B$28:$D$41,3,FALSE)=">=",IF(YEAR(NOW())-YEAR(E23)<VLOOKUP(H24,Geral!$B$28:$C$41,2,FALSE),"ý","þ")))) | K24: =IF(H24="",0,IF(OR(H24 = Geral!$A$46,H24 = Geral!$A$48),Geral!$H$15,IF(YEAR(NOW())-YEAR(E23) < 18,Geral!$I$15,Geral!$H$15))) -> 0 | M24: =IF(L24="","",IF(VLOOKUP($H24,Geral!$B$28:$D$41,3,FALSE)="<=",IF(YEAR(NOW())-YEAR(VLOOKUP(L24,Atletas!$B$2:$D$101,3,FALSE))>VLOOKUP($H24,Geral!$B$28:$C$41,2,FALSE),"ý","þ"),IF(VLOOKUP($H24,Geral!$B$28:$D$41,3,FALSE)=">=",IF(YEAR(NOW())-YEAR(VLOOKUP(L24,Atletas!$B$2:$D$101,3,FALSE))<VLOOKUP($H24,Geral!$B$28:$C$41,2,FALSE),"ý","þ")))) | N24: =IF($L24="","",IF(IFERROR(VLOOKUP($L24,Atletas!$B$2:$F$101,2,FALSE),"") ="","Cadastro não encontrado. Digite os dados.",VLOOKUP($L24,Atletas!$B$2:$F$101,2,FALSE))) | O24: =G23 | P24: =D24 -> 0 | Q24: =H24 -> 0 | R24: =L24 -> 0 | S24: =E23 | T24: =F23 | U24: =A23 -> 0 | V24: =C23
I25: =IF(H25="","",IF(VLOOKUP(H25,Geral!$B$42:$D$48,3,FALSE)="<=",IF(YEAR(NOW())-YEAR(E23)>VLOOKUP(H25,Geral!$B$42:$C$48,2,FALSE),"ý","þ"),IF(VLOOKUP(H25,Geral!$B$42:$D$48,3,FALSE)=">=",IF(YEAR(NOW())-YEAR(E23)<VLOOKUP(H25,Geral!$B$42:$C$48,2,FALSE),"ý","þ")))) | K25: =IF(H25="",0,IF(OR(H25 = Geral!$A$46,H25 = Geral!$A$48),Geral!$H$15,IF(YEAR(NOW())-YEAR(E23) < 18,Geral!$I$15,Geral!$H$15))) -> 0 | M25: =IF(L25="","",IF(VLOOKUP($H25,Geral!$B$42:$D$48,3,FALSE)="<=",IF(YEAR(NOW())-YEAR(VLOOKUP(L25,Atletas!$B$2:$D$101,3,FALSE))>VLOOKUP($H25,Geral!$B$42:$C$48,2,FALSE),"ý","þ"),IF(VLOOKUP($H25,Geral!$B$42:$D$48,3,FALSE)=">=",IF(YEAR(NOW())-YEAR(VLOOKUP(L25,Atletas!$B$2:$D$101,3,FALSE))<VLOOKUP($H25,Geral!$B$42:$C$48,2,FALSE),"ý","þ")))) | N25: =IF($L25="","",IF(IFERROR(VLOOKUP($L25,Atletas!$B$2:$F$101,2,FALSE),"") ="","Cadastro não encontrado. Digite os dados.",VLOOKUP($L25,Atletas!$B$2:$F$101,2,FALSE))) | O25: =G23 | P25: =D24 -> 0 | Q25: =H25 -> 0 | R25: =L25 -> 0 | S25: =E23 | T25: =F23 | U25: =A23 -> 0 | V25: =C23
A26: =SUM(K26:K28) -> 0 | B26: 9 | C26: =IF($D27="","",IF(IFERROR(VLOOKUP($D27,Atletas!$B$2:$F$101,5,FALSE),"") ="","CLUBE",VLOOKUP($D27,Atletas!$B$2:$F$101,5,FALSE))) | E26: =IF($D27="","",IF(IFERROR(VLOOKUP($D27,Atletas!$B$2:$F$101,3,FALSE),"") ="","DD/MM/AAAA",VLOOKUP($D27,Atletas!$B$2:$F$101,3,FALSE))) | F26: =IF($D27="","",IF(IFERROR(VLOOKUP($D27,Atletas!$B$2:$F$101,4,FALSE),"") ="","Gênero",VLOOKUP($D27,Atletas!$B$2:$F$101,4,FALSE))) | G26: =IF($D27="","",IF(IFERROR(VLOOKUP($D27,Atletas!$B$2:$F$101,2,FALSE),"") ="","Cadastro não encontrado. Digite os dados.",VLOOKUP($D27,Atletas!$B$2:$F$101,2,FALSE))) | I26: =IF(H26="","",IF(VLOOKUP(H26,Geral!$B$13:$D$27,3,FALSE)="<=",IF(YEAR(NOW())-YEAR(E26)>VLOOKUP(H26,Geral!$B$13:$C$27,2,FALSE),"ý","þ"),IF(VLOOKUP(H26,Geral!$B$13:$D$27,3,FALSE)=">=",IF(YEAR(NOW())-YEAR(E26)<VLOOKUP(H26,Geral!$B$13:$C$27,2,FALSE),"ý","þ")))) | K26: =SUM(IF(J26="Sim",IF(H26="",0,IF(OR(H26 = Geral!$A$46,H26 = Geral!$A$48),Geral!$H$13,IF(YEAR(NOW())-YEAR(E26) < 18,Geral!$I$17,Geral!$H$17))),0),IF(H26="",0,IF(OR(H26 = Geral!$A$46,H26 = Geral!$A$48),Geral!$H$13,IF(YEAR(NOW())-YEAR(E26) < 18,Geral!$I$13,Geral!$H$13)))) -> 0 | O26: =G26 | P26: =D27 -> 0 | Q26: =H26 -> 0 | S26: =E26 | T26: =F26 | U26: =A26 -> 0 | V26: =C26
I27: =IF(H27="","",IF(VLOOKUP(H27,Geral!$B$28:$D$41,3,FALSE)="<=",IF(YEAR(NOW())-YEAR(E26)>VLOOKUP(H27,Geral!$B$28:$C$41,2,FALSE),"ý","þ"),IF(VLOOKUP(H27,Geral!$B$28:$D$41,3,FALSE)=">=",IF(YEAR(NOW())-YEAR(E26)<VLOOKUP(H27,Geral!$B$28:$C$41,2,FALSE),"ý","þ")))) | K27: =IF(H27="",0,IF(OR(H27 = Geral!$A$46,H27 = Geral!$A$48),Geral!$H$15,IF(YEAR(NOW())-YEAR(E26) < 18,Geral!$I$15,Geral!$H$15))) -> 0 | M27: =IF(L27="","",IF(VLOOKUP($H27,Geral!$B$28:$D$41,3,FALSE)="<=",IF(YEAR(NOW())-YEAR(VLOOKUP(L27,Atletas!$B$2:$D$101,3,FALSE))>VLOOKUP($H27,Geral!$B$28:$C$41,2,FALSE),"ý","þ"),IF(VLOOKUP($H27,Geral!$B$28:$D$41,3,FALSE)=">=",IF(YEAR(NOW())-YEAR(VLOOKUP(L27,Atletas!$B$2:$D$101,3,FALSE))<VLOOKUP($H27,Geral!$B$28:$C$41,2,FALSE),"ý","þ")))) | N27: =IF($L27="","",IF(IFERROR(VLOOKUP($L27,Atletas!$B$2:$F$101,2,FALSE),"") ="","Cadastro não encontrado. Digite os dados.",VLOOKUP($L27,Atletas!$B$2:$F$101,2,FALSE))) | O27: =G26 | P27: =D27 -> 0 | Q27: =H27 -> 0 | R27: =L27 -> 0 | S27: =E26 | T27: =F26 | U27: =A26 -> 0 | V27: =C26
I28: =IF(H28="","",IF(VLOOKUP(H28,Geral!$B$42:$D$48,3,FALSE)="<=",IF(YEAR(NOW())-YEAR(E26)>VLOOKUP(H28,Geral!$B$42:$C$48,2,FALSE),"ý","þ"),IF(VLOOKUP(H28,Geral!$B$42:$D$48,3,FALSE)=">=",IF(YEAR(NOW())-YEAR(E26)<VLOOKUP(H28,Geral!$B$42:$C$48,2,FALSE),"ý","þ")))) | K28: =IF(H28="",0,IF(OR(H28 = Geral!$A$46,H28 = Geral!$A$48),Geral!$H$15,IF(YEAR(NOW())-YEAR(E26) < 18,Geral!$I$15,Geral!$H$15))) -> 0 | M28: =IF(L28="","",IF(VLOOKUP($H28,Geral!$B$42:$D$48,3,FALSE)="<=",IF(YEAR(NOW())-YEAR(VLOOKUP(L28,Atletas!$B$2:$D$101,3,FALSE))>VLOOKUP($H28,Geral!$B$42:$C$48,2,FALSE),"ý","þ"),IF(VLOOKUP($H28,Geral!$B$42:$D$48,3,FALSE)=">=",IF(YEAR(NOW())-YEAR(VLOOKUP(L28,Atletas!$B$2:$D$101,3,FALSE))<VLOOKUP($H28,Geral!$B$42:$C$48,2,FALSE),"ý","þ")))) | N28: =IF($L28="","",IF(IFERROR(VLOOKUP($L28,Atletas!$B$2:$F$101,2,FALSE),"") ="","Cadastro não encontrado. Digite os dados.",VLOOKUP($L28,Atletas!$B$2:$F$101,2,FALSE))) | O28: =G26 | P28: =D27 -> 0 | Q28: =H28 -> 0 | R28: =L28 -> 0 | S28: =E26 | T28: =F26 | U28: =A26 -> 0 | V28: =C26
A29: =SUM(K29:K31) -> 0 | B29: 10 | C29: =IF($D30="","",IF(IFERROR(VLOOKUP($D30,Atletas!$B$2:$F$101,5,FALSE),"") ="","CLUBE",VLOOKUP($D30,Atletas!$B$2:$F$101,5,FALSE))) | E29: =IF($D30="","",IF(IFERROR(VLOOKUP($D30,Atletas!$B$2:$F$101,3,FALSE),"") ="","DD/MM/AAAA",VLOOKUP($D30,Atletas!$B$2:$F$101,3,FALSE))) | F29: =IF($D30="","",IF(IFERROR(VLOOKUP($D30,Atletas!$B$2:$F$101,4,FALSE),"") ="","Gênero",VLOOKUP($D30,Atletas!$B$2:$F$101,4,FALSE))) | G29: =IF($D30="","",IF(IFERROR(VLOOKUP($D30,Atletas!$B$2:$F$101,2,FALSE),"") ="","Cadastro não encontrado. Digite os dados.",VLOOKUP($D30,Atletas!$B$2:$F$101,2,FALSE))) | I29: =IF(H29="","",IF(VLOOKUP(H29,Geral!$B$13:$D$27,3,FALSE)="<=",IF(YEAR(NOW())-YEAR(E29)>VLOOKUP(H29,Geral!$B$13:$C$27,2,FALSE),"ý","þ"),IF(VLOOKUP(H29,Geral!$B$13:$D$27,3,FALSE)=">=",IF(YEAR(NOW())-YEAR(E29)<VLOOKUP(H29,Geral!$B$13:$C$27,2,FALSE),"ý","þ")))) | K29: =SUM(IF(J29="Sim",IF(H29="",0,IF(OR(H29 = Geral!$A$46,H29 = Geral!$A$48),Geral!$H$13,IF(YEAR(NOW())-YEAR(E29) < 18,Geral!$I$17,Geral!$H$17))),0),IF(H29="",0,IF(OR(H29 = Geral!$A$46,H29 = Geral!$A$48),Geral!$H$13,IF(YEAR(NOW())-YEAR(E29) < 18,Geral!$I$13,Geral!$H$13)))) -> 0 | O29: =G29 | P29: =D30 -> 0 | Q29: =H29 -> 0 | S29: =E29 | T29: =F29 | U29: =A29 -> 0 | V29: =C29
I30: =IF(H30="","",IF(VLOOKUP(H30,Geral!$B$28:$D$41,3,FALSE)="<=",IF(YEAR(NOW())-YEAR(E29)>VLOOKUP(H30,Geral!$B$28:$C$41,2,FALSE),"ý","þ"),IF(VLOOKUP(H30,Geral!$B$28:$D$41,3,FALSE)=">=",IF(YEAR(NOW())-YEAR(E29)<VLOOKUP(H30,Geral!$B$28:$C$41,2,FALSE),"ý","þ")))) | K30: =IF(H30="",0,IF(OR(H30 = Geral!$A$46,H30 = Geral!$A$48),Geral!$H$15,IF(YEAR(NOW())-YEAR(E29) < 18,Geral!$I$15,Geral!$H$15))) -> 0 | M30: =IF(L30="","",IF(VLOOKUP($H30,Geral!$B$28:$D$41,3,FALSE)="<=",IF(YEAR(NOW())-YEAR(VLOOKUP(L30,Atletas!$B$2:$D$101,3,FALSE))>VLOOKUP($H30,Geral!$B$28:$C$41,2,FALSE),"ý","þ"),IF(VLOOKUP($H30,Geral!$B$28:$D$41,3,FALSE)=">=",IF(YEAR(NOW())-YEAR(VLOOKUP(L30,Atletas!$B$2:$D$101,3,FALSE))<VLOOKUP($H30,Geral!$B$28:$C$41,2,FALSE),"ý","þ")))) | N30: =IF($L30="","",IF(IFERROR(VLOOKUP($L30,Atletas!$B$2:$F$101,2,FALSE),"") ="","Cadastro não encontrado. Digite os dados.",VLOOKUP($L30,Atletas!$B$2:$F$101,2,FALSE))) | O30: =G29 | P30: =D30 -> 0 | Q30: =H30 -> 0 | R30: =L30 -> 0 | S30: =E29 | T30: =F29 | U30: =A29 -> 0 | V30: =C29
I31: =IF(H31="","",IF(VLOOKUP(H31,Geral!$B$42:$D$48,3,FALSE)="<=",IF(YEAR(NOW())-YEAR(E29)>VLOOKUP(H31,Geral!$B$42:$C$48,2,FALSE),"ý","þ"),IF(VLOOKUP(H31,Geral!$B$42:$D$48,3,FALSE)=">=",IF(YEAR(NOW())-YEAR(E29)<VLOOKUP(H31,Geral!$B$42:$C$48,2,FALSE),"ý","þ")))) | K31: =IF(H31="",0,IF(OR(H31 = Geral!$A$46,H31 = Geral!$A$48),Geral!$H$15,IF(YEAR(NOW())-YEAR(E29) < 18,Geral!$I$15,Geral!$H$15))) -> 0 | M31: =IF(L31="","",IF(VLOOKUP($H31,Geral!$B$42:$D$48,3,FALSE)="<=",IF(YEAR(NOW())-YEAR(VLOOKUP(L31,Atletas!$B$2:$D$101,3,FALSE))>VLOOKUP($H31,Geral!$B$42:$C$48,2,FALSE),"ý","þ"),IF(VLOOKUP($H31,Geral!$B$42:$D$48,3,FALSE)=">=",IF(YEAR(NOW())-YEAR(VLOOKUP(L31,Atletas!$B$2:$D$101,3,FALSE))<VLOOKUP($H31,Geral!$B$42:$C$48,2,FALSE),"ý","þ")))) | N31: =IF($L31="","",IF(IFERROR(VLOOKUP($L31,Atletas!$B$2:$F$101,2,FALSE),"") ="","Cadastro não encontrado. Digite os dados.",VLOOKUP($L31,Atletas!$B$2:$F$101,2,FALSE))) | O31: =G29 | P31: =D30 -> 0 | Q31: =H31 -> 0 | R31: =L31 -> 0 | S31: =E29 | T31: =F29 | U31: =A29 -> 0 | V31: =C29
A32: =SUM(K32:K34) -> 0 | B32: 11 | C32: =IF($D33="","",IF(IFERROR(VLOOKUP($D33,Atletas!$B$2:$F$101,5,FALSE),"") ="","CLUBE",VLOOKUP($D33,Atletas!$B$2:$F$101,5,FALSE))) | E32: =IF($D33="","",IF(IFERROR(VLOOKUP($D33,Atletas!$B$2:$F$101,3,FALSE),"") ="","DD/MM/AAAA",VLOOKUP($D33,Atletas!$B$2:$F$101,3,FALSE))) | F32: =IF($D33="","",IF(IFERROR(VLOOKUP($D33,Atletas!$B$2:$F$101,4,FALSE),"") ="","Gênero",VLOOKUP($D33,Atletas!$B$2:$F$101,4,FALSE))) | G32: =IF($D33="","",IF(IFERROR(VLOOKUP($D33,Atletas!$B$2:$F$101,2,FALSE),"") ="","Cadastro não encontrado. Digite os dados.",VLOOKUP($D33,Atletas!$B$2:$F$101,2,FALSE))) | I32: =IF(H32="","",IF(VLOOKUP(H32,Geral!$B$13:$D$27,3,FALSE)="<=",IF(YEAR(NOW())-YEAR(E32)>VLOOKUP(H32,Geral!$B$13:$C$27,2,FALSE),"ý","þ"),IF(VLOOKUP(H32,Geral!$B$13:$D$27,3,FALSE)=">=",IF(YEAR(NOW())-YEAR(E32)<VLOOKUP(H32,Geral!$B$13:$C$27,2,FALSE),"ý","þ")))) | K32: =SUM(IF(J32="Sim",IF(H32="",0,IF(OR(H32 = Geral!$A$46,H32 = Geral!$A$48),Geral!$H$13,IF(YEAR(NOW())-YEAR(E32) < 18,Geral!$I$17,Geral!$H$17))),0),IF(H32="",0,IF(OR(H32 = Geral!$A$46,H32 = Geral!$A$48),Geral!$H$13,IF(YEAR(NOW())-YEAR(E32) < 18,Geral!$I$13,Geral!$H$13)))) -> 0 | O32: =G32 | P32: =D33 -> 0 | Q32: =H32 -> 0 | S32: =E32 | T32: =F32 | U32: =A32 -> 0 | V32: =C32
I33: =IF(H33="","",IF(VLOOKUP(H33,Geral!$B$28:$D$41,3,FALSE)="<=",IF(YEAR(NOW())-YEAR(E32)>VLOOKUP(H33,Geral!$B$28:$C$41,2,FALSE),"ý","þ"),IF(VLOOKUP(H33,Geral!$B$28:$D$41,3,FALSE)=">=",IF(YEAR(NOW())-YEAR(E32)<VLOOKUP(H33,Geral!$B$28:$C$41,2,FALSE),"ý","þ")))) | K33: =IF(H33="",0,IF(OR(H33 = Geral!$A$46,H33 = Geral!$A$48),Geral!$H$15,IF(YEAR(NOW())-YEAR(E32) < 18,Geral!$I$15,Geral!$H$15))) -> 0 | M33: =IF(L33="","",IF(VLOOKUP($H33,Geral!$B$28:$D$41,3,FALSE)="<=",IF(YEAR(NOW())-YEAR(VLOOKUP(L33,Atletas!$B$2:$D$101,3,FALSE))>VLOOKUP($H33,Geral!$B$28:$C$41,2,FALSE),"ý","þ"),IF(VLOOKUP($H33,Geral!$B$28:$D$41,3,FALSE)=">=",IF(YEAR(NOW())-YEAR(VLOOKUP(L33,Atletas!$B$2:$D$101,3,FALSE))<VLOOKUP($H33,Geral!$B$28:$C$41,2,FALSE),"ý","þ")))) | N33: =IF($L33="","",IF(IFERROR(VLOOKUP($L33,Atletas!$B$2:$F$101,2,FALSE),"") ="","Cadastro não encontrado. Digite os dados.",VLOOKUP($L33,Atletas!$B$2:$F$101,2,FALSE))) | O33: =G32 | P33: =D33 -> 0 | Q33: =H33 -> 0 | R33: =L33 -> 0 | S33: =E32 | T33: =F32 | U33: =A32 -> 0 | V33: =C32
I34: =IF(H34="","",IF(VLOOKUP(H34,Geral!$B$42:$D$48,3,FALSE)="<=",IF(YEAR(NOW())-YEAR(E32)>VLOOKUP(H34,Geral!$B$42:$C$48,2,FALSE),"ý","þ"),IF(VLOOKUP(H34,Geral!$B$42:$D$48,3,FALSE)=">=",IF(YEAR(NOW())-YEAR(E32)<VLOOKUP(H34,Geral!$B$42:$C$48,2,FALSE),"ý","þ")))) | K34: =IF(H34="",0,IF(OR(H34 = Geral!$A$46,H34 = Geral!$A$48),Geral!$H$15,IF(YEAR(NOW())-YEAR(E32) < 18,Geral!$I$15,Geral!$H$15))) -> 0 | M34: =IF(L34="","",IF(VLOOKUP($H34,Geral!$B$42:$D$48,3,FALSE)="<=",IF(YEAR(NOW())-YEAR(VLOOKUP(L34,Atletas!$B$2:$D$101,3,FALSE))>VLOOKUP($H34,Geral!$B$42:$C$48,2,FALSE),"ý","þ"),IF(VLOOKUP($H34,Geral!$B$42:$D$48,3,FALSE)=">=",IF(YEAR(NOW())-YEAR(VLOOKUP(L34,Atletas!$B$2:$D$101,3,FALSE))<VLOOKUP($H34,Geral!$B$42:$C$48,2,FALSE),"ý","þ")))) | N34: =IF($L34="","",IF(IFERROR(VLOOKUP($L34,Atletas!$B$2:$F$101,2,FALSE),"") ="","Cadastro não encontrado. Digite os dados.",VLOOKUP($L34,Atletas!$B$2:$F$101,2,FALSE))) | O34: =G32 | P34: =D33 -> 0 | Q34: =H34 -> 0 | R34: =L34 -> 0 | S34: =E32 | T34: =F32 | U34: =A32 -> 0 | V34: =C32
A35: =SUM(K35:K37) -> 0 | B35: 12 | C35: =IF($D36="","",IF(IFERROR(VLOOKUP($D36,Atletas!$B$2:$F$101,5,FALSE),"") ="","CLUBE",VLOOKUP($D36,Atletas!$B$2:$F$101,5,FALSE))) | E35: =IF($D36="","",IF(IFERROR(VLOOKUP($D36,Atletas!$B$2:$F$101,3,FALSE),"") ="","DD/MM/AAAA",VLOOKUP($D36,Atletas!$B$2:$F$101,3,FALSE))) | F35: =IF($D36="","",IF(IFERROR(VLOOKUP($D36,Atletas!$B$2:$F$101,4,FALSE),"") ="","Gênero",VLOOKUP($D36,Atletas!$B$2:$F$101,4,FALSE))) | G35: =IF($D36="","",IF(IFERROR(VLOOKUP($D36,Atletas!$B$2:$F$101,2,FALSE),"") ="","Cadastro não encontrado. Digite os dados.",VLOOKUP($D36,Atletas!$B$2:$F$101,2,FALSE))) | I35: =IF(H35="","",IF(VLOOKUP(H35,Geral!$B$13:$D$27,3,FALSE)="<=",IF(YEAR(NOW())-YEAR(E35)>VLOOKUP(H35,Geral!$B$13:$C$27,2,FALSE),"ý","þ"),IF(VLOOKUP(H35,Geral!$B$13:$D$27,3,FALSE)=">=",IF(YEAR(NOW())-YEAR(E35)<VLOOKUP(H35,Geral!$B$13:$C$27,2,FALSE),"ý","þ")))) | K35: =SUM(IF(J35="Sim",IF(H35="",0,IF(OR(H35 = Geral!$A$46,H35 = Geral!$A$48),Geral!$H$13,IF(YEAR(NOW())-YEAR(E35) < 18,Geral!$I$17,Geral!$H$17))),0),IF(H35="",0,IF(OR(H35 = Geral!$A$46,H35 = Geral!$A$48),Geral!$H$13,IF(YEAR(NOW())-YEAR(E35) < 18,Geral!$I$13,Geral!$H$13)))) -> 0 | O35: =G35 | P35: =D36 -> 0 | Q35: =H35 -> 0 | S35: =E35 | T35: =F35 | U35: =A35 -> 0 | V35: =C35
I36: =IF(H36="","",IF(VLOOKUP(H36,Geral!$B$28:$D$41,3,FALSE)="<=",IF(YEAR(NOW())-YEAR(E35)>VLOOKUP(H36,Geral!$B$28:$C$41,2,FALSE),"ý","þ"),IF(VLOOKUP(H36,Geral!$B$28:$D$41,3,FALSE)=">=",IF(YEAR(NOW())-YEAR(E35)<VLOOKUP(H36,Geral!$B$28:$C$41,2,FALSE),"ý","þ")))) | K36: =IF(H36="",0,IF(OR(H36 = Geral!$A$46,H36 = Geral!$A$48),Geral!$H$15,IF(YEAR(NOW())-YEAR(E35) < 18,Geral!$I$15,Geral!$H$15))) -> 0 | M36: =IF(L36="","",IF(VLOOKUP($H36,Geral!$B$28:$D$41,3,FALSE)="<=",IF(YEAR(NOW())-YEAR(VLOOKUP(L36,Atletas!$B$2:$D$101,3,FALSE))>VLOOKUP($H36,Geral!$B$28:$C$41,2,FALSE),"ý","þ"),IF(VLOOKUP($H36,Geral!$B$28:$D$41,3,FALSE)=">=",IF(YEAR(NOW())-YEAR(VLOOKUP(L36,Atletas!$B$2:$D$101,3,FALSE))<VLOOKUP($H36,Geral!$B$28:$C$41,2,FALSE),"ý","þ")))) | N36: =IF($L36="","",IF(IFERROR(VLOOKUP($L36,Atletas!$B$2:$F$101,2,FALSE),"") ="","Cadastro não encontrado. Digite os dados.",VLOOKUP($L36,Atletas!$B$2:$F$101,2,FALSE))) | O36: =G35 | P36: =D36 -> 0 | Q36: =H36 -> 0 | R36: =L36 -> 0 | S36: =E35 | T36: =F35 | U36: =A35 -> 0 | V36: =C35
I37: =IF(H37="","",IF(VLOOKUP(H37,Geral!$B$42:$D$48,3,FALSE)="<=",IF(YEAR(NOW())-YEAR(E35)>VLOOKUP(H37,Geral!$B$42:$C$48,2,FALSE),"ý","þ"),IF(VLOOKUP(H37,Geral!$B$42:$D$48,3,FALSE)=">=",IF(YEAR(NOW())-YEAR(E35)<VLOOKUP(H37,Geral!$B$42:$C$48,2,FALSE),"ý","þ")))) | K37: =IF(H37="",0,IF(OR(H37 = Geral!$A$46,H37 = Geral!$A$48),Geral!$H$15,IF(YEAR(NOW())-YEAR(E35) < 18,Geral!$I$15,Geral!$H$15))) -> 0 | M37: =IF(L37="","",IF(VLOOKUP($H37,Geral!$B$42:$D$48,3,FALSE)="<=",IF(YEAR(NOW())-YEAR(VLOOKUP(L37,Atletas!$B$2:$D$101,3,FALSE))>VLOOKUP($H37,Geral!$B$42:$C$48,2,FALSE),"ý","þ"),IF(VLOOKUP($H37,Geral!$B$42:$D$48,3,FALSE)=">=",IF(YEAR(NOW())-YEAR(VLOOKUP(L37,Atletas!$B$2:$D$101,3,FALSE))<VLOOKUP($H37,Geral!$B$42:$C$48,2,FALSE),"ý","þ")))) | N37: =IF($L37="","",IF(IFERROR(VLOOKUP($L37,Atletas!$B$2:$F$101,2,FALSE),"") ="","Cadastro não encontrado. Digite os dados.",VLOOKUP($L37,Atletas!$B$2:$F$101,2,FALSE))) | O37: =G35 | P37: =D36 -> 0 | Q37: =H37 -> 0 | R37: =L37 -> 0 | S37: =E35 | T37: =F35 | U37: =A35 -> 0 | V37: =C35
A38: =SUM(K38:K40) -> 0 | B38: 13 | C38: =IF($D39="","",IF(IFERROR(VLOOKUP($D39,Atletas!$B$2:$F$101,5,FALSE),"") ="","CLUBE",VLOOKUP($D39,Atletas!$B$2:$F$101,5,FALSE))) | E38: =IF($D39="","",IF(IFERROR(VLOOKUP($D39,Atletas!$B$2:$F$101,3,FALSE),"") ="","DD/MM/AAAA",VLOOKUP($D39,Atletas!$B$2:$F$101,3,FALSE))) | F38: =IF($D39="","",IF(IFERROR(VLOOKUP($D39,Atletas!$B$2:$F$101,4,FALSE),"") ="","Gênero",VLOOKUP($D39,Atletas!$B$2:$F$101,4,FALSE))) | G38: =IF($D39="","",IF(IFERROR(VLOOKUP($D39,Atletas!$B$2:$F$101,2,FALSE),"") ="","Cadastro não encontrado. Digite os dados.",VLOOKUP($D39,Atletas!$B$2:$F$101,2,FALSE))) | I38: =IF(H38="","",IF(VLOOKUP(H38,Geral!$B$13:$D$27,3,FALSE)="<=",IF(YEAR(NOW())-YEAR(E38)>VLOOKUP(H38,Geral!$B$13:$C$27,2,FALSE),"ý","þ"),IF(VLOOKUP(H38,Geral!$B$13:$D$27,3,FALSE)=">=",IF(YEAR(NOW())-YEAR(E38)<VLOOKUP(H38,Geral!$B$13:$C$27,2,FALSE),"ý","þ")))) | K38: =SUM(IF(J38="Sim",IF(H38="",0,IF(OR(H38 = Geral!$A$46,H38 = Geral!$A$48),Geral!$H$13,IF(YEAR(NOW())-YEAR(E38) < 18,Geral!$I$17,Geral!$H$17))),0),IF(H38="",0,IF(OR(H38 = Geral!$A$46,H38 = Geral!$A$48),Geral!$H$13,IF(YEAR(NOW())-YEAR(E38) < 18,Geral!$I$13,Geral!$H$13)))) -> 0 | O38: =G38 | P38: =D39 -> 0 | Q38: =H38 -> 0 | S38: =E38 | T38: =F38 | U38: =A38 -> 0 | V38: =C38
I39: =IF(H39="","",IF(VLOOKUP(H39,Geral!$B$28:$D$41,3,FALSE)="<=",IF(YEAR(NOW())-YEAR(E38)>VLOOKUP(H39,Geral!$B$28:$C$41,2,FALSE),"ý","þ"),IF(VLOOKUP(H39,Geral!$B$28:$D$41,3,FALSE)=">=",IF(YEAR(NOW())-YEAR(E38)<VLOOKUP(H39,Geral!$B$28:$C$41,2,FALSE),"ý","þ")))) | K39: =IF(H39="",0,IF(OR(H39 = Geral!$A$46,H39 = Geral!$A$48),Geral!$H$15,IF(YEAR(NOW())-YEAR(E38) < 18,Geral!$I$15,Geral!$H$15))) -> 0 | M39: =IF(L39="","",IF(VLOOKUP($H39,Geral!$B$28:$D$41,3,FALSE)="<=",IF(YEAR(NOW())-YEAR(VLOOKUP(L39,Atletas!$B$2:$D$101,3,FALSE))>VLOOKUP($H39,Geral!$B$28:$C$41,2,FALSE),"ý","þ"),IF(VLOOKUP($H39,Geral!$B$28:$D$41,3,FALSE)=">=",IF(YEAR(NOW())-YEAR(VLOOKUP(L39,Atletas!$B$2:$D$101,3,FALSE))<VLOOKUP($H39,Geral!$B$28:$C$41,2,FALSE),"ý","þ")))) | N39: =IF($L39="","",IF(IFERROR(VLOOKUP($L39,Atletas!$B$2:$F$101,2,FALSE),"") ="","Cadastro não encontrado. Digite os dados.",VLOOKUP($L39,Atletas!$B$2:$F$101,2,FALSE))) | O39: =G38 | P39: =D39 -> 0 | Q39: =H39 -> 0 | R39: =L39 -> 0 | S39: =E38 | T39: =F38 | U39: =A38 -> 0 | V39: =C38
I40: =IF(H40="","",IF(VLOOKUP(H40,Geral!$B$42:$D$48,3,FALSE)="<=",IF(YEAR(NOW())-YEAR(E38)>VLOOKUP(H40,Geral!$B$42:$C$48,2,FALSE),"ý","þ"),IF(VLOOKUP(H40,Geral!$B$42:$D$48,3,FALSE)=">=",IF(YEAR(NOW())-YEAR(E38)<VLOOKUP(H40,Geral!$B$42:$C$48,2,FALSE),"ý","þ")))) | K40: =IF(H40="",0,IF(OR(H40 = Geral!$A$46,H40 = Geral!$A$48),Geral!$H$15,IF(YEAR(NOW())-YEAR(E38) < 18,Geral!$I$15,Geral!$H$15))) -> 0 | M40: =IF(L40="","",IF(VLOOKUP($H40,Geral!$B$42:$D$48,3,FALSE)="<=",IF(YEAR(NOW())-YEAR(VLOOKUP(L40,Atletas!$B$2:$D$101,3,FALSE))>VLOOKUP($H40,Geral!$B$42:$C$48,2,FALSE),"ý","þ"),IF(VLOOKUP($H40,Geral!$B$42:$D$48,3,FALSE)=">=",IF(YEAR(NOW())-YEAR(VLOOKUP(L40,Atletas!$B$2:$D$101,3,FALSE))<VLOOKUP($H40,Geral!$B$42:$C$48,2,FALSE),"ý","þ")))) | N40: =IF($L40="","",IF(IFERROR(VLOOKUP($L40,Atletas!$B$2:$F$101,2,FALSE),"") ="","Cadastro não encontrado. Digite os dados.",VLOOKUP($L40,Atletas!$B$2:$F$101,2,FALSE))) | O40: =G38 | P40: =D39 -> 0 | Q40: =H40 -> 0 | R40: =L40 -> 0 | S40: =E38 | T40: =F38 | U40: =A38 -> 0 | V40: =C38
A41: =SUM(K41:K43) -> 0 | B41: 14 | C41: =IF($D42="","",IF(IFERROR(VLOOKUP($D42,Atletas!$B$2:$F$101,5,FALSE),"") ="","CLUBE",VLOOKUP($D42,Atletas!$B$2:$F$101,5,FALSE))) | E41: =IF($D42="","",IF(IFERROR(VLOOKUP($D42,Atletas!$B$2:$F$101,3,FALSE),"") ="","DD/MM/AAAA",VLOOKUP($D42,Atletas!$B$2:$F$101,3,FALSE))) | F41: =IF($D42="","",IF(IFERROR(VLOOKUP($D42,Atletas!$B$2:$F$101,4,FALSE),"") ="","Gênero",VLOOKUP($D42,Atletas!$B$2:$F$101,4,FALSE))) | G41: =IF($D42="","",IF(IFERROR(VLOOKUP($D42,Atletas!$B$2:$F$101,2,FALSE),"") ="","Cadastro não encontrado. Digite os dados.",VLOOKUP($D42,Atletas!$B$2:$F$101,2,FALSE))) | I41: =IF(H41="","",IF(VLOOKUP(H41,Geral!$B$13:$D$27,3,FALSE)="<=",IF(YEAR(NOW())-YEAR(E41)>VLOOKUP(H41,Geral!$B$13:$C$27,2,FALSE),"ý","þ"),IF(VLOOKUP(H41,Geral!$B$13:$D$27,3,FALSE)=">=",IF(YEAR(NOW())-YEAR(E41)<VLOOKUP(H41,Geral!$B$13:$C$27,2,FALSE),"ý","þ")))) | K41: =SUM(IF(J41="Sim",IF(H41="",0,IF(OR(H41 = Geral!$A$46,H41 = Geral!$A$48),Geral!$H$13,IF(YEAR(NOW())-YEAR(E41) < 18,Geral!$I$17,Geral!$H$17))),0),IF(H41="",0,IF(OR(H41 = Geral!$A$46,H41 = Geral!$A$48),Geral!$H$13,IF(YEAR(NOW())-YEAR(E41) < 18,Geral!$I$13,Geral!$H$13)))) -> 0 | O41: =G41 | P41: =D42 -> 0 | Q41: =H41 -> 0 | S41: =E41 | T41: =F41 | U41: =A41 -> 0 | V41: =C41
I42: =IF(H42="","",IF(VLOOKUP(H42,Geral!$B$28:$D$41,3,FALSE)="<=",IF(YEAR(NOW())-YEAR(E41)>VLOOKUP(H42,Geral!$B$28:$C$41,2,FALSE),"ý","þ"),IF(VLOOKUP(H42,Geral!$B$28:$D$41,3,FALSE)=">=",IF(YEAR(NOW())-YEAR(E41)<VLOOKUP(H42,Geral!$B$28:$C$41,2,FALSE),"ý","þ")))) | K42: =IF(H42="",0,IF(OR(H42 = Geral!$A$46,H42 = Geral!$A$48),Geral!$H$15,IF(YEAR(NOW())-YEAR(E41) < 18,Geral!$I$15,Geral!$H$15))) -> 0 | M42: =IF(L42="","",IF(VLOOKUP($H42,Geral!$B$28:$D$41,3,FALSE)="<=",IF(YEAR(NOW())-YEAR(VLOOKUP(L42,Atletas!$B$2:$D$101,3,FALSE))>VLOOKUP($H42,Geral!$B$28:$C$41,2,FALSE),"ý","þ"),IF(VLOOKUP($H42,Geral!$B$28:$D$41,3,FALSE)=">=",IF(YEAR(NOW())-YEAR(VLOOKUP(L42,Atletas!$B$2:$D$101,3,FALSE))<VLOOKUP($H42,Geral!$B$28:$C$41,2,FALSE),"ý","þ")))) | N42: =IF($L42="","",IF(IFERROR(VLOOKUP($L42,Atletas!$B$2:$F$101,2,FALSE),"") ="","Cadastro não encontrado. Digite os dados.",VLOOKUP($L42,Atletas!$B$2:$F$101,2,FALSE))) | O42: =G41 | P42: =D42 -> 0 | Q42: =H42 -> 0 | R42: =L42 -> 0 | S42: =E41 | T42: =F41 | U42: =A41 -> 0 | V42: =C41
I43: =IF(H43="","",IF(VLOOKUP(H43,Geral!$B$42:$D$48,3,FALSE)="<=",IF(YEAR(NOW())-YEAR(E41)>VLOOKUP(H43,Geral!$B$42:$C$48,2,FALSE),"ý","þ"),IF(VLOOKUP(H43,Geral!$B$42:$D$48,3,FALSE)=">=",IF(YEAR(NOW())-YEAR(E41)<VLOOKUP(H43,Geral!$B$42:$C$48,2,FALSE),"ý","þ")))) | K43: =IF(H43="",0,IF(OR(H43 = Geral!$A$46,H43 = Geral!$A$48),Geral!$H$15,IF(YEAR(NOW())-YEAR(E41) < 18,Geral!$I$15,Geral!$H$15))) -> 0 | M43: =IF(L43="","",IF(VLOOKUP($H43,Geral!$B$42:$D$48,3,FALSE)="<=",IF(YEAR(NOW())-YEAR(VLOOKUP(L43,Atletas!$B$2:$D$101,3,FALSE))>VLOOKUP($H43,Geral!$B$42:$C$48,2,FALSE),"ý","þ"),IF(VLOOKUP($H43,Geral!$B$42:$D$48,3,FALSE)=">=",IF(YEAR(NOW())-YEAR(VLOOKUP(L43,Atletas!$B$2:$D$101,3,FALSE))<VLOOKUP($H43,Geral!$B$42:$C$48,2,FALSE),"ý","þ")))) | N43: =IF($L43="","",IF(IFERROR(VLOOKUP($L43,Atletas!$B$2:$F$101,2,FALSE),"") ="","Cadastro não encontrado. Digite os dados.",VLOOKUP($L43,Atletas!$B$2:$F$101,2,FALSE))) | O43: =G41 | P43: =D42 -> 0 | Q43: =H43 -> 0 | R43: =L43 -> 0 | S43: =E41 | T43: =F41 | U43: =A41 -> 0 | V43: =C41
A44: =SUM(K44:K46) -> 0 | B44: 15 | C44: =IF($D45="","",IF(IFERROR(VLOOKUP($D45,Atletas!$B$2:$F$101,5,FALSE),"") ="","CLUBE",VLOOKUP($D45,Atletas!$B$2:$F$101,5,FALSE))) | E44: =IF($D45="","",IF(IFERROR(VLOOKUP($D45,Atletas!$B$2:$F$101,3,FALSE),"") ="","DD/MM/AAAA",VLOOKUP($D45,Atletas!$B$2:$F$101,3,FALSE))) | F44: =IF($D45="","",IF(IFERROR(VLOOKUP($D45,Atletas!$B$2:$F$101,4,FALSE),"") ="","Gênero",VLOOKUP($D45,Atletas!$B$2:$F$101,4,FALSE))) | G44: =IF($D45="","",IF(IFERROR(VLOOKUP($D45,Atletas!$B$2:$F$101,2,FALSE),"") ="","Cadastro não encontrado. Digite os dados.",VLOOKUP($D45,Atletas!$B$2:$F$101,2,FALSE))) | I44: =IF(H44="","",IF(VLOOKUP(H44,Geral!$B$13:$D$27,3,FALSE)="<=",IF(YEAR(NOW())-YEAR(E44)>VLOOKUP(H44,Geral!$B$13:$C$27,2,FALSE),"ý","þ"),IF(VLOOKUP(H44,Geral!$B$13:$D$27,3,FALSE)=">=",IF(YEAR(NOW())-YEAR(E44)<VLOOKUP(H44,Geral!$B$13:$C$27,2,FALSE),"ý","þ")))) | K44: =SUM(IF(J44="Sim",IF(H44="",0,IF(OR(H44 = Geral!$A$46,H44 = Geral!$A$48),Geral!$H$13,IF(YEAR(NOW())-YEAR(E44) < 18,Geral!$I$17,Geral!$H$17))),0),IF(H44="",0,IF(OR(H44 = Geral!$A$46,H44 = Geral!$A$48),Geral!$H$13,IF(YEAR(NOW())-YEAR(E44) < 18,Geral!$I$13,Geral!$H$13)))) -> 0 | O44: =G44 | P44: =D45 -> 0 | Q44: =H44 -> 0 | S44: =E44 | T44: =F44 | U44: =A44 -> 0 | V44: =C44
I45: =IF(H45="","",IF(VLOOKUP(H45,Geral!$B$28:$D$41,3,FALSE)="<=",IF(YEAR(NOW())-YEAR(E44)>VLOOKUP(H45,Geral!$B$28:$C$41,2,FALSE),"ý","þ"),IF(VLOOKUP(H45,Geral!$B$28:$D$41,3,FALSE)=">=",IF(YEAR(NOW())-YEAR(E44)<VLOOKUP(H45,Geral!$B$28:$C$41,2,FALSE),"ý","þ")))) | K45: =IF(H45="",0,IF(OR(H45 = Geral!$A$46,H45 = Geral!$A$48),Geral!$H$15,IF(YEAR(NOW())-YEAR(E44) < 18,Geral!$I$15,Geral!$H$15))) -> 0 | M45: =IF(L45="","",IF(VLOOKUP($H45,Geral!$B$28:$D$41,3,FALSE)="<=",IF(YEAR(NOW())-YEAR(VLOOKUP(L45,Atletas!$B$2:$D$101,3,FALSE))>VLOOKUP($H45,Geral!$B$28:$C$41,2,FALSE),"ý","þ"),IF(VLOOKUP($H45,Geral!$B$28:$D$41,3,FALSE)=">=",IF(YEAR(NOW())-YEAR(VLOOKUP(L45,Atletas!$B$2:$D$101,3,FALSE))<VLOOKUP($H45,Geral!$B$28:$C$41,2,FALSE),"ý","þ")))) | N45: =IF($L45="","",IF(IFERROR(VLOOKUP($L45,Atletas!$B$2:$F$101,2,FALSE),"") ="","Cadastro não encontrado. Digite os dados.",VLOOKUP($L45,Atletas!$B$2:$F$101,2,FALSE))) | O45: =G44 | P45: =D45 -> 0 | Q45: =H45 -> 0 | R45: =L45 -> 0 | S45: =E44 | T45: =F44 | U45: =A44 -> 0 | V45: =C44
I46: =IF(H46="","",IF(VLOOKUP(H46,Geral!$B$42:$D$48,3,FALSE)="<=",IF(YEAR(NOW())-YEAR(E44)>VLOOKUP(H46,Geral!$B$42:$C$48,2,FALSE),"ý","þ"),IF(VLOOKUP(H46,Geral!$B$42:$D$48,3,FALSE)=">=",IF(YEAR(NOW())-YEAR(E44)<VLOOKUP(H46,Geral!$B$42:$C$48,2,FALSE),"ý","þ")))) | K46: =IF(H46="",0,IF(OR(H46 = Geral!$A$46,H46 = Geral!$A$48),Geral!$H$15,IF(YEAR(NOW())-YEAR(E44) < 18,Geral!$I$15,Geral!$H$15))) -> 0 | M46: =IF(L46="","",IF(VLOOKUP($H46,Geral!$B$42:$D$48,3,FALSE)="<=",IF(YEAR(NOW())-YEAR(VLOOKUP(L46,Atletas!$B$2:$D$101,3,FALSE))>VLOOKUP($H46,Geral!$B$42:$C$48,2,FALSE),"ý","þ"),IF(VLOOKUP($H46,Geral!$B$42:$D$48,3,FALSE)=">=",IF(YEAR(NOW())-YEAR(VLOOKUP(L46,Atletas!$B$2:$D$101,3,FALSE))<VLOOKUP($H46,Geral!$B$42:$C$48,2,FALSE),"ý","þ")))) | N46: =IF($L46="","",IF(IFERROR(VLOOKUP($L46,Atletas!$B$2:$F$101,2,FALSE),"") ="","Cadastro não encontrado. Digite os dados.",VLOOKUP($L46,Atletas!$B$2:$F$101,2,FALSE))) | O46: =G44 | P46: =D45 -> 0 | Q46: =H46 -> 0 | R46: =L46 -> 0 | S46: =E44 | T46: =F44 | U46: =A44 -> 0 | V46: =C44
A47: =SUM(K47:K49) -> 0 | B47: 16 | C47: =IF($D48="","",IF(IFERROR(VLOOKUP($D48,Atletas!$B$2:$F$101,5,FALSE),"") ="","CLUBE",VLOOKUP($D48,Atletas!$B$2:$F$101,5,FALSE))) | E47: =IF($D48="","",IF(IFERROR(VLOOKUP($D48,Atletas!$B$2:$F$101,3,FALSE),"") ="","DD/MM/AAAA",VLOOKUP($D48,Atletas!$B$2:$F$101,3,FALSE))) | F47: =IF($D48="","",IF(IFERROR(VLOOKUP($D48,Atletas!$B$2:$F$101,4,FALSE),"") ="","Gênero",VLOOKUP($D48,Atletas!$B$2:$F$101,4,FALSE))) | G47: =IF($D48="","",IF(IFERROR(VLOOKUP($D48,Atletas!$B$2:$F$101,2,FALSE),"") ="","Cadastro não encontrado. Digite os dados.",VLOOKUP($D48,Atletas!$B$2:$F$101,2,FALSE))) | I47: =IF(H47="","",IF(VLOOKUP(H47,Geral!$B$13:$D$27,3,FALSE)="<=",IF(YEAR(NOW())-YEAR(E47)>VLOOKUP(H47,Geral!$B$13:$C$27,2,FALSE),"ý","þ"),IF(VLOOKUP(H47,Geral!$B$13:$D$27,3,FALSE)=">=",IF(YEAR(NOW())-YEAR(E47)<VLOOKUP(H47,Geral!$B$13:$C$27,2,FALSE),"ý","þ")))) | K47: =SUM(IF(J47="Sim",IF(H47="",0,IF(OR(H47 = Geral!$A$46,H47 = Geral!$A$48),Geral!$H$13,IF(YEAR(NOW())-YEAR(E47) < 18,Geral!$I$17,Geral!$H$17))),0),IF(H47="",0,IF(OR(H47 = Geral!$A$46,H47 = Geral!$A$48),Geral!$H$13,IF(YEAR(NOW())-YEAR(E47) < 18,Geral!$I$13,Geral!$H$13)))) -> 0 | O47: =G47 | P47: =D48 -> 0 | Q47: =H47 -> 0 | S47: =E47 | T47: =F47 | U47: =A47 -> 0 | V47: =C47
I48: =IF(H48="","",IF(VLOOKUP(H48,Geral!$B$28:$D$41,3,FALSE)="<=",IF(YEAR(NOW())-YEAR(E47)>VLOOKUP(H48,Geral!$B$28:$C$41,2,FALSE),"ý","þ"),IF(VLOOKUP(H48,Geral!$B$28:$D$41,3,FALSE)=">=",IF(YEAR(NOW())-YEAR(E47)<VLOOKUP(H48,Geral!$B$28:$C$41,2,FALSE),"ý","þ")))) | K48: =IF(H48="",0,IF(OR(H48 = Geral!$A$46,H48 = Geral!$A$48),Geral!$H$15,IF(YEAR(NOW())-YEAR(E47) < 18,Geral!$I$15,Geral!$H$15))) -> 0 | M48: =IF(L48="","",IF(VLOOKUP($H48,Geral!$B$28:$D$41,3,FALSE)="<=",IF(YEAR(NOW())-YEAR(VLOOKUP(L48,Atletas!$B$2:$D$101,3,FALSE))>VLOOKUP($H48,Geral!$B$28:$C$41,2,FALSE),"ý","þ"),IF(VLOOKUP($H48,Geral!$B$28:$D$41,3,FALSE)=">=",IF(YEAR(NOW())-YEAR(VLOOKUP(L48,Atletas!$B$2:$D$101,3,FALSE))<VLOOKUP($H48,Geral!$B$28:$C$41,2,FALSE),"ý","þ")))) | N48: =IF($L48="","",IF(IFERROR(VLOOKUP($L48,Atletas!$B$2:$F$101,2,FALSE),"") ="","Cadastro não encontrado. Digite os dados.",VLOOKUP($L48,Atletas!$B$2:$F$101,2,FALSE))) | O48: =G47 | P48: =D48 -> 0 | Q48: =H48 -> 0 | R48: =L48 -> 0 | S48: =E47 | T48: =F47 | U48: =A47 -> 0 | V48: =C47
I49: =IF(H49="","",IF(VLOOKUP(H49,Geral!$B$42:$D$48,3,FALSE)="<=",IF(YEAR(NOW())-YEAR(E47)>VLOOKUP(H49,Geral!$B$42:$C$48,2,FALSE),"ý","þ"),IF(VLOOKUP(H49,Geral!$B$42:$D$48,3,FALSE)=">=",IF(YEAR(NOW())-YEAR(E47)<VLOOKUP(H49,Geral!$B$42:$C$48,2,FALSE),"ý","þ")))) | K49: =IF(H49="",0,IF(OR(H49 = Geral!$A$46,H49 = Geral!$A$48),Geral!$H$15,IF(YEAR(NOW())-YEAR(E47) < 18,Geral!$I$15,Geral!$H$15))) -> 0 | M49: =IF(L49="","",IF(VLOOKUP($H49,Geral!$B$42:$D$48,3,FALSE)="<=",IF(YEAR(NOW())-YEAR(VLOOKUP(L49,Atletas!$B$2:$D$101,3,FALSE))>VLOOKUP($H49,Geral!$B$42:$C$48,2,FALSE),"ý","þ"),IF(VLOOKUP($H49,Geral!$B$42:$D$48,3,FALSE)=">=",IF(YEAR(NOW())-YEAR(VLOOKUP(L49,Atletas!$B$2:$D$101,3,FALSE))<VLOOKUP($H49,Geral!$B$42:$C$48,2,FALSE),"ý","þ")))) | N49: =IF($L49="","",IF(IFERROR(VLOOKUP($L49,Atletas!$B$2:$F$101,2,FALSE),"") ="","Cadastro não encontrado. Digite os dados.",VLOOKUP($L49,Atletas!$B$2:$F$101,2,FALSE))) | O49: =G47 | P49: =D48 -> 0 | Q49: =H49 -> 0 | R49: =L49 -> 0 | S49: =E47 | T49: =F47 | U49: =A47 -> 0 | V49: =C47
A50: =SUM(K50:K52) -> 0 | B50: 17 | C50: =IF($D51="","",IF(IFERROR(VLOOKUP($D51,Atletas!$B$2:$F$101,5,FALSE),"") ="","CLUBE",VLOOKUP($D51,Atletas!$B$2:$F$101,5,FALSE))) | E50: =IF($D51="","",IF(IFERROR(VLOOKUP($D51,Atletas!$B$2:$F$101,3,FALSE),"") ="","DD/MM/AAAA",VLOOKUP($D51,Atletas!$B$2:$F$101,3,FALSE))) | F50: =IF($D51="","",IF(IFERROR(VLOOKUP($D51,Atletas!$B$2:$F$101,4,FALSE),"") ="","Gênero",VLOOKUP($D51,Atletas!$B$2:$F$101,4,FALSE))) | G50: =IF($D51="","",IF(IFERROR(VLOOKUP($D51,Atletas!$B$2:$F$101,2,FALSE),"") ="","Cadastro não encontrado. Digite os dados.",VLOOKUP($D51,Atletas!$B$2:$F$101,2,FALSE))) | I50: =IF(H50="","",IF(VLOOKUP(H50,Geral!$B$13:$D$27,3,FALSE)="<=",IF(YEAR(NOW())-YEAR(E50)>VLOOKUP(H50,Geral!$B$13:$C$27,2,FALSE),"ý","þ"),IF(VLOOKUP(H50,Geral!$B$13:$D$27,3,FALSE)=">=",IF(YEAR(NOW())-YEAR(E50)<VLOOKUP(H50,Geral!$B$13:$C$27,2,FALSE),"ý","þ")))) | K50: =SUM(IF(J50="Sim",IF(H50="",0,IF(OR(H50 = Geral!$A$46,H50 = Geral!$A$48),Geral!$H$13,IF(YEAR(NOW())-YEAR(E50) < 18,Geral!$I$17,Geral!$H$17))),0),IF(H50="",0,IF(OR(H50 = Geral!$A$46,H50 = Geral!$A$48),Geral!$H$13,IF(YEAR(NOW())-YEAR(E50) < 18,Geral!$I$13,Geral!$H$13)))) -> 0 | O50: =G50 | P50: =D51 -> 0 | Q50: =H50 -> 0 | S50: =E50 | T50: =F50 | U50: =A50 -> 0 | V50: =C50
I51: =IF(H51="","",IF(VLOOKUP(H51,Geral!$B$28:$D$41,3,FALSE)="<=",IF(YEAR(NOW())-YEAR(E50)>VLOOKUP(H51,Geral!$B$28:$C$41,2,FALSE),"ý","þ"),IF(VLOOKUP(H51,Geral!$B$28:$D$41,3,FALSE)=">=",IF(YEAR(NOW())-YEAR(E50)<VLOOKUP(H51,Geral!$B$28:$C$41,2,FALSE),"ý","þ")))) | K51: =IF(H51="",0,IF(OR(H51 = Geral!$A$46,H51 = Geral!$A$48),Geral!$H$15,IF(YEAR(NOW())-YEAR(E50) < 18,Geral!$I$15,Geral!$H$15))) -> 0 | M51: =IF(L51="","",IF(VLOOKUP($H51,Geral!$B$28:$D$41,3,FALSE)="<=",IF(YEAR(NOW())-YEAR(VLOOKUP(L51,Atletas!$B$2:$D$101,3,FALSE))>VLOOKUP($H51,Geral!$B$28:$C$41,2,FALSE),"ý","þ"),IF(VLOOKUP($H51,Geral!$B$28:$D$41,3,FALSE)=">=",IF(YEAR(NOW())-YEAR(VLOOKUP(L51,Atletas!$B$2:$D$101,3,FALSE))<VLOOKUP($H51,Geral!$B$28:$C$41,2,FALSE),"ý","þ")))) | N51: =IF($L51="","",IF(IFERROR(VLOOKUP($L51,Atletas!$B$2:$F$101,2,FALSE),"") ="","Cadastro não encontrado. Digite os dados.",VLOOKUP($L51,Atletas!$B$2:$F$101,2,FALSE))) | O51: =G50 | P51: =D51 -> 0 | Q51: =H51 -> 0 | R51: =L51 -> 0 | S51: =E50 | T51: =F50 | U51: =A50 -> 0 | V51: =C50
I52: =IF(H52="","",IF(VLOOKUP(H52,Geral!$B$42:$D$48,3,FALSE)="<=",IF(YEAR(NOW())-YEAR(E50)>VLOOKUP(H52,Geral!$B$42:$C$48,2,FALSE),"ý","þ"),IF(VLOOKUP(H52,Geral!$B$42:$D$48,3,FALSE)=">=",IF(YEAR(NOW())-YEAR(E50)<VLOOKUP(H52,Geral!$B$42:$C$48,2,FALSE),"ý","þ")))) | K52: =IF(H52="",0,IF(OR(H52 = Geral!$A$46,H52 = Geral!$A$48),Geral!$H$15,IF(YEAR(NOW())-YEAR(E50) < 18,Geral!$I$15,Geral!$H$15))) -> 0 | M52: =IF(L52="","",IF(VLOOKUP($H52,Geral!$B$42:$D$48,3,FALSE)="<=",IF(YEAR(NOW())-YEAR(VLOOKUP(L52,Atletas!$B$2:$D$101,3,FALSE))>VLOOKUP($H52,Geral!$B$42:$C$48,2,FALSE),"ý","þ"),IF(VLOOKUP($H52,Geral!$B$42:$D$48,3,FALSE)=">=",IF(YEAR(NOW())-YEAR(VLOOKUP(L52,Atletas!$B$2:$D$101,3,FALSE))<VLOOKUP($H52,Geral!$B$42:$C$48,2,FALSE),"ý","þ")))) | N52: =IF($L52="","",IF(IFERROR(VLOOKUP($L52,Atletas!$B$2:$F$101,2,FALSE),"") ="","Cadastro não encontrado. Digite os dados.",VLOOKUP($L52,Atletas!$B$2:$F$101,2,FALSE))) | O52: =G50 | P52: =D51 -> 0 | Q52: =H52 -> 0 | R52: =L52 -> 0 | S52: =E50 | T52: =F50 | U52: =A50 -> 0 | V52: =C50
A53: =SUM(K53:K55) -> 0 | B53: 18 | C53: =IF($D54="","",IF(IFERROR(VLOOKUP($D54,Atletas!$B$2:$F$101,5,FALSE),"") ="","CLUBE",VLOOKUP($D54,Atletas!$B$2:$F$101,5,FALSE))) | E53: =IF($D54="","",IF(IFERROR(VLOOKUP($D54,Atletas!$B$2:$F$101,3,FALSE),"") ="","DD/MM/AAAA",VLOOKUP($D54,Atletas!$B$2:$F$101,3,FALSE))) | F53: =IF($D54="","",IF(IFERROR(VLOOKUP($D54,Atletas!$B$2:$F$101,4,FALSE),"") ="","Gênero",VLOOKUP($D54,Atletas!$B$2:$F$101,4,FALSE))) | G53: =IF($D54="","",IF(IFERROR(VLOOKUP($D54,Atletas!$B$2:$F$101,2,FALSE),"") ="","Cadastro não encontrado. Digite os dados.",VLOOKUP($D54,Atletas!$B$2:$F$101,2,FALSE))) | I53: =IF(H53="","",IF(VLOOKUP(H53,Geral!$B$13:$D$27,3,FALSE)="<=",IF(YEAR(NOW())-YEAR(E53)>VLOOKUP(H53,Geral!$B$13:$C$27,2,FALSE),"ý","þ"),IF(VLOOKUP(H53,Geral!$B$13:$D$27,3,FALSE)=">=",IF(YEAR(NOW())-YEAR(E53)<VLOOKUP(H53,Geral!$B$13:$C$27,2,FALSE),"ý","þ")))) | K53: =SUM(IF(J53="Sim",IF(H53="",0,IF(OR(H53 = Geral!$A$46,H53 = Geral!$A$48),Geral!$H$13,IF(YEAR(NOW())-YEAR(E53) < 18,Geral!$I$17,Geral!$H$17))),0),IF(H53="",0,IF(OR(H53 = Geral!$A$46,H53 = Geral!$A$48),Geral!$H$13,IF(YEAR(NOW())-YEAR(E53) < 18,Geral!$I$13,Geral!$H$13)))) -> 0 | O53: =G53 | P53: =D54 -> 0 | Q53: =H53 -> 0 | S53: =E53 | T53: =F53 | U53: =A53 -> 0 | V53: =C53
I54: =IF(H54="","",IF(VLOOKUP(H54,Geral!$B$28:$D$41,3,FALSE)="<=",IF(YEAR(NOW())-YEAR(E53)>VLOOKUP(H54,Geral!$B$28:$C$41,2,FALSE),"ý","þ"),IF(VLOOKUP(H54,Geral!$B$28:$D$41,3,FALSE)=">=",IF(YEAR(NOW())-YEAR(E53)<VLOOKUP(H54,Geral!$B$28:$C$41,2,FALSE),"ý","þ")))) | K54: =IF(H54="",0,IF(OR(H54 = Geral!$A$46,H54 = Geral!$A$48),Geral!$H$15,IF(YEAR(NOW())-YEAR(E53) < 18,Geral!$I$15,Geral!$H$15))) -> 0 | M54: =IF(L54="","",IF(VLOOKUP($H54,Geral!$B$28:$D$41,3,FALSE)="<=",IF(YEAR(NOW())-YEAR(VLOOKUP(L54,Atletas!$B$2:$D$101,3,FALSE))>VLOOKUP($H54,Geral!$B$28:$C$41,2,FALSE),"ý","þ"),IF(VLOOKUP($H54,Geral!$B$28:$D$41,3,FALSE)=">=",IF(YEAR(NOW())-YEAR(VLOOKUP(L54,Atletas!$B$2:$D$101,3,FALSE))<VLOOKUP($H54,Geral!$B$28:$C$41,2,FALSE),"ý","þ")))) | N54: =IF($L54="","",IF(IFERROR(VLOOKUP($L54,Atletas!$B$2:$F$101,2,FALSE),"") ="","Cadastro não encontrado. Digite os dados.",VLOOKUP($L54,Atletas!$B$2:$F$101,2,FALSE))) | O54: =G53 | P54: =D54 -> 0 | Q54: =H54 -> 0 | R54: =L54 -> 0 | S54: =E53 | T54: =F53 | U54: =A53 -> 0 | V54: =C53
I55: =IF(H55="","",IF(VLOOKUP(H55,Geral!$B$42:$D$48,3,FALSE)="<=",IF(YEAR(NOW())-YEAR(E53)>VLOOKUP(H55,Geral!$B$42:$C$48,2,FALSE),"ý","þ"),IF(VLOOKUP(H55,Geral!$B$42:$D$48,3,FALSE)=">=",IF(YEAR(NOW())-YEAR(E53)<VLOOKUP(H55,Geral!$B$42:$C$48,2,FALSE),"ý","þ")))) | K55: =IF(H55="",0,IF(OR(H55 = Geral!$A$46,H55 = Geral!$A$48),Geral!$H$15,IF(YEAR(NOW())-YEAR(E53) < 18,Geral!$I$15,Geral!$H$15))) -> 0 | M55: =IF(L55="","",IF(VLOOKUP($H55,Geral!$B$42:$D$48,3,FALSE)="<=",IF(YEAR(NOW())-YEAR(VLOOKUP(L55,Atletas!$B$2:$D$101,3,FALSE))>VLOOKUP($H55,Geral!$B$42:$C$48,2,FALSE),"ý","þ"),IF(VLOOKUP($H55,Geral!$B$42:$D$48,3,FALSE)=">=",IF(YEAR(NOW())-YEAR(VLOOKUP(L55,Atletas!$B$2:$D$101,3,FALSE))<VLOOKUP($H55,Geral!$B$42:$C$48,2,FALSE),"ý","þ")))) | N55: =IF($L55="","",IF(IFERROR(VLOOKUP($L55,Atletas!$B$2:$F$101,2,FALSE),"") ="","Cadastro não encontrado. Digite os dados.",VLOOKUP($L55,Atletas!$B$2:$F$101,2,FALSE))) | O55: =G53 | P55: =D54 -> 0 | Q55: =H55 -> 0 | R55: =L55 -> 0 | S55: =E53 | T55: =F53 | U55: =A53 -> 0 | V55: =C53
A56: =SUM(K56:K58) -> 0 | B56: 19 | C56: =IF($D57="","",IF(IFERROR(VLOOKUP($D57,Atletas!$B$2:$F$101,5,FALSE),"") ="","CLUBE",VLOOKUP($D57,Atletas!$B$2:$F$101,5,FALSE))) | E56: =IF($D57="","",IF(IFERROR(VLOOKUP($D57,Atletas!$B$2:$F$101,3,FALSE),"") ="","DD/MM/AAAA",VLOOKUP($D57,Atletas!$B$2:$F$101,3,FALSE))) | F56: =IF($D57="","",IF(IFERROR(VLOOKUP($D57,Atletas!$B$2:$F$101,4,FALSE),"") ="","Gênero",VLOOKUP($D57,Atletas!$B$2:$F$101,4,FALSE))) | G56: =IF($D57="","",IF(IFERROR(VLOOKUP($D57,Atletas!$B$2:$F$101,2,FALSE),"") ="","Cadastro não encontrado. Digite os dados.",VLOOKUP($D57,Atletas!$B$2:$F$101,2,FALSE))) | I56: =IF(H56="","",IF(VLOOKUP(H56,Geral!$B$13:$D$27,3,FALSE)="<=",IF(YEAR(NOW())-YEAR(E56)>VLOOKUP(H56,Geral!$B$13:$C$27,2,FALSE),"ý","þ"),IF(VLOOKUP(H56,Geral!$B$13:$D$27,3,FALSE)=">=",IF(YEAR(NOW())-YEAR(E56)<VLOOKUP(H56,Geral!$B$13:$C$27,2,FALSE),"ý","þ")))) | K56: =SUM(IF(J56="Sim",IF(H56="",0,IF(OR(H56 = Geral!$A$46,H56 = Geral!$A$48),Geral!$H$13,IF(YEAR(NOW())-YEAR(E56) < 18,Geral!$I$17,Geral!$H$17))),0),IF(H56="",0,IF(OR(H56 = Geral!$A$46,H56 = Geral!$A$48),Geral!$H$13,IF(YEAR(NOW())-YEAR(E56) < 18,Geral!$I$13,Geral!$H$13)))) -> 0 | O56: =G56 | P56: =D57 -> 0 | Q56: =H56 -> 0 | S56: =E56 | T56: =F56 | U56: =A56 -> 0 | V56: =C56
I57: =IF(H57="","",IF(VLOOKUP(H57,Geral!$B$28:$D$41,3,FALSE)="<=",IF(YEAR(NOW())-YEAR(E56)>VLOOKUP(H57,Geral!$B$28:$C$41,2,FALSE),"ý","þ"),IF(VLOOKUP(H57,Geral!$B$28:$D$41,3,FALSE)=">=",IF(YEAR(NOW())-YEAR(E56)<VLOOKUP(H57,Geral!$B$28:$C$41,2,FALSE),"ý","þ")))) | K57: =IF(H57="",0,IF(OR(H57 = Geral!$A$46,H57 = Geral!$A$48),Geral!$H$15,IF(YEAR(NOW())-YEAR(E56) < 18,Geral!$I$15,Geral!$H$15))) -> 0 | M57: =IF(L57="","",IF(VLOOKUP($H57,Geral!$B$28:$D$41,3,FALSE)="<=",IF(YEAR(NOW())-YEAR(VLOOKUP(L57,Atletas!$B$2:$D$101,3,FALSE))>VLOOKUP($H57,Geral!$B$28:$C$41,2,FALSE),"ý","þ"),IF(VLOOKUP($H57,Geral!$B$28:$D$41,3,FALSE)=">=",IF(YEAR(NOW())-YEAR(VLOOKUP(L57,Atletas!$B$2:$D$101,3,FALSE))<VLOOKUP($H57,Geral!$B$28:$C$41,2,FALSE),"ý","þ")))) | N57: =IF($L57="","",IF(IFERROR(VLOOKUP($L57,Atletas!$B$2:$F$101,2,FALSE),"") ="","Cadastro não encontrado. Digite os dados.",VLOOKUP($L57,Atletas!$B$2:$F$101,2,FALSE))) | O57: =G56 | P57: =D57 -> 0 | Q57: =H57 -> 0 | R57: =L57 -> 0 | S57: =E56 | T57: =F56 | U57: =A56 -> 0 | V57: =C56
I58: =IF(H58="","",IF(VLOOKUP(H58,Geral!$B$42:$D$48,3,FALSE)="<=",IF(YEAR(NOW())-YEAR(E56)>VLOOKUP(H58,Geral!$B$42:$C$48,2,FALSE),"ý","þ"),IF(VLOOKUP(H58,Geral!$B$42:$D$48,3,FALSE)=">=",IF(YEAR(NOW())-YEAR(E56)<VLOOKUP(H58,Geral!$B$42:$C$48,2,FALSE),"ý","þ")))) | K58: =IF(H58="",0,IF(OR(H58 = Geral!$A$46,H58 = Geral!$A$48),Geral!$H$15,IF(YEAR(NOW())-YEAR(E56) < 18,Geral!$I$15,Geral!$H$15))) -> 0 | M58: =IF(L58="","",IF(VLOOKUP($H58,Geral!$B$42:$D$48,3,FALSE)="<=",IF(YEAR(NOW())-YEAR(VLOOKUP(L58,Atletas!$B$2:$D$101,3,FALSE))>VLOOKUP($H58,Geral!$B$42:$C$48,2,FALSE),"ý","þ"),IF(VLOOKUP($H58,Geral!$B$42:$D$48,3,FALSE)=">=",IF(YEAR(NOW())-YEAR(VLOOKUP(L58,Atletas!$B$2:$D$101,3,FALSE))<VLOOKUP($H58,Geral!$B$42:$C$48,2,FALSE),"ý","þ")))) | N58: =IF($L58="","",IF(IFERROR(VLOOKUP($L58,Atletas!$B$2:$F$101,2,FALSE),"") ="","Cadastro não encontrado. Digite os dados.",VLOOKUP($L58,Atletas!$B$2:$F$101,2,FALSE))) | O58: =G56 | P58: =D57 -> 0 | Q58: =H58 -> 0 | R58: =L58 -> 0 | S58: =E56 | T58: =F56 | U58: =A56 -> 0 | V58: =C56
A59: =SUM(K59:K61) -> 0 | B59: 20 | C59: =IF($D60="","",IF(IFERROR(VLOOKUP($D60,Atletas!$B$2:$F$101,5,FALSE),"") ="","CLUBE",VLOOKUP($D60,Atletas!$B$2:$F$101,5,FALSE))) | E59: =IF($D60="","",IF(IFERROR(VLOOKUP($D60,Atletas!$B$2:$F$101,3,FALSE),"") ="","DD/MM/AAAA",VLOOKUP($D60,Atletas!$B$2:$F$101,3,FALSE))) | F59: =IF($D60="","",IF(IFERROR(VLOOKUP($D60,Atletas!$B$2:$F$101,4,FALSE),"") ="","Gênero",VLOOKUP($D60,Atletas!$B$2:$F$101,4,FALSE))) | G59: =IF($D60="","",IF(IFERROR(VLOOKUP($D60,Atletas!$B$2:$F$101,2,FALSE),"") ="","Cadastro não encontrado. Digite os dados.",VLOOKUP($D60,Atletas!$B$2:$F$101,2,FALSE))) | I59: =IF(H59="","",IF(VLOOKUP(H59,Geral!$B$13:$D$27,3,FALSE)="<=",IF(YEAR(NOW())-YEAR(E59)>VLOOKUP(H59,Geral!$B$13:$C$27,2,FALSE),"ý","þ"),IF(VLOOKUP(H59,Geral!$B$13:$D$27,3,FALSE)=">=",IF(YEAR(NOW())-YEAR(E59)<VLOOKUP(H59,Geral!$B$13:$C$27,2,FALSE),"ý","þ")))) | K59: =SUM(IF(J59="Sim",IF(H59="",0,IF(OR(H59 = Geral!$A$46,H59 = Geral!$A$48),Geral!$H$13,IF(YEAR(NOW())-YEAR(E59) < 18,Geral!$I$17,Geral!$H$17))),0),IF(H59="",0,IF(OR(H59 = Geral!$A$46,H59 = Geral!$A$48),Geral!$H$13,IF(YEAR(NOW())-YEAR(E59) < 18,Geral!$I$13,Geral!$H$13)))) -> 0 | O59: =G59 | P59: =D60 -> 0 | Q59: =H59 -> 0 | S59: =E59 | T59: =F59 | U59: =A59 -> 0 | V59: =C59
I60: =IF(H60="","",IF(VLOOKUP(H60,Geral!$B$28:$D$41,3,FALSE)="<=",IF(YEAR(NOW())-YEAR(E59)>VLOOKUP(H60,Geral!$B$28:$C$41,2,FALSE),"ý","þ"),IF(VLOOKUP(H60,Geral!$B$28:$D$41,3,FALSE)=">=",IF(YEAR(NOW())-YEAR(E59)<VLOOKUP(H60,Geral!$B$28:$C$41,2,FALSE),"ý","þ")))) | K60: =IF(H60="",0,IF(OR(H60 = Geral!$A$46,H60 = Geral!$A$48),Geral!$H$15,IF(YEAR(NOW())-YEAR(E59) < 18,Geral!$I$15,Geral!$H$15))) -> 0 | M60: =IF(L60="","",IF(VLOOKUP($H60,Geral!$B$28:$D$41,3,FALSE)="<=",IF(YEAR(NOW())-YEAR(VLOOKUP(L60,Atletas!$B$2:$D$101,3,FALSE))>VLOOKUP($H60,Geral!$B$28:$C$41,2,FALSE),"ý","þ"),IF(VLOOKUP($H60,Geral!$B$28:$D$41,3,FALSE)=">=",IF(YEAR(NOW())-YEAR(VLOOKUP(L60,Atletas!$B$2:$D$101,3,FALSE))<VLOOKUP($H60,Geral!$B$28:$C$41,2,FALSE),"ý","þ")))) | N60: =IF($L60="","",IF(IFERROR(VLOOKUP($L60,Atletas!$B$2:$F$101,2,FALSE),"") ="","Cadastro não encontrado. Digite os dados.",VLOOKUP($L60,Atletas!$B$2:$F$101,2,FALSE))) | O60: =G59 | P60: =D60 -> 0 | Q60: =H60 -> 0 | R60: =L60 -> 0 | S60: =E59 | T60: =F59 | U60: =A59 -> 0 | V60: =C59
I61: =IF(H61="","",IF(VLOOKUP(H61,Geral!$B$42:$D$48,3,FALSE)="<=",IF(YEAR(NOW())-YEAR(E59)>VLOOKUP(H61,Geral!$B$42:$C$48,2,FALSE),"ý","þ"),IF(VLOOKUP(H61,Geral!$B$42:$D$48,3,FALSE)=">=",IF(YEAR(NOW())-YEAR(E59)<VLOOKUP(H61,Geral!$B$42:$C$48,2,FALSE),"ý","þ")))) | K61: =IF(H61="",0,IF(OR(H61 = Geral!$A$46,H61 = Geral!$A$48),Geral!$H$15,IF(YEAR(NOW())-YEAR(E59) < 18,Geral!$I$15,Geral!$H$15))) -> 0 | M61: =IF(L61="","",IF(VLOOKUP($H61,Geral!$B$42:$D$48,3,FALSE)="<=",IF(YEAR(NOW())-YEAR(VLOOKUP(L61,Atletas!$B$2:$D$101,3,FALSE))>VLOOKUP($H61,Geral!$B$42:$C$48,2,FALSE),"ý","þ"),IF(VLOOKUP($H61,Geral!$B$42:$D$48,3,FALSE)=">=",IF(YEAR(NOW())-YEAR(VLOOKUP(L61,Atletas!$B$2:$D$101,3,FALSE))<VLOOKUP($H61,Geral!$B$42:$C$48,2,FALSE),"ý","þ")))) | N61: =IF($L61="","",IF(IFERROR(VLOOKUP($L61,Atletas!$B$2:$F$101,2,FALSE),"") ="","Cadastro não encontrado. Digite os dados.",VLOOKUP($L61,Atletas!$B$2:$F$101,2,FALSE))) | O61: =G59 | P61: =D60 -> 0 | Q61: =H61 -> 0 | R61: =L61 -> 0 | S61: =E59 | T61: =F59 | U61: =A59 -> 0 | V61: =C59
A62: =SUM(K62:K64) -> 0 | B62: 21 | C62: =IF($D63="","",IF(IFERROR(VLOOKUP($D63,Atletas!$B$2:$F$101,5,FALSE),"") ="","CLUBE",VLOOKUP($D63,Atletas!$B$2:$F$101,5,FALSE))) | E62: =IF($D63="","",IF(IFERROR(VLOOKUP($D63,Atletas!$B$2:$F$101,3,FALSE),"") ="","DD/MM/AAAA",VLOOKUP($D63,Atletas!$B$2:$F$101,3,FALSE))) | F62: =IF($D63="","",IF(IFERROR(VLOOKUP($D63,Atletas!$B$2:$F$101,4,FALSE),"") ="","Gênero",VLOOKUP($D63,Atletas!$B$2:$F$101,4,FALSE))) | G62: =IF($D63="","",IF(IFERROR(VLOOKUP($D63,Atletas!$B$2:$F$101,2,FALSE),"") ="","Cadastro não encontrado. Digite os dados.",VLOOKUP($D63,Atletas!$B$2:$F$101,2,FALSE))) | I62: =IF(H62="","",IF(VLOOKUP(H62,Geral!$B$13:$D$27,3,FALSE)="<=",IF(YEAR(NOW())-YEAR(E62)>VLOOKUP(H62,Geral!$B$13:$C$27,2,FALSE),"ý","þ"),IF(VLOOKUP(H62,Geral!$B$13:$D$27,3,FALSE)=">=",IF(YEAR(NOW())-YEAR(E62)<VLOOKUP(H62,Geral!$B$13:$C$27,2,FALSE),"ý","þ")))) | K62: =SUM(IF(J62="Sim",IF(H62="",0,IF(OR(H62 = Geral!$A$46,H62 = Geral!$A$48),Geral!$H$13,IF(YEAR(NOW())-YEAR(E62) < 18,Geral!$I$17,Geral!$H$17))),0),IF(H62="",0,IF(OR(H62 = Geral!$A$46,H62 = Geral!$A$48),Geral!$H$13,IF(YEAR(NOW())-YEAR(E62) < 18,Geral!$I$13,Geral!$H$13)))) -> 0 | O62: =G62 | P62: =D63 -> 0 | Q62: =H62 -> 0 | S62: =E62 | T62: =F62 | U62: =A62 -> 0 | V62: =C62
I63: =IF(H63="","",IF(VLOOKUP(H63,Geral!$B$28:$D$41,3,FALSE)="<=",IF(YEAR(NOW())-YEAR(E62)>VLOOKUP(H63,Geral!$B$28:$C$41,2,FALSE),"ý","þ"),IF(VLOOKUP(H63,Geral!$B$28:$D$41,3,FALSE)=">=",IF(YEAR(NOW())-YEAR(E62)<VLOOKUP(H63,Geral!$B$28:$C$41,2,FALSE),"ý","þ")))) | K63: =IF(H63="",0,IF(OR(H63 = Geral!$A$46,H63 = Geral!$A$48),Geral!$H$15,IF(YEAR(NOW())-YEAR(E62) < 18,Geral!$I$15,Geral!$H$15))) -> 0 | M63: =IF(L63="","",IF(VLOOKUP($H63,Geral!$B$28:$D$41,3,FALSE)="<=",IF(YEAR(NOW())-YEAR(VLOOKUP(L63,Atletas!$B$2:$D$101,3,FALSE))>VLOOKUP($H63,Geral!$B$28:$C$41,2,FALSE),"ý","þ"),IF(VLOOKUP($H63,Geral!$B$28:$D$41,3,FALSE)=">=",IF(YEAR(NOW())-YEAR(VLOOKUP(L63,Atletas!$B$2:$D$101,3,FALSE))<VLOOKUP($H63,Geral!$B$28:$C$41,2,FALSE),"ý","þ")))) | N63: =IF($L63="","",IF(IFERROR(VLOOKUP($L63,Atletas!$B$2:$F$101,2,FALSE),"") ="","Cadastro não encontrado. Digite os dados.",VLOOKUP($L63,Atletas!$B$2:$F$101,2,FALSE))) | O63: =G62 | P63: =D63 -> 0 | Q63: =H63 -> 0 | R63: =L63 -> 0 | S63: =E62 | T63: =F62 | U63: =A62 -> 0 | V63: =C62
I64: =IF(H64="","",IF(VLOOKUP(H64,Geral!$B$42:$D$48,3,FALSE)="<=",IF(YEAR(NOW())-YEAR(E62)>VLOOKUP(H64,Geral!$B$42:$C$48,2,FALSE),"ý","þ"),IF(VLOOKUP(H64,Geral!$B$42:$D$48,3,FALSE)=">=",IF(YEAR(NOW())-YEAR(E62)<VLOOKUP(H64,Geral!$B$42:$C$48,2,FALSE),"ý","þ")))) | K64: =IF(H64="",0,IF(OR(H64 = Geral!$A$46,H64 = Geral!$A$48),Geral!$H$15,IF(YEAR(NOW())-YEAR(E62) < 18,Geral!$I$15,Geral!$H$15))) -> 0 | M64: =IF(L64="","",IF(VLOOKUP($H64,Geral!$B$42:$D$48,3,FALSE)="<=",IF(YEAR(NOW())-YEAR(VLOOKUP(L64,Atletas!$B$2:$D$101,3,FALSE))>VLOOKUP($H64,Geral!$B$42:$C$48,2,FALSE),"ý","þ"),IF(VLOOKUP($H64,Geral!$B$42:$D$48,3,FALSE)=">=",IF(YEAR(NOW())-YEAR(VLOOKUP(L64,Atletas!$B$2:$D$101,3,FALSE))<VLOOKUP($H64,Geral!$B$42:$C$48,2,FALSE),"ý","þ")))) | N64: =IF($L64="","",IF(IFERROR(VLOOKUP($L64,Atletas!$B$2:$F$101,2,FALSE),"") ="","Cadastro não encontrado. Digite os dados.",VLOOKUP($L64,Atletas!$B$2:$F$101,2,FALSE))) | O64: =G62 | P64: =D63 -> 0 | Q64: =H64 -> 0 | R64: =L64 -> 0 | S64: =E62 | T64: =F62 | U64: =A62 -> 0 | V64: =C62
A65: =SUM(K65:K67) -> 0 | B65: 22 | C65: =IF($D66="","",IF(IFERROR(VLOOKUP($D66,Atletas!$B$2:$F$101,5,FALSE),"") ="","CLUBE",VLOOKUP($D66,Atletas!$B$2:$F$101,5,FALSE))) | E65: =IF($D66="","",IF(IFERROR(VLOOKUP($D66,Atletas!$B$2:$F$101,3,FALSE),"") ="","DD/MM/AAAA",VLOOKUP($D66,Atletas!$B$2:$F$101,3,FALSE))) | F65: =IF($D66="","",IF(IFERROR(VLOOKUP($D66,Atletas!$B$2:$F$101,4,FALSE),"") ="","Gênero",VLOOKUP($D66,Atletas!$B$2:$F$101,4,FALSE))) | G65: =IF($D66="","",IF(IFERROR(VLOOKUP($D66,Atletas!$B$2:$F$101,2,FALSE),"") ="","Cadastro não encontrado. Digite os dados.",VLOOKUP($D66,Atletas!$B$2:$F$101,2,FALSE))) | I65: =IF(H65="","",IF(VLOOKUP(H65,Geral!$B$13:$D$27,3,FALSE)="<=",IF(YEAR(NOW())-YEAR(E65)>VLOOKUP(H65,Geral!$B$13:$C$27,2,FALSE),"ý","þ"),IF(VLOOKUP(H65,Geral!$B$13:$D$27,3,FALSE)=">=",IF(YEAR(NOW())-YEAR(E65)<VLOOKUP(H65,Geral!$B$13:$C$27,2,FALSE),"ý","þ")))) | K65: =SUM(IF(J65="Sim",IF(H65="",0,IF(OR(H65 = Geral!$A$46,H65 = Geral!$A$48),Geral!$H$13,IF(YEAR(NOW())-YEAR(E65) < 18,Geral!$I$17,Geral!$H$17))),0),IF(H65="",0,IF(OR(H65 = Geral!$A$46,H65 = Geral!$A$48),Geral!$H$13,IF(YEAR(NOW())-YEAR(E65) < 18,Geral!$I$13,Geral!$H$13)))) -> 0 | O65: =G65 | P65: =D66 -> 0 | Q65: =H65 -> 0 | S65: =E65 | T65: =F65 | U65: =A65 -> 0 | V65: =C65
I66: =IF(H66="","",IF(VLOOKUP(H66,Geral!$B$28:$D$41,3,FALSE)="<=",IF(YEAR(NOW())-YEAR(E65)>VLOOKUP(H66,Geral!$B$28:$C$41,2,FALSE),"ý","þ"),IF(VLOOKUP(H66,Geral!$B$28:$D$41,3,FALSE)=">=",IF(YEAR(NOW())-YEAR(E65)<VLOOKUP(H66,Geral!$B$28:$C$41,2,FALSE),"ý","þ")))) | K66: =IF(H66="",0,IF(OR(H66 = Geral!$A$46,H66 = Geral!$A$48),Geral!$H$15,IF(YEAR(NOW())-YEAR(E65) < 18,Geral!$I$15,Geral!$H$15))) -> 0 | M66: =IF(L66="","",IF(VLOOKUP($H66,Geral!$B$28:$D$41,3,FALSE)="<=",IF(YEAR(NOW())-YEAR(VLOOKUP(L66,Atletas!$B$2:$D$101,3,FALSE))>VLOOKUP($H66,Geral!$B$28:$C$41,2,FALSE),"ý","þ"),IF(VLOOKUP($H66,Geral!$B$28:$D$41,3,FALSE)=">=",IF(YEAR(NOW())-YEAR(VLOOKUP(L66,Atletas!$B$2:$D$101,3,FALSE))<VLOOKUP($H66,Geral!$B$28:$C$41,2,FALSE),"ý","þ")))) | N66: =IF($L66="","",IF(IFERROR(VLOOKUP($L66,Atletas!$B$2:$F$101,2,FALSE),"") ="","Cadastro não encontrado. Digite os dados.",VLOOKUP($L66,Atletas!$B$2:$F$101,2,FALSE))) | O66: =G65 | P66: =D66 -> 0 | Q66: =H66 -> 0 | R66: =L66 -> 0 | S66: =E65 | T66: =F65 | U66: =A65 -> 0 | V66: =C65
I67: =IF(H67="","",IF(VLOOKUP(H67,Geral!$B$42:$D$48,3,FALSE)="<=",IF(YEAR(NOW())-YEAR(E65)>VLOOKUP(H67,Geral!$B$42:$C$48,2,FALSE),"ý","þ"),IF(VLOOKUP(H67,Geral!$B$42:$D$48,3,FALSE)=">=",IF(YEAR(NOW())-YEAR(E65)<VLOOKUP(H67,Geral!$B$42:$C$48,2,FALSE),"ý","þ")))) | K67: =IF(H67="",0,IF(OR(H67 = Geral!$A$46,H67 = Geral!$A$48),Geral!$H$15,IF(YEAR(NOW())-YEAR(E65) < 18,Geral!$I$15,Geral!$H$15))) -> 0 | M67: =IF(L67="","",IF(VLOOKUP($H67,Geral!$B$42:$D$48,3,FALSE)="<=",IF(YEAR(NOW())-YEAR(VLOOKUP(L67,Atletas!$B$2:$D$101,3,FALSE))>VLOOKUP($H67,Geral!$B$42:$C$48,2,FALSE),"ý","þ"),IF(VLOOKUP($H67,Geral!$B$42:$D$48,3,FALSE)=">=",IF(YEAR(NOW())-YEAR(VLOOKUP(L67,Atletas!$B$2:$D$101,3,FALSE))<VLOOKUP($H67,Geral!$B$42:$C$48,2,FALSE),"ý","þ")))) | N67: =IF($L67="","",IF(IFERROR(VLOOKUP($L67,Atletas!$B$2:$F$101,2,FALSE),"") ="","Cadastro não encontrado. Digite os dados.",VLOOKUP($L67,Atletas!$B$2:$F$101,2,FALSE))) | O67: =G65 | P67: =D66 -> 0 | Q67: =H67 -> 0 | R67: =L67 -> 0 | S67: =E65 | T67: =F65 | U67: =A65 -> 0 | V67: =C65
A68: =SUM(K68:K70) -> 0 | B68: 23 | C68: =IF($D69="","",IF(IFERROR(VLOOKUP($D69,Atletas!$B$2:$F$101,5,FALSE),"") ="","CLUBE",VLOOKUP($D69,Atletas!$B$2:$F$101,5,FALSE))) | E68: =IF($D69="","",IF(IFERROR(VLOOKUP($D69,Atletas!$B$2:$F$101,3,FALSE),"") ="","DD/MM/AAAA",VLOOKUP($D69,Atletas!$B$2:$F$101,3,FALSE))) | F68: =IF($D69="","",IF(IFERROR(VLOOKUP($D69,Atletas!$B$2:$F$101,4,FALSE),"") ="","Gênero",VLOOKUP($D69,Atletas!$B$2:$F$101,4,FALSE))) | G68: =IF($D69="","",IF(IFERROR(VLOOKUP($D69,Atletas!$B$2:$F$101,2,FALSE),"") ="","Cadastro não encontrado. Digite os dados.",VLOOKUP($D69,Atletas!$B$2:$F$101,2,FALSE))) | I68: =IF(H68="","",IF(VLOOKUP(H68,Geral!$B$13:$D$27,3,FALSE)="<=",IF(YEAR(NOW())-YEAR(E68)>VLOOKUP(H68,Geral!$B$13:$C$27,2,FALSE),"ý","þ"),IF(VLOOKUP(H68,Geral!$B$13:$D$27,3,FALSE)=">=",IF(YEAR(NOW())-YEAR(E68)<VLOOKUP(H68,Geral!$B$13:$C$27,2,FALSE),"ý","þ")))) | K68: =SUM(IF(J68="Sim",IF(H68="",0,IF(OR(H68 = Geral!$A$46,H68 = Geral!$A$48),Geral!$H$13,IF(YEAR(NOW())-YEAR(E68) < 18,Geral!$I$17,Geral!$H$17))),0),IF(H68="",0,IF(OR(H68 = Geral!$A$46,H68 = Geral!$A$48),Geral!$H$13,IF(YEAR(NOW())-YEAR(E68) < 18,Geral!$I$13,Geral!$H$13)))) -> 0 | O68: =G68 | P68: =D69 -> 0 | Q68: =H68 -> 0 | S68: =E68 | T68: =F68 | U68: =A68 -> 0 | V68: =C68
I69: =IF(H69="","",IF(VLOOKUP(H69,Geral!$B$28:$D$41,3,FALSE)="<=",IF(YEAR(NOW())-YEAR(E68)>VLOOKUP(H69,Geral!$B$28:$C$41,2,FALSE),"ý","þ"),IF(VLOOKUP(H69,Geral!$B$28:$D$41,3,FALSE)=">=",IF(YEAR(NOW())-YEAR(E68)<VLOOKUP(H69,Geral!$B$28:$C$41,2,FALSE),"ý","þ")))) | K69: =IF(H69="",0,IF(OR(H69 = Geral!$A$46,H69 = Geral!$A$48),Geral!$H$15,IF(YEAR(NOW())-YEAR(E68) < 18,Geral!$I$15,Geral!$H$15))) -> 0 | M69: =IF(L69="","",IF(VLOOKUP($H69,Geral!$B$28:$D$41,3,FALSE)="<=",IF(YEAR(NOW())-YEAR(VLOOKUP(L69,Atletas!$B$2:$D$101,3,FALSE))>VLOOKUP($H69,Geral!$B$28:$C$41,2,FALSE),"ý","þ"),IF(VLOOKUP($H69,Geral!$B$28:$D$41,3,FALSE)=">=",IF(YEAR(NOW())-YEAR(VLOOKUP(L69,Atletas!$B$2:$D$101,3,FALSE))<VLOOKUP($H69,Geral!$B$28:$C$41,2,FALSE),"ý","þ")))) | N69: =IF($L69="","",IF(IFERROR(VLOOKUP($L69,Atletas!$B$2:$F$101,2,FALSE),"") ="","Cadastro não encontrado. Digite os dados.",VLOOKUP($L69,Atletas!$B$2:$F$101,2,FALSE))) | O69: =G68 | P69: =D69 -> 0 | Q69: =H69 -> 0 | R69: =L69 -> 0 | S69: =E68 | T69: =F68 | U69: =A68 -> 0 | V69: =C68
I70: =IF(H70="","",IF(VLOOKUP(H70,Geral!$B$42:$D$48,3,FALSE)="<=",IF(YEAR(NOW())-YEAR(E68)>VLOOKUP(H70,Geral!$B$42:$C$48,2,FALSE),"ý","þ"),IF(VLOOKUP(H70,Geral!$B$42:$D$48,3,FALSE)=">=",IF(YEAR(NOW())-YEAR(E68)<VLOOKUP(H70,Geral!$B$42:$C$48,2,FALSE),"ý","þ")))) | K70: =IF(H70="",0,IF(OR(H70 = Geral!$A$46,H70 = Geral!$A$48),Geral!$H$15,IF(YEAR(NOW())-YEAR(E68) < 18,Geral!$I$15,Geral!$H$15))) -> 0 | M70: =IF(L70="","",IF(VLOOKUP($H70,Geral!$B$42:$D$48,3,FALSE)="<=",IF(YEAR(NOW())-YEAR(VLOOKUP(L70,Atletas!$B$2:$D$101,3,FALSE))>VLOOKUP($H70,Geral!$B$42:$C$48,2,FALSE),"ý","þ"),IF(VLOOKUP($H70,Geral!$B$42:$D$48,3,FALSE)=">=",IF(YEAR(NOW())-YEAR(VLOOKUP(L70,Atletas!$B$2:$D$101,3,FALSE))<VLOOKUP($H70,Geral!$B$42:$C$48,2,FALSE),"ý","þ")))) | N70: =IF($L70="","",IF(IFERROR(VLOOKUP($L70,Atletas!$B$2:$F$101,2,FALSE),"") ="","Cadastro não encontrado. Digite os dados.",VLOOKUP($L70,Atletas!$B$2:$F$101,2,FALSE))) | O70: =G68 | P70: =D69 -> 0 | Q70: =H70 -> 0 | R70: =L70 -> 0 | S70: =E68 | T70: =F68 | U70: =A68 -> 0 | V70: =C68
A71: =SUM(K71:K73) -> 0 | B71: 24 | C71: =IF($D72="","",IF(IFERROR(VLOOKUP($D72,Atletas!$B$2:$F$101,5,FALSE),"") ="","CLUBE",VLOOKUP($D72,Atletas!$B$2:$F$101,5,FALSE))) | E71: =IF($D72="","",IF(IFERROR(VLOOKUP($D72,Atletas!$B$2:$F$101,3,FALSE),"") ="","DD/MM/AAAA",VLOOKUP($D72,Atletas!$B$2:$F$101,3,FALSE))) | F71: =IF($D72="","",IF(IFERROR(VLOOKUP($D72,Atletas!$B$2:$F$101,4,FALSE),"") ="","Gênero",VLOOKUP($D72,Atletas!$B$2:$F$101,4,FALSE))) | G71: =IF($D72="","",IF(IFERROR(VLOOKUP($D72,Atletas!$B$2:$F$101,2,FALSE),"") ="","Cadastro não encontrado. Digite os dados.",VLOOKUP($D72,Atletas!$B$2:$F$101,2,FALSE))) | I71: =IF(H71="","",IF(VLOOKUP(H71,Geral!$B$13:$D$27,3,FALSE)="<=",IF(YEAR(NOW())-YEAR(E71)>VLOOKUP(H71,Geral!$B$13:$C$27,2,FALSE),"ý","þ"),IF(VLOOKUP(H71,Geral!$B$13:$D$27,3,FALSE)=">=",IF(YEAR(NOW())-YEAR(E71)<VLOOKUP(H71,Geral!$B$13:$C$27,2,FALSE),"ý","þ")))) | K71: =SUM(IF(J71="Sim",IF(H71="",0,IF(OR(H71 = Geral!$A$46,H71 = Geral!$A$48),Geral!$H$13,IF(YEAR(NOW())-YEAR(E71) < 18,Geral!$I$17,Geral!$H$17))),0),IF(H71="",0,IF(OR(H71 = Geral!$A$46,H71 = Geral!$A$48),Geral!$H$13,IF(YEAR(NOW())-YEAR(E71) < 18,Geral!$I$13,Geral!$H$13)))) -> 0 | O71: =G71 | P71: =D72 -> 0 | Q71: =H71 -> 0 | S71: =E71 | T71: =F71 | U71: =A71 -> 0 | V71: =C71
I72: =IF(H72="","",IF(VLOOKUP(H72,Geral!$B$28:$D$41,3,FALSE)="<=",IF(YEAR(NOW())-YEAR(E71)>VLOOKUP(H72,Geral!$B$28:$C$41,2,FALSE),"ý","þ"),IF(VLOOKUP(H72,Geral!$B$28:$D$41,3,FALSE)=">=",IF(YEAR(NOW())-YEAR(E71)<VLOOKUP(H72,Geral!$B$28:$C$41,2,FALSE),"ý","þ")))) | K72: =IF(H72="",0,IF(OR(H72 = Geral!$A$46,H72 = Geral!$A$48),Geral!$H$15,IF(YEAR(NOW())-YEAR(E71) < 18,Geral!$I$15,Geral!$H$15))) -> 0 | M72: =IF(L72="","",IF(VLOOKUP($H72,Geral!$B$28:$D$41,3,FALSE)="<=",IF(YEAR(NOW())-YEAR(VLOOKUP(L72,Atletas!$B$2:$D$101,3,FALSE))>VLOOKUP($H72,Geral!$B$28:$C$41,2,FALSE),"ý","þ"),IF(VLOOKUP($H72,Geral!$B$28:$D$41,3,FALSE)=">=",IF(YEAR(NOW())-YEAR(VLOOKUP(L72,Atletas!$B$2:$D$101,3,FALSE))<VLOOKUP($H72,Geral!$B$28:$C$41,2,FALSE),"ý","þ")))) | N72: =IF($L72="","",IF(IFERROR(VLOOKUP($L72,Atletas!$B$2:$F$101,2,FALSE),"") ="","Cadastro não encontrado. Digite os dados.",VLOOKUP($L72,Atletas!$B$2:$F$101,2,FALSE))) | O72: =G71 | P72: =D72 -> 0 | Q72: =H72 -> 0 | R72: =L72 -> 0 | S72: =E71 | T72: =F71 | U72: =A71 -> 0 | V72: =C71
I73: =IF(H73="","",IF(VLOOKUP(H73,Geral!$B$42:$D$48,3,FALSE)="<=",IF(YEAR(NOW())-YEAR(E71)>VLOOKUP(H73,Geral!$B$42:$C$48,2,FALSE),"ý","þ"),IF(VLOOKUP(H73,Geral!$B$42:$D$48,3,FALSE)=">=",IF(YEAR(NOW())-YEAR(E71)<VLOOKUP(H73,Geral!$B$42:$C$48,2,FALSE),"ý","þ")))) | K73: =IF(H73="",0,IF(OR(H73 = Geral!$A$46,H73 = Geral!$A$48),Geral!$H$15,IF(YEAR(NOW())-YEAR(E71) < 18,Geral!$I$15,Geral!$H$15))) -> 0 | M73: =IF(L73="","",IF(VLOOKUP($H73,Geral!$B$42:$D$48,3,FALSE)="<=",IF(YEAR(NOW())-YEAR(VLOOKUP(L73,Atletas!$B$2:$D$101,3,FALSE))>VLOOKUP($H73,Geral!$B$42:$C$48,2,FALSE),"ý","þ"),IF(VLOOKUP($H73,Geral!$B$42:$D$48,3,FALSE)=">=",IF(YEAR(NOW())-YEAR(VLOOKUP(L73,Atletas!$B$2:$D$101,3,FALSE))<VLOOKUP($H73,Geral!$B$42:$C$48,2,FALSE),"ý","þ")))) | N73: =IF($L73="","",IF(IFERROR(VLOOKUP($L73,Atletas!$B$2:$F$101,2,FALSE),"") ="","Cadastro não encontrado. Digite os dados.",VLOOKUP($L73,Atletas!$B$2:$F$101,2,FALSE))) | O73: =G71 | P73: =D72 -> 0 | Q73: =H73 -> 0 | R73: =L73 -> 0 | S73: =E71 | T73: =F71 | U73: =A71 -> 0 | V73: =C71
A74: =SUM(K74:K76) -> 0 | B74: 25 | C74: =IF($D75="","",IF(IFERROR(VLOOKUP($D75,Atletas!$B$2:$F$101,5,FALSE),"") ="","CLUBE",VLOOKUP($D75,Atletas!$B$2:$F$101,5,FALSE))) | E74: =IF($D75="","",IF(IFERROR(VLOOKUP($D75,Atletas!$B$2:$F$101,3,FALSE),"") ="","DD/MM/AAAA",VLOOKUP($D75,Atletas!$B$2:$F$101,3,FALSE))) | F74: =IF($D75="","",IF(IFERROR(VLOOKUP($D75,Atletas!$B$2:$F$101,4,FALSE),"") ="","Gênero",VLOOKUP($D75,Atletas!$B$2:$F$101,4,FALSE))) | G74: =IF($D75="","",IF(IFERROR(VLOOKUP($D75,Atletas!$B$2:$F$101,2,FALSE),"") ="","Cadastro não encontrado. Digite os dados.",VLOOKUP($D75,Atletas!$B$2:$F$101,2,FALSE))) | I74: =IF(H74="","",IF(VLOOKUP(H74,Geral!$B$13:$D$27,3,FALSE)="<=",IF(YEAR(NOW())-YEAR(E74)>VLOOKUP(H74,Geral!$B$13:$C$27,2,FALSE),"ý","þ"),IF(VLOOKUP(H74,Geral!$B$13:$D$27,3,FALSE)=">=",IF(YEAR(NOW())-YEAR(E74)<VLOOKUP(H74,Geral!$B$13:$C$27,2,FALSE),"ý","þ")))) | K74: =SUM(IF(J74="Sim",IF(H74="",0,IF(OR(H74 = Geral!$A$46,H74 = Geral!$A$48),Geral!$H$13,IF(YEAR(NOW())-YEAR(E74) < 18,Geral!$I$17,Geral!$H$17))),0),IF(H74="",0,IF(OR(H74 = Geral!$A$46,H74 = Geral!$A$48),Geral!$H$13,IF(YEAR(NOW())-YEAR(E74) < 18,Geral!$I$13,Geral!$H$13)))) -> 0 | O74: =G74 | P74: =D75 -> 0 | Q74: =H74 -> 0 | S74: =E74 | T74: =F74 | U74: =A74 -> 0 | V74: =C74
I75: =IF(H75="","",IF(VLOOKUP(H75,Geral!$B$28:$D$41,3,FALSE)="<=",IF(YEAR(NOW())-YEAR(E74)>VLOOKUP(H75,Geral!$B$28:$C$41,2,FALSE),"ý","þ"),IF(VLOOKUP(H75,Geral!$B$28:$D$41,3,FALSE)=">=",IF(YEAR(NOW())-YEAR(E74)<VLOOKUP(H75,Geral!$B$28:$C$41,2,FALSE),"ý","þ")))) | K75: =IF(H75="",0,IF(OR(H75 = Geral!$A$46,H75 = Geral!$A$48),Geral!$H$15,IF(YEAR(NOW())-YEAR(E74) < 18,Geral!$I$15,Geral!$H$15))) -> 0 | M75: =IF(L75="","",IF(VLOOKUP($H75,Geral!$B$28:$D$41,3,FALSE)="<=",IF(YEAR(NOW())-YEAR(VLOOKUP(L75,Atletas!$B$2:$D$101,3,FALSE))>VLOOKUP($H75,Geral!$B$28:$C$41,2,FALSE),"ý","þ"),IF(VLOOKUP($H75,Geral!$B$28:$D$41,3,FALSE)=">=",IF(YEAR(NOW())-YEAR(VLOOKUP(L75,Atletas!$B$2:$D$101,3,FALSE))<VLOOKUP($H75,Geral!$B$28:$C$41,2,FALSE),"ý","þ")))) | N75: =IF($L75="","",IF(IFERROR(VLOOKUP($L75,Atletas!$B$2:$F$101,2,FALSE),"") ="","Cadastro não encontrado. Digite os dados.",VLOOKUP($L75,Atletas!$B$2:$F$101,2,FALSE))) | O75: =G74 | P75: =D75 -> 0 | Q75: =H75 -> 0 | R75: =L75 -> 0 | S75: =E74 | T75: =F74 | U75: =A74 -> 0 | V75: =C74
I76: =IF(H76="","",IF(VLOOKUP(H76,Geral!$B$42:$D$48,3,FALSE)="<=",IF(YEAR(NOW())-YEAR(E74)>VLOOKUP(H76,Geral!$B$42:$C$48,2,FALSE),"ý","þ"),IF(VLOOKUP(H76,Geral!$B$42:$D$48,3,FALSE)=">=",IF(YEAR(NOW())-YEAR(E74)<VLOOKUP(H76,Geral!$B$42:$C$48,2,FALSE),"ý","þ")))) | K76: =IF(H76="",0,IF(OR(H76 = Geral!$A$46,H76 = Geral!$A$48),Geral!$H$15,IF(YEAR(NOW())-YEAR(E74) < 18,Geral!$I$15,Geral!$H$15))) -> 0 | M76: =IF(L76="","",IF(VLOOKUP($H76,Geral!$B$42:$D$48,3,FALSE)="<=",IF(YEAR(NOW())-YEAR(VLOOKUP(L76,Atletas!$B$2:$D$101,3,FALSE))>VLOOKUP($H76,Geral!$B$42:$C$48,2,FALSE),"ý","þ"),IF(VLOOKUP($H76,Geral!$B$42:$D$48,3,FALSE)=">=",IF(YEAR(NOW())-YEAR(VLOOKUP(L76,Atletas!$B$2:$D$101,3,FALSE))<VLOOKUP($H76,Geral!$B$42:$C$48,2,FALSE),"ý","þ")))) | N76: =IF($L76="","",IF(IFERROR(VLOOKUP($L76,Atletas!$B$2:$F$101,2,FALSE),"") ="","Cadastro não encontrado. Digite os dados.",VLOOKUP($L76,Atletas!$B$2:$F$101,2,FALSE))) | O76: =G74 | P76: =D75 -> 0 | Q76: =H76 -> 0 | R76: =L76 -> 0 | S76: =E74 | T76: =F74 | U76: =A74 -> 0 | V76: =C74
A77: =SUM(K77:K79) -> 0 | B77: 26 | C77: =IF($D78="","",IF(IFERROR(VLOOKUP($D78,Atletas!$B$2:$F$101,5,FALSE),"") ="","CLUBE",VLOOKUP($D78,Atletas!$B$2:$F$101,5,FALSE))) | E77: =IF($D78="","",IF(IFERROR(VLOOKUP($D78,Atletas!$B$2:$F$101,3,FALSE),"") ="","DD/MM/AAAA",VLOOKUP($D78,Atletas!$B$2:$F$101,3,FALSE))) | F77: =IF($D78="","",IF(IFERROR(VLOOKUP($D78,Atletas!$B$2:$F$101,4,FALSE),"") ="","Gênero",VLOOKUP($D78,Atletas!$B$2:$F$101,4,FALSE))) | G77: =IF($D78="","",IF(IFERROR(VLOOKUP($D78,Atletas!$B$2:$F$101,2,FALSE),"") ="","Cadastro não encontrado. Digite os dados.",VLOOKUP($D78,Atletas!$B$2:$F$101,2,FALSE))) | I77: =IF(H77="","",IF(VLOOKUP(H77,Geral!$B$13:$D$27,3,FALSE)="<=",IF(YEAR(NOW())-YEAR(E77)>VLOOKUP(H77,Geral!$B$13:$C$27,2,FALSE),"ý","þ"),IF(VLOOKUP(H77,Geral!$B$13:$D$27,3,FALSE)=">=",IF(YEAR(NOW())-YEAR(E77)<VLOOKUP(H77,Geral!$B$13:$C$27,2,FALSE),"ý","þ")))) | K77: =SUM(IF(J77="Sim",IF(H77="",0,IF(OR(H77 = Geral!$A$46,H77 = Geral!$A$48),Geral!$H$13,IF(YEAR(NOW())-YEAR(E77) < 18,Geral!$I$17,Geral!$H$17))),0),IF(H77="",0,IF(OR(H77 = Geral!$A$46,H77 = Geral!$A$48),Geral!$H$13,IF(YEAR(NOW())-YEAR(E77) < 18,Geral!$I$13,Geral!$H$13)))) -> 0 | O77: =G77 | P77: =D78 -> 0 | Q77: =H77 -> 0 | S77: =E77 | T77: =F77 | U77: =A77 -> 0 | V77: =C77
I78: =IF(H78="","",IF(VLOOKUP(H78,Geral!$B$28:$D$41,3,FALSE)="<=",IF(YEAR(NOW())-YEAR(E77)>VLOOKUP(H78,Geral!$B$28:$C$41,2,FALSE),"ý","þ"),IF(VLOOKUP(H78,Geral!$B$28:$D$41,3,FALSE)=">=",IF(YEAR(NOW())-YEAR(E77)<VLOOKUP(H78,Geral!$B$28:$C$41,2,FALSE),"ý","þ")))) | K78: =IF(H78="",0,IF(OR(H78 = Geral!$A$46,H78 = Geral!$A$48),Geral!$H$15,IF(YEAR(NOW())-YEAR(E77) < 18,Geral!$I$15,Geral!$H$15))) -> 0 | M78: =IF(L78="","",IF(VLOOKUP($H78,Geral!$B$28:$D$41,3,FALSE)="<=",IF(YEAR(NOW())-YEAR(VLOOKUP(L78,Atletas!$B$2:$D$101,3,FALSE))>VLOOKUP($H78,Geral!$B$28:$C$41,2,FALSE),"ý","þ"),IF(VLOOKUP($H78,Geral!$B$28:$D$41,3,FALSE)=">=",IF(YEAR(NOW())-YEAR(VLOOKUP(L78,Atletas!$B$2:$D$101,3,FALSE))<VLOOKUP($H78,Geral!$B$28:$C$41,2,FALSE),"ý","þ")))) | N78: =IF($L78="","",IF(IFERROR(VLOOKUP($L78,Atletas!$B$2:$F$101,2,FALSE),"") ="","Cadastro não encontrado. Digite os dados.",VLOOKUP($L78,Atletas!$B$2:$F$101,2,FALSE))) | O78: =G77 | P78: =D78 -> 0 | Q78: =H78 -> 0 | R78: =L78 -> 0 | S78: =E77 | T78: =F77 | U78: =A77 -> 0 | V78: =C77
I79: =IF(H79="","",IF(VLOOKUP(H79,Geral!$B$42:$D$48,3,FALSE)="<=",IF(YEAR(NOW())-YEAR(E77)>VLOOKUP(H79,Geral!$B$42:$C$48,2,FALSE),"ý","þ"),IF(VLOOKUP(H79,Geral!$B$42:$D$48,3,FALSE)=">=",IF(YEAR(NOW())-YEAR(E77)<VLOOKUP(H79,Geral!$B$42:$C$48,2,FALSE),"ý","þ")))) | K79: =IF(H79="",0,IF(OR(H79 = Geral!$A$46,H79 = Geral!$A$48),Geral!$H$15,IF(YEAR(NOW())-YEAR(E77) < 18,Geral!$I$15,Geral!$H$15))) -> 0 | M79: =IF(L79="","",IF(VLOOKUP($H79,Geral!$B$42:$D$48,3,FALSE)="<=",IF(YEAR(NOW())-YEAR(VLOOKUP(L79,Atletas!$B$2:$D$101,3,FALSE))>VLOOKUP($H79,Geral!$B$42:$C$48,2,FALSE),"ý","þ"),IF(VLOOKUP($H79,Geral!$B$42:$D$48,3,FALSE)=">=",IF(YEAR(NOW())-YEAR(VLOOKUP(L79,Atletas!$B$2:$D$101,3,FALSE))<VLOOKUP($H79,Geral!$B$42:$C$48,2,FALSE),"ý","þ")))) | N79: =IF($L79="","",IF(IFERROR(VLOOKUP($L79,Atletas!$B$2:$F$101,2,FALSE),"") ="","Cadastro não encontrado. Digite os dados.",VLOOKUP($L79,Atletas!$B$2:$F$101,2,FALSE))) | O79: =G77 | P79: =D78 -> 0 | Q79: =H79 -> 0 | R79: =L79 -> 0 | S79: =E77 | T79: =F77 | U79: =A77 -> 0 | V79: =C77
A80: =SUM(K80:K82) -> 0 | B80: 27 | C80: =IF($D81="","",IF(IFERROR(VLOOKUP($D81,Atletas!$B$2:$F$101,5,FALSE),"") ="","CLUBE",VLOOKUP($D81,Atletas!$B$2:$F$101,5,FALSE))) | E80: =IF($D81="","",IF(IFERROR(VLOOKUP($D81,Atletas!$B$2:$F$101,3,FALSE),"") ="","DD/MM/AAAA",VLOOKUP($D81,Atletas!$B$2:$F$101,3,FALSE))) | F80: =IF($D81="","",IF(IFERROR(VLOOKUP($D81,Atletas!$B$2:$F$101,4,FALSE),"") ="","Gênero",VLOOKUP($D81,Atletas!$B$2:$F$101,4,FALSE))) | G80: =IF($D81="","",IF(IFERROR(VLOOKUP($D81,Atletas!$B$2:$F$101,2,FALSE),"") ="","Cadastro não encontrado. Digite os dados.",VLOOKUP($D81,Atletas!$B$2:$F$101,2,FALSE))) | I80: =IF(H80="","",IF(VLOOKUP(H80,Geral!$B$13:$D$27,3,FALSE)="<=",IF(YEAR(NOW())-YEAR(E80)>VLOOKUP(H80,Geral!$B$13:$C$27,2,FALSE),"ý","þ"),IF(VLOOKUP(H80,Geral!$B$13:$D$27,3,FALSE)=">=",IF(YEAR(NOW())-YEAR(E80)<VLOOKUP(H80,Geral!$B$13:$C$27,2,FALSE),"ý","þ")))) | K80: =SUM(IF(J80="Sim",IF(H80="",0,IF(OR(H80 = Geral!$A$46,H80 = Geral!$A$48),Geral!$H$13,IF(YEAR(NOW())-YEAR(E80) < 18,Geral!$I$17,Geral!$H$17))),0),IF(H80="",0,IF(OR(H80 = Geral!$A$46,H80 = Geral!$A$48),Geral!$H$13,IF(YEAR(NOW())-YEAR(E80) < 18,Geral!$I$13,Geral!$H$13)))) -> 0 | O80: =G80 | P80: =D81 -> 0 | Q80: =H80 -> 0 | S80: =E80 | T80: =F80 | U80: =A80 -> 0 | V80: =C80
I81: =IF(H81="","",IF(VLOOKUP(H81,Geral!$B$28:$D$41,3,FALSE)="<=",IF(YEAR(NOW())-YEAR(E80)>VLOOKUP(H81,Geral!$B$28:$C$41,2,FALSE),"ý","þ"),IF(VLOOKUP(H81,Geral!$B$28:$D$41,3,FALSE)=">=",IF(YEAR(NOW())-YEAR(E80)<VLOOKUP(H81,Geral!$B$28:$C$41,2,FALSE),"ý","þ")))) | K81: =IF(H81="",0,IF(OR(H81 = Geral!$A$46,H81 = Geral!$A$48),Geral!$H$15,IF(YEAR(NOW())-YEAR(E80) < 18,Geral!$I$15,Geral!$H$15))) -> 0 | M81: =IF(L81="","",IF(VLOOKUP($H81,Geral!$B$28:$D$41,3,FALSE)="<=",IF(YEAR(NOW())-YEAR(VLOOKUP(L81,Atletas!$B$2:$D$101,3,FALSE))>VLOOKUP($H81,Geral!$B$28:$C$41,2,FALSE),"ý","þ"),IF(VLOOKUP($H81,Geral!$B$28:$D$41,3,FALSE)=">=",IF(YEAR(NOW())-YEAR(VLOOKUP(L81,Atletas!$B$2:$D$101,3,FALSE))<VLOOKUP($H81,Geral!$B$28:$C$41,2,FALSE),"ý","þ")))) | N81: =IF($L81="","",IF(IFERROR(VLOOKUP($L81,Atletas!$B$2:$F$101,2,FALSE),"") ="","Cadastro não encontrado. Digite os dados.",VLOOKUP($L81,Atletas!$B$2:$F$101,2,FALSE))) | O81: =G80 | P81: =D81 -> 0 | Q81: =H81 -> 0 | R81: =L81 -> 0 | S81: =E80 | T81: =F80 | U81: =A80 -> 0 | V81: =C80
I82: =IF(H82="","",IF(VLOOKUP(H82,Geral!$B$42:$D$48,3,FALSE)="<=",IF(YEAR(NOW())-YEAR(E80)>VLOOKUP(H82,Geral!$B$42:$C$48,2,FALSE),"ý","þ"),IF(VLOOKUP(H82,Geral!$B$42:$D$48,3,FALSE)=">=",IF(YEAR(NOW())-YEAR(E80)<VLOOKUP(H82,Geral!$B$42:$C$48,2,FALSE),"ý","þ")))) | K82: =IF(H82="",0,IF(OR(H82 = Geral!$A$46,H82 = Geral!$A$48),Geral!$H$15,IF(YEAR(NOW())-YEAR(E80) < 18,Geral!$I$15,Geral!$H$15))) -> 0 | M82: =IF(L82="","",IF(VLOOKUP($H82,Geral!$B$42:$D$48,3,FALSE)="<=",IF(YEAR(NOW())-YEAR(VLOOKUP(L82,Atletas!$B$2:$D$101,3,FALSE))>VLOOKUP($H82,Geral!$B$42:$C$48,2,FALSE),"ý","þ"),IF(VLOOKUP($H82,Geral!$B$42:$D$48,3,FALSE)=">=",IF(YEAR(NOW())-YEAR(VLOOKUP(L82,Atletas!$B$2:$D$101,3,FALSE))<VLOOKUP($H82,Geral!$B$42:$C$48,2,FALSE),"ý","þ")))) | N82: =IF($L82="","",IF(IFERROR(VLOOKUP($L82,Atletas!$B$2:$F$101,2,FALSE),"") ="","Cadastro não encontrado. Digite os dados.",VLOOKUP($L82,Atletas!$B$2:$F$101,2,FALSE))) | O82: =G80 | P82: =D81 -> 0 | Q82: =H82 -> 0 | R82: =L82 -> 0 | S82: =E80 | T82: =F80 | U82: =A80 -> 0 | V82: =C80
A83: =SUM(K83:K85) -> 0 | B83: 28 | C83: =IF($D84="","",IF(IFERROR(VLOOKUP($D84,Atletas!$B$2:$F$101,5,FALSE),"") ="","CLUBE",VLOOKUP($D84,Atletas!$B$2:$F$101,5,FALSE))) | E83: =IF($D84="","",IF(IFERROR(VLOOKUP($D84,Atletas!$B$2:$F$101,3,FALSE),"") ="","DD/MM/AAAA",VLOOKUP($D84,Atletas!$B$2:$F$101,3,FALSE))) | F83: =IF($D84="","",IF(IFERROR(VLOOKUP($D84,Atletas!$B$2:$F$101,4,FALSE),"") ="","Gênero",VLOOKUP($D84,Atletas!$B$2:$F$101,4,FALSE))) | G83: =IF($D84="","",IF(IFERROR(VLOOKUP($D84,Atletas!$B$2:$F$101,2,FALSE),"") ="","Cadastro não encontrado. Digite os dados.",VLOOKUP($D84,Atletas!$B$2:$F$101,2,FALSE))) | I83: =IF(H83="","",IF(VLOOKUP(H83,Geral!$B$13:$D$27,3,FALSE)="<=",IF(YEAR(NOW())-YEAR(E83)>VLOOKUP(H83,Geral!$B$13:$C$27,2,FALSE),"ý","þ"),IF(VLOOKUP(H83,Geral!$B$13:$D$27,3,FALSE)=">=",IF(YEAR(NOW())-YEAR(E83)<VLOOKUP(H83,Geral!$B$13:$C$27,2,FALSE),"ý","þ")))) | K83: =SUM(IF(J83="Sim",IF(H83="",0,IF(OR(H83 = Geral!$A$46,H83 = Geral!$A$48),Geral!$H$13,IF(YEAR(NOW())-YEAR(E83) < 18,Geral!$I$17,Geral!$H$17))),0),IF(H83="",0,IF(OR(H83 = Geral!$A$46,H83 = Geral!$A$48),Geral!$H$13,IF(YEAR(NOW())-YEAR(E83) < 18,Geral!$I$13,Geral!$H$13)))) -> 0 | O83: =G83 | P83: =D84 -> 0 | Q83: =H83 -> 0 | S83: =E83 | T83: =F83 | U83: =A83 -> 0 | V83: =C83
I84: =IF(H84="","",IF(VLOOKUP(H84,Geral!$B$28:$D$41,3,FALSE)="<=",IF(YEAR(NOW())-YEAR(E83)>VLOOKUP(H84,Geral!$B$28:$C$41,2,FALSE),"ý","þ"),IF(VLOOKUP(H84,Geral!$B$28:$D$41,3,FALSE)=">=",IF(YEAR(NOW())-YEAR(E83)<VLOOKUP(H84,Geral!$B$28:$C$41,2,FALSE),"ý","þ")))) | K84: =IF(H84="",0,IF(OR(H84 = Geral!$A$46,H84 = Geral!$A$48),Geral!$H$15,IF(YEAR(NOW())-YEAR(E83) < 18,Geral!$I$15,Geral!$H$15))) -> 0 | M84: =IF(L84="","",IF(VLOOKUP($H84,Geral!$B$28:$D$41,3,FALSE)="<=",IF(YEAR(NOW())-YEAR(VLOOKUP(L84,Atletas!$B$2:$D$101,3,FALSE))>VLOOKUP($H84,Geral!$B$28:$C$41,2,FALSE),"ý","þ"),IF(VLOOKUP($H84,Geral!$B$28:$D$41,3,FALSE)=">=",IF(YEAR(NOW())-YEAR(VLOOKUP(L84,Atletas!$B$2:$D$101,3,FALSE))<VLOOKUP($H84,Geral!$B$28:$C$41,2,FALSE),"ý","þ")))) | N84: =IF($L84="","",IF(IFERROR(VLOOKUP($L84,Atletas!$B$2:$F$101,2,FALSE),"") ="","Cadastro não encontrado. Digite os dados.",VLOOKUP($L84,Atletas!$B$2:$F$101,2,FALSE))) | O84: =G83 | P84: =D84 -> 0 | Q84: =H84 -> 0 | R84: =L84 -> 0 | S84: =E83 | T84: =F83 | U84: =A83 -> 0 | V84: =C83
I85: =IF(H85="","",IF(VLOOKUP(H85,Geral!$B$42:$D$48,3,FALSE)="<=",IF(YEAR(NOW())-YEAR(E83)>VLOOKUP(H85,Geral!$B$42:$C$48,2,FALSE),"ý","þ"),IF(VLOOKUP(H85,Geral!$B$42:$D$48,3,FALSE)=">=",IF(YEAR(NOW())-YEAR(E83)<VLOOKUP(H85,Geral!$B$42:$C$48,2,FALSE),"ý","þ")))) | K85: =IF(H85="",0,IF(OR(H85 = Geral!$A$46,H85 = Geral!$A$48),Geral!$H$15,IF(YEAR(NOW())-YEAR(E83) < 18,Geral!$I$15,Geral!$H$15))) -> 0 | M85: =IF(L85="","",IF(VLOOKUP($H85,Geral!$B$42:$D$48,3,FALSE)="<=",IF(YEAR(NOW())-YEAR(VLOOKUP(L85,Atletas!$B$2:$D$101,3,FALSE))>VLOOKUP($H85,Geral!$B$42:$C$48,2,FALSE),"ý","þ"),IF(VLOOKUP($H85,Geral!$B$42:$D$48,3,FALSE)=">=",IF(YEAR(NOW())-YEAR(VLOOKUP(L85,Atletas!$B$2:$D$101,3,FALSE))<VLOOKUP($H85,Geral!$B$42:$C$48,2,FALSE),"ý","þ")))) | N85: =IF($L85="","",IF(IFERROR(VLOOKUP($L85,Atletas!$B$2:$F$101,2,FALSE),"") ="","Cadastro não encontrado. Digite os dados.",VLOOKUP($L85,Atletas!$B$2:$F$101,2,FALSE))) | O85: =G83 | P85: =D84 -> 0 | Q85: =H85 -> 0 | R85: =L85 -> 0 | S85: =E83 | T85: =F83 | U85: =A83 -> 0 | V85: =C83
A86: =SUM(K86:K88) -> 0 | B86: 29 | C86: =IF($D87="","",IF(IFERROR(VLOOKUP($D87,Atletas!$B$2:$F$101,5,FALSE),"") ="","CLUBE",VLOOKUP($D87,Atletas!$B$2:$F$101,5,FALSE))) | E86: =IF($D87="","",IF(IFERROR(VLOOKUP($D87,Atletas!$B$2:$F$101,3,FALSE),"") ="","DD/MM/AAAA",VLOOKUP($D87,Atletas!$B$2:$F$101,3,FALSE))) | F86: =IF($D87="","",IF(IFERROR(VLOOKUP($D87,Atletas!$B$2:$F$101,4,FALSE),"") ="","Gênero",VLOOKUP($D87,Atletas!$B$2:$F$101,4,FALSE))) | G86: =IF($D87="","",IF(IFERROR(VLOOKUP($D87,Atletas!$B$2:$F$101,2,FALSE),"") ="","Cadastro não encontrado. Digite os dados.",VLOOKUP($D87,Atletas!$B$2:$F$101,2,FALSE))) | I86: =IF(H86="","",IF(VLOOKUP(H86,Geral!$B$13:$D$27,3,FALSE)="<=",IF(YEAR(NOW())-YEAR(E86)>VLOOKUP(H86,Geral!$B$13:$C$27,2,FALSE),"ý","þ"),IF(VLOOKUP(H86,Geral!$B$13:$D$27,3,FALSE)=">=",IF(YEAR(NOW())-YEAR(E86)<VLOOKUP(H86,Geral!$B$13:$C$27,2,FALSE),"ý","þ")))) | K86: =SUM(IF(J86="Sim",IF(H86="",0,IF(OR(H86 = Geral!$A$46,H86 = Geral!$A$48),Geral!$H$13,IF(YEAR(NOW())-YEAR(E86) < 18,Geral!$I$17,Geral!$H$17))),0),IF(H86="",0,IF(OR(H86 = Geral!$A$46,H86 = Geral!$A$48),Geral!$H$13,IF(YEAR(NOW())-YEAR(E86) < 18,Geral!$I$13,Geral!$H$13)))) -> 0 | O86: =G86 | P86: =D87 -> 0 | Q86: =H86 -> 0 | S86: =E86 | T86: =F86 | U86: =A86 -> 0 | V86: =C86
I87: =IF(H87="","",IF(VLOOKUP(H87,Geral!$B$28:$D$41,3,FALSE)="<=",IF(YEAR(NOW())-YEAR(E86)>VLOOKUP(H87,Geral!$B$28:$C$41,2,FALSE),"ý","þ"),IF(VLOOKUP(H87,Geral!$B$28:$D$41,3,FALSE)=">=",IF(YEAR(NOW())-YEAR(E86)<VLOOKUP(H87,Geral!$B$28:$C$41,2,FALSE),"ý","þ")))) | K87: =IF(H87="",0,IF(OR(H87 = Geral!$A$46,H87 = Geral!$A$48),Geral!$H$15,IF(YEAR(NOW())-YEAR(E86) < 18,Geral!$I$15,Geral!$H$15))) -> 0 | M87: =IF(L87="","",IF(VLOOKUP($H87,Geral!$B$28:$D$41,3,FALSE)="<=",IF(YEAR(NOW())-YEAR(VLOOKUP(L87,Atletas!$B$2:$D$101,3,FALSE))>VLOOKUP($H87,Geral!$B$28:$C$41,2,FALSE),"ý","þ"),IF(VLOOKUP($H87,Geral!$B$28:$D$41,3,FALSE)=">=",IF(YEAR(NOW())-YEAR(VLOOKUP(L87,Atletas!$B$2:$D$101,3,FALSE))<VLOOKUP($H87,Geral!$B$28:$C$41,2,FALSE),"ý","þ")))) | N87: =IF($L87="","",IF(IFERROR(VLOOKUP($L87,Atletas!$B$2:$F$101,2,FALSE),"") ="","Cadastro não encontrado. Digite os dados.",VLOOKUP($L87,Atletas!$B$2:$F$101,2,FALSE))) | O87: =G86 | P87: =D87 -> 0 | Q87: =H87 -> 0 | R87: =L87 -> 0 | S87: =E86 | T87: =F86 | U87: =A86 -> 0 | V87: =C86
I88: =IF(H88="","",IF(VLOOKUP(H88,Geral!$B$42:$D$48,3,FALSE)="<=",IF(YEAR(NOW())-YEAR(E86)>VLOOKUP(H88,Geral!$B$42:$C$48,2,FALSE),"ý","þ"),IF(VLOOKUP(H88,Geral!$B$42:$D$48,3,FALSE)=">=",IF(YEAR(NOW())-YEAR(E86)<VLOOKUP(H88,Geral!$B$42:$C$48,2,FALSE),"ý","þ")))) | K88: =IF(H88="",0,IF(OR(H88 = Geral!$A$46,H88 = Geral!$A$48),Geral!$H$15,IF(YEAR(NOW())-YEAR(E86) < 18,Geral!$I$15,Geral!$H$15))) -> 0 | M88: =IF(L88="","",IF(VLOOKUP($H88,Geral!$B$42:$D$48,3,FALSE)="<=",IF(YEAR(NOW())-YEAR(VLOOKUP(L88,Atletas!$B$2:$D$101,3,FALSE))>VLOOKUP($H88,Geral!$B$42:$C$48,2,FALSE),"ý","þ"),IF(VLOOKUP($H88,Geral!$B$42:$D$48,3,FALSE)=">=",IF(YEAR(NOW())-YEAR(VLOOKUP(L88,Atletas!$B$2:$D$101,3,FALSE))<VLOOKUP($H88,Geral!$B$42:$C$48,2,FALSE),"ý","þ")))) | N88: =IF($L88="","",IF(IFERROR(VLOOKUP($L88,Atletas!$B$2:$F$101,2,FALSE),"") ="","Cadastro não encontrado. Digite os dados.",VLOOKUP($L88,Atletas!$B$2:$F$101,2,FALSE))) | O88: =G86 | P88: =D87 -> 0 | Q88: =H88 -> 0 | R88: =L88 -> 0 | S88: =E86 | T88: =F86 | U88: =A86 -> 0 | V88: =C86
A89: =SUM(K89:K91) -> 0 | B89: 30 | C89: =IF($D90="","",IF(IFERROR(VLOOKUP($D90,Atletas!$B$2:$F$101,5,FALSE),"") ="","CLUBE",VLOOKUP($D90,Atletas!$B$2:$F$101,5,FALSE))) | E89: =IF($D90="","",IF(IFERROR(VLOOKUP($D90,Atletas!$B$2:$F$101,3,FALSE),"") ="","DD/MM/AAAA",VLOOKUP($D90,Atletas!$B$2:$F$101,3,FALSE))) | F89: =IF($D90="","",IF(IFERROR(VLOOKUP($D90,Atletas!$B$2:$F$101,4,FALSE),"") ="","Gênero",VLOOKUP($D90,Atletas!$B$2:$F$101,4,FALSE))) | G89: =IF($D90="","",IF(IFERROR(VLOOKUP($D90,Atletas!$B$2:$F$101,2,FALSE),"") ="","Cadastro não encontrado. Digite os dados.",VLOOKUP($D90,Atletas!$B$2:$F$101,2,FALSE))) | I89: =IF(H89="","",IF(VLOOKUP(H89,Geral!$B$13:$D$27,3,FALSE)="<=",IF(YEAR(NOW())-YEAR(E89)>VLOOKUP(H89,Geral!$B$13:$C$27,2,FALSE),"ý","þ"),IF(VLOOKUP(H89,Geral!$B$13:$D$27,3,FALSE)=">=",IF(YEAR(NOW())-YEAR(E89)<VLOOKUP(H89,Geral!$B$13:$C$27,2,FALSE),"ý","þ")))) | K89: =SUM(IF(J89="Sim",IF(H89="",0,IF(OR(H89 = Geral!$A$46,H89 = Geral!$A$48),Geral!$H$13,IF(YEAR(NOW())-YEAR(E89) < 18,Geral!$I$17,Geral!$H$17))),0),IF(H89="",0,IF(OR(H89 = Geral!$A$46,H89 = Geral!$A$48),Geral!$H$13,IF(YEAR(NOW())-YEAR(E89) < 18,Geral!$I$13,Geral!$H$13)))) -> 0 | O89: =G89 | P89: =D90 -> 0 | Q89: =H89 -> 0 | S89: =E89 | T89: =F89 | U89: =A89 -> 0 | V89: =C89
I90: =IF(H90="","",IF(VLOOKUP(H90,Geral!$B$28:$D$41,3,FALSE)="<=",IF(YEAR(NOW())-YEAR(E89)>VLOOKUP(H90,Geral!$B$28:$C$41,2,FALSE),"ý","þ"),IF(VLOOKUP(H90,Geral!$B$28:$D$41,3,FALSE)=">=",IF(YEAR(NOW())-YEAR(E89)<VLOOKUP(H90,Geral!$B$28:$C$41,2,FALSE),"ý","þ")))) | K90: =IF(H90="",0,IF(OR(H90 = Geral!$A$46,H90 = Geral!$A$48),Geral!$H$15,IF(YEAR(NOW())-YEAR(E89) < 18,Geral!$I$15,Geral!$H$15))) -> 0 | M90: =IF(L90="","",IF(VLOOKUP($H90,Geral!$B$28:$D$41,3,FALSE)="<=",IF(YEAR(NOW())-YEAR(VLOOKUP(L90,Atletas!$B$2:$D$101,3,FALSE))>VLOOKUP($H90,Geral!$B$28:$C$41,2,FALSE),"ý","þ"),IF(VLOOKUP($H90,Geral!$B$28:$D$41,3,FALSE)=">=",IF(YEAR(NOW())-YEAR(VLOOKUP(L90,Atletas!$B$2:$D$101,3,FALSE))<VLOOKUP($H90,Geral!$B$28:$C$41,2,FALSE),"ý","þ")))) | N90: =IF($L90="","",IF(IFERROR(VLOOKUP($L90,Atletas!$B$2:$F$101,2,FALSE),"") ="","Cadastro não encontrado. Digite os dados.",VLOOKUP($L90,Atletas!$B$2:$F$101,2,FALSE))) | O90: =G89 | P90: =D90 -> 0 | Q90: =H90 -> 0 | R90: =L90 -> 0 | S90: =E89 | T90: =F89 | U90: =A89 -> 0 | V90: =C89
I91: =IF(H91="","",IF(VLOOKUP(H91,Geral!$B$42:$D$48,3,FALSE)="<=",IF(YEAR(NOW())-YEAR(E89)>VLOOKUP(H91,Geral!$B$42:$C$48,2,FALSE),"ý","þ"),IF(VLOOKUP(H91,Geral!$B$42:$D$48,3,FALSE)=">=",IF(YEAR(NOW())-YEAR(E89)<VLOOKUP(H91,Geral!$B$42:$C$48,2,FALSE),"ý","þ")))) | K91: =IF(H91="",0,IF(OR(H91 = Geral!$A$46,H91 = Geral!$A$48),Geral!$H$15,IF(YEAR(NOW())-YEAR(E89) < 18,Geral!$I$15,Geral!$H$15))) -> 0 | M91: =IF(L91="","",IF(VLOOKUP($H91,Geral!$B$42:$D$48,3,FALSE)="<=",IF(YEAR(NOW())-YEAR(VLOOKUP(L91,Atletas!$B$2:$D$101,3,FALSE))>VLOOKUP($H91,Geral!$B$42:$C$48,2,FALSE),"ý","þ"),IF(VLOOKUP($H91,Geral!$B$42:$D$48,3,FALSE)=">=",IF(YEAR(NOW())-YEAR(VLOOKUP(L91,Atletas!$B$2:$D$101,3,FALSE))<VLOOKUP($H91,Geral!$B$42:$C$48,2,FALSE),"ý","þ")))) | N91: =IF($L91="","",IF(IFERROR(VLOOKUP($L91,Atletas!$B$2:$F$101,2,FALSE),"") ="","Cadastro não encontrado. Digite os dados.",VLOOKUP($L91,Atletas!$B$2:$F$101,2,FALSE))) | O91: =G89 | P91: =D90 -> 0 | Q91: =H91 -> 0 | R91: =L91 -> 0 | S91: =E89 | T91: =F89 | U91: =A89 -> 0 | V91: =C89
A92: =SUM(K92:K94) -> 0 | B92: 31 | C92: =IF($D93="","",IF(IFERROR(VLOOKUP($D93,Atletas!$B$2:$F$101,5,FALSE),"") ="","CLUBE",VLOOKUP($D93,Atletas!$B$2:$F$101,5,FALSE))) | E92: =IF($D93="","",IF(IFERROR(VLOOKUP($D93,Atletas!$B$2:$F$101,3,FALSE),"") ="","DD/MM/AAAA",VLOOKUP($D93,Atletas!$B$2:$F$101,3,FALSE))) | F92: =IF($D93="","",IF(IFERROR(VLOOKUP($D93,Atletas!$B$2:$F$101,4,FALSE),"") ="","Gênero",VLOOKUP($D93,Atletas!$B$2:$F$101,4,FALSE))) | G92: =IF($D93="","",IF(IFERROR(VLOOKUP($D93,Atletas!$B$2:$F$101,2,FALSE),"") ="","Cadastro não encontrado. Digite os dados.",VLOOKUP($D93,Atletas!$B$2:$F$101,2,FALSE))) | I92: =IF(H92="","",IF(VLOOKUP(H92,Geral!$B$13:$D$27,3,FALSE)="<=",IF(YEAR(NOW())-YEAR(E92)>VLOOKUP(H92,Geral!$B$13:$C$27,2,FALSE),"ý","þ"),IF(VLOOKUP(H92,Geral!$B$13:$D$27,3,FALSE)=">=",IF(YEAR(NOW())-YEAR(E92)<VLOOKUP(H92,Geral!$B$13:$C$27,2,FALSE),"ý","þ")))) | K92: =SUM(IF(J92="Sim",IF(H92="",0,IF(OR(H92 = Geral!$A$46,H92 = Geral!$A$48),Geral!$H$13,IF(YEAR(NOW())-YEAR(E92) < 18,Geral!$I$17,Geral!$H$17))),0),IF(H92="",0,IF(OR(H92 = Geral!$A$46,H92 = Geral!$A$48),Geral!$H$13,IF(YEAR(NOW())-YEAR(E92) < 18,Geral!$I$13,Geral!$H$13)))) -> 0 | O92: =G92 | P92: =D93 -> 0 | Q92: =H92 -> 0 | S92: =E92 | T92: =F92 | U92: =A92 -> 0 | V92: =C92
I93: =IF(H93="","",IF(VLOOKUP(H93,Geral!$B$28:$D$41,3,FALSE)="<=",IF(YEAR(NOW())-YEAR(E92)>VLOOKUP(H93,Geral!$B$28:$C$41,2,FALSE),"ý","þ"),IF(VLOOKUP(H93,Geral!$B$28:$D$41,3,FALSE)=">=",IF(YEAR(NOW())-YEAR(E92)<VLOOKUP(H93,Geral!$B$28:$C$41,2,FALSE),"ý","þ")))) | K93: =IF(H93="",0,IF(OR(H93 = Geral!$A$46,H93 = Geral!$A$48),Geral!$H$15,IF(YEAR(NOW())-YEAR(E92) < 18,Geral!$I$15,Geral!$H$15))) -> 0 | M93: =IF(L93="","",IF(VLOOKUP($H93,Geral!$B$28:$D$41,3,FALSE)="<=",IF(YEAR(NOW())-YEAR(VLOOKUP(L93,Atletas!$B$2:$D$101,3,FALSE))>VLOOKUP($H93,Geral!$B$28:$C$41,2,FALSE),"ý","þ"),IF(VLOOKUP($H93,Geral!$B$28:$D$41,3,FALSE)=">=",IF(YEAR(NOW())-YEAR(VLOOKUP(L93,Atletas!$B$2:$D$101,3,FALSE))<VLOOKUP($H93,Geral!$B$28:$C$41,2,FALSE),"ý","þ")))) | N93: =IF($L93="","",IF(IFERROR(VLOOKUP($L93,Atletas!$B$2:$F$101,2,FALSE),"") ="","Cadastro não encontrado. Digite os dados.",VLOOKUP($L93,Atletas!$B$2:$F$101,2,FALSE))) | O93: =G92 | P93: =D93 -> 0 | Q93: =H93 -> 0 | R93: =L93 -> 0 | S93: =E92 | T93: =F92 | U93: =A92 -> 0 | V93: =C92
I94: =IF(H94="","",IF(VLOOKUP(H94,Geral!$B$42:$D$48,3,FALSE)="<=",IF(YEAR(NOW())-YEAR(E92)>VLOOKUP(H94,Geral!$B$42:$C$48,2,FALSE),"ý","þ"),IF(VLOOKUP(H94,Geral!$B$42:$D$48,3,FALSE)=">=",IF(YEAR(NOW())-YEAR(E92)<VLOOKUP(H94,Geral!$B$42:$C$48,2,FALSE),"ý","þ")))) | K94: =IF(H94="",0,IF(OR(H94 = Geral!$A$46,H94 = Geral!$A$48),Geral!$H$15,IF(YEAR(NOW())-YEAR(E92) < 18,Geral!$I$15,Geral!$H$15))) -> 0 | M94: =IF(L94="","",IF(VLOOKUP($H94,Geral!$B$42:$D$48,3,FALSE)="<=",IF(YEAR(NOW())-YEAR(VLOOKUP(L94,Atletas!$B$2:$D$101,3,FALSE))>VLOOKUP($H94,Geral!$B$42:$C$48,2,FALSE),"ý","þ"),IF(VLOOKUP($H94,Geral!$B$42:$D$48,3,FALSE)=">=",IF(YEAR(NOW())-YEAR(VLOOKUP(L94,Atletas!$B$2:$D$101,3,FALSE))<VLOOKUP($H94,Geral!$B$42:$C$48,2,FALSE),"ý","þ")))) | N94: =IF($L94="","",IF(IFERROR(VLOOKUP($L94,Atletas!$B$2:$F$101,2,FALSE),"") ="","Cadastro não encontrado. Digite os dados.",VLOOKUP($L94,Atletas!$B$2:$F$101,2,FALSE))) | O94: =G92 | P94: =D93 -> 0 | Q94: =H94 -> 0 | R94: =L94 -> 0 | S94: =E92 | T94: =F92 | U94: =A92 -> 0 | V94: =C92
A95: =SUM(K95:K97) -> 0 | B95: 32 | C95: =IF($D96="","",IF(IFERROR(VLOOKUP($D96,Atletas!$B$2:$F$101,5,FALSE),"") ="","CLUBE",VLOOKUP($D96,Atletas!$B$2:$F$101,5,FALSE))) | E95: =IF($D96="","",IF(IFERROR(VLOOKUP($D96,Atletas!$B$2:$F$101,3,FALSE),"") ="","DD/MM/AAAA",VLOOKUP($D96,Atletas!$B$2:$F$101,3,FALSE))) | F95: =IF($D96="","",IF(IFERROR(VLOOKUP($D96,Atletas!$B$2:$F$101,4,FALSE),"") ="","Gênero",VLOOKUP($D96,Atletas!$B$2:$F$101,4,FALSE))) | G95: =IF($D96="","",IF(IFERROR(VLOOKUP($D96,Atletas!$B$2:$F$101,2,FALSE),"") ="","Cadastro não encontrado. Digite os dados.",VLOOKUP($D96,Atletas!$B$2:$F$101,2,FALSE))) | I95: =IF(H95="","",IF(VLOOKUP(H95,Geral!$B$13:$D$27,3,FALSE)="<=",IF(YEAR(NOW())-YEAR(E95)>VLOOKUP(H95,Geral!$B$13:$C$27,2,FALSE),"ý","þ"),IF(VLOOKUP(H95,Geral!$B$13:$D$27,3,FALSE)=">=",IF(YEAR(NOW())-YEAR(E95)<VLOOKUP(H95,Geral!$B$13:$C$27,2,FALSE),"ý","þ")))) | K95: =SUM(IF(J95="Sim",IF(H95="",0,IF(OR(H95 = Geral!$A$46,H95 = Geral!$A$48),Geral!$H$13,IF(YEAR(NOW())-YEAR(E95) < 18,Geral!$I$17,Geral!$H$17))),0),IF(H95="",0,IF(OR(H95 = Geral!$A$46,H95 = Geral!$A$48),Geral!$H$13,IF(YEAR(NOW())-YEAR(E95) < 18,Geral!$I$13,Geral!$H$13)))) -> 0 | O95: =G95 | P95: =D96 -> 0 | Q95: =H95 -> 0 | S95: =E95 | T95: =F95 | U95: =A95 -> 0 | V95: =C95
I96: =IF(H96="","",IF(VLOOKUP(H96,Geral!$B$28:$D$41,3,FALSE)="<=",IF(YEAR(NOW())-YEAR(E95)>VLOOKUP(H96,Geral!$B$28:$C$41,2,FALSE),"ý","þ"),IF(VLOOKUP(H96,Geral!$B$28:$D$41,3,FALSE)=">=",IF(YEAR(NOW())-YEAR(E95)<VLOOKUP(H96,Geral!$B$28:$C$41,2,FALSE),"ý","þ")))) | K96: =IF(H96="",0,IF(OR(H96 = Geral!$A$46,H96 = Geral!$A$48),Geral!$H$15,IF(YEAR(NOW())-YEAR(E95) < 18,Geral!$I$15,Geral!$H$15))) -> 0 | M96: =IF(L96="","",IF(VLOOKUP($H96,Geral!$B$28:$D$41,3,FALSE)="<=",IF(YEAR(NOW())-YEAR(VLOOKUP(L96,Atletas!$B$2:$D$101,3,FALSE))>VLOOKUP($H96,Geral!$B$28:$C$41,2,FALSE),"ý","þ"),IF(VLOOKUP($H96,Geral!$B$28:$D$41,3,FALSE)=">=",IF(YEAR(NOW())-YEAR(VLOOKUP(L96,Atletas!$B$2:$D$101,3,FALSE))<VLOOKUP($H96,Geral!$B$28:$C$41,2,FALSE),"ý","þ")))) | N96: =IF($L96="","",IF(IFERROR(VLOOKUP($L96,Atletas!$B$2:$F$101,2,FALSE),"") ="","Cadastro não encontrado. Digite os dados.",VLOOKUP($L96,Atletas!$B$2:$F$101,2,FALSE))) | O96: =G95 | P96: =D96 -> 0 | Q96: =H96 -> 0 | R96: =L96 -> 0 | S96: =E95 | T96: =F95 | U96: =A95 -> 0 | V96: =C95
I97: =IF(H97="","",IF(VLOOKUP(H97,Geral!$B$42:$D$48,3,FALSE)="<=",IF(YEAR(NOW())-YEAR(E95)>VLOOKUP(H97,Geral!$B$42:$C$48,2,FALSE),"ý","þ"),IF(VLOOKUP(H97,Geral!$B$42:$D$48,3,FALSE)=">=",IF(YEAR(NOW())-YEAR(E95)<VLOOKUP(H97,Geral!$B$42:$C$48,2,FALSE),"ý","þ")))) | K97: =IF(H97="",0,IF(OR(H97 = Geral!$A$46,H97 = Geral!$A$48),Geral!$H$15,IF(YEAR(NOW())-YEAR(E95) < 18,Geral!$I$15,Geral!$H$15))) -> 0 | M97: =IF(L97="","",IF(VLOOKUP($H97,Geral!$B$42:$D$48,3,FALSE)="<=",IF(YEAR(NOW())-YEAR(VLOOKUP(L97,Atletas!$B$2:$D$101,3,FALSE))>VLOOKUP($H97,Geral!$B$42:$C$48,2,FALSE),"ý","þ"),IF(VLOOKUP($H97,Geral!$B$42:$D$48,3,FALSE)=">=",IF(YEAR(NOW())-YEAR(VLOOKUP(L97,Atletas!$B$2:$D$101,3,FALSE))<VLOOKUP($H97,Geral!$B$42:$C$48,2,FALSE),"ý","þ")))) | N97: =IF($L97="","",IF(IFERROR(VLOOKUP($L97,Atletas!$B$2:$F$101,2,FALSE),"") ="","Cadastro não encontrado. Digite os dados.",VLOOKUP($L97,Atletas!$B$2:$F$101,2,FALSE))) | O97: =G95 | P97: =D96 -> 0 | Q97: =H97 -> 0 | R97: =L97 -> 0 | S97: =E95 | T97: =F95 | U97: =A95 -> 0 | V97: =C95
A98: =SUM(K98:K100) -> 0 | B98: 33 | C98: =IF($D99="","",IF(IFERROR(VLOOKUP($D99,Atletas!$B$2:$F$101,5,FALSE),"") ="","CLUBE",VLOOKUP($D99,Atletas!$B$2:$F$101,5,FALSE))) | E98: =IF($D99="","",IF(IFERROR(VLOOKUP($D99,Atletas!$B$2:$F$101,3,FALSE),"") ="","DD/MM/AAAA",VLOOKUP($D99,Atletas!$B$2:$F$101,3,FALSE))) | F98: =IF($D99="","",IF(IFERROR(VLOOKUP($D99,Atletas!$B$2:$F$101,4,FALSE),"") ="","Gênero",VLOOKUP($D99,Atletas!$B$2:$F$101,4,FALSE))) | G98: =IF($D99="","",IF(IFERROR(VLOOKUP($D99,Atletas!$B$2:$F$101,2,FALSE),"") ="","Cadastro não encontrado. Digite os dados.",VLOOKUP($D99,Atletas!$B$2:$F$101,2,FALSE))) | I98: =IF(H98="","",IF(VLOOKUP(H98,Geral!$B$13:$D$27,3,FALSE)="<=",IF(YEAR(NOW())-YEAR(E98)>VLOOKUP(H98,Geral!$B$13:$C$27,2,FALSE),"ý","þ"),IF(VLOOKUP(H98,Geral!$B$13:$D$27,3,FALSE)=">=",IF(YEAR(NOW())-YEAR(E98)<VLOOKUP(H98,Geral!$B$13:$C$27,2,FALSE),"ý","þ")))) | K98: =SUM(IF(J98="Sim",IF(H98="",0,IF(OR(H98 = Geral!$A$46,H98 = Geral!$A$48),Geral!$H$13,IF(YEAR(NOW())-YEAR(E98) < 18,Geral!$I$17,Geral!$H$17))),0),IF(H98="",0,IF(OR(H98 = Geral!$A$46,H98 = Geral!$A$48),Geral!$H$13,IF(YEAR(NOW())-YEAR(E98) < 18,Geral!$I$13,Geral!$H$13)))) -> 0 | O98: =G98 | P98: =D99 -> 0 | Q98: =H98 -> 0 | S98: =E98 | T98: =F98 | U98: =A98 -> 0 | V98: =C98
I99: =IF(H99="","",IF(VLOOKUP(H99,Geral!$B$28:$D$41,3,FALSE)="<=",IF(YEAR(NOW())-YEAR(E98)>VLOOKUP(H99,Geral!$B$28:$C$41,2,FALSE),"ý","þ"),IF(VLOOKUP(H99,Geral!$B$28:$D$41,3,FALSE)=">=",IF(YEAR(NOW())-YEAR(E98)<VLOOKUP(H99,Geral!$B$28:$C$41,2,FALSE),"ý","þ")))) | K99: =IF(H99="",0,IF(OR(H99 = Geral!$A$46,H99 = Geral!$A$48),Geral!$H$15,IF(YEAR(NOW())-YEAR(E98) < 18,Geral!$I$15,Geral!$H$15))) -> 0 | M99: =IF(L99="","",IF(VLOOKUP($H99,Geral!$B$28:$D$41,3,FALSE)="<=",IF(YEAR(NOW())-YEAR(VLOOKUP(L99,Atletas!$B$2:$D$101,3,FALSE))>VLOOKUP($H99,Geral!$B$28:$C$41,2,FALSE),"ý","þ"),IF(VLOOKUP($H99,Geral!$B$28:$D$41,3,FALSE)=">=",IF(YEAR(NOW())-YEAR(VLOOKUP(L99,Atletas!$B$2:$D$101,3,FALSE))<VLOOKUP($H99,Geral!$B$28:$C$41,2,FALSE),"ý","þ")))) | N99: =IF($L99="","",IF(IFERROR(VLOOKUP($L99,Atletas!$B$2:$F$101,2,FALSE),"") ="","Cadastro não encontrado. Digite os dados.",VLOOKUP($L99,Atletas!$B$2:$F$101,2,FALSE))) | O99: =G98 | P99: =D99 -> 0 | Q99: =H99 -> 0 | R99: =L99 -> 0 | S99: =E98 | T99: =F98 | U99: =A98 -> 0 | V99: =C98
I100: =IF(H100="","",IF(VLOOKUP(H100,Geral!$B$42:$D$48,3,FALSE)="<=",IF(YEAR(NOW())-YEAR(E98)>VLOOKUP(H100,Geral!$B$42:$C$48,2,FALSE),"ý","þ"),IF(VLOOKUP(H100,Geral!$B$42:$D$48,3,FALSE)=">=",IF(YEAR(NOW())-YEAR(E98)<VLOOKUP(H100,Geral!$B$42:$C$48,2,FALSE),"ý","þ")))) | K100: =IF(H100="",0,IF(OR(H100 = Geral!$A$46,H100 = Geral!$A$48),Geral!$H$15,IF(YEAR(NOW())-YEAR(E98) < 18,Geral!$I$15,Geral!$H$15))) -> 0 | M100: =IF(L100="","",IF(VLOOKUP($H100,Geral!$B$42:$D$48,3,FALSE)="<=",IF(YEAR(NOW())-YEAR(VLOOKUP(L100,Atletas!$B$2:$D$101,3,FALSE))>VLOOKUP($H100,Geral!$B$42:$C$48,2,FALSE),"ý","þ"),IF(VLOOKUP($H100,Geral!$B$42:$D$48,3,FALSE)=">=",IF(YEAR(NOW())-YEAR(VLOOKUP(L100,Atletas!$B$2:$D$101,3,FALSE))<VLOOKUP($H100,Geral!$B$42:$C$48,2,FALSE),"ý","þ")))) | N100: =IF($L100="","",IF(IFERROR(VLOOKUP($L100,Atletas!$B$2:$F$101,2,FALSE),"") ="","Cadastro não encontrado. Digite os dados.",VLOOKUP($L100,Atletas!$B$2:$F$101,2,FALSE))) | O100: =G98 | P100: =D99 -> 0 | Q100: =H100 -> 0 | R100: =L100 -> 0 | S100: =E98 | T100: =F98 | U100: =A98 -> 0 | V100: =C98
...
